
BEGIN:VCALENDAR
VERSION:2.0
PRODID:-//Beaverstown Golf Club - ECPv6.15.20//NONSGML v1.0//EN
CALSCALE:GREGORIAN
METHOD:PUBLISH
X-WR-CALNAME:Beaverstown Golf Club
X-ORIGINAL-URL:https://www.beaverstown.com
X-WR-CALDESC:Events for Beaverstown Golf Club
REFRESH-INTERVAL;VALUE=DURATION:PT1H
X-Robots-Tag:noindex
X-PUBLISHED-TTL:PT1H
BEGIN:VTIMEZONE
TZID:Europe/London
BEGIN:DAYLIGHT
TZOFFSETFROM:+0000
TZOFFSETTO:+0100
TZNAME:BST
DTSTART:20230326T010000
END:DAYLIGHT
BEGIN:STANDARD
TZOFFSETFROM:+0100
TZOFFSETTO:+0000
TZNAME:GMT
DTSTART:20231029T010000
END:STANDARD
BEGIN:DAYLIGHT
TZOFFSETFROM:+0000
TZOFFSETTO:+0100
TZNAME:BST
DTSTART:20240331T010000
END:DAYLIGHT
BEGIN:STANDARD
TZOFFSETFROM:+0100
TZOFFSETTO:+0000
TZNAME:GMT
DTSTART:20241027T010000
END:STANDARD
BEGIN:DAYLIGHT
TZOFFSETFROM:+0000
TZOFFSETTO:+0100
TZNAME:BST
DTSTART:20250330T010000
END:DAYLIGHT
BEGIN:STANDARD
TZOFFSETFROM:+0100
TZOFFSETTO:+0000
TZNAME:GMT
DTSTART:20251026T010000
END:STANDARD
END:VTIMEZONE
BEGIN:VEVENT
DTSTART;VALUE=DATE:20241019
DTEND;VALUE=DATE:20241020
DTSTAMP:20260422T034555
CREATED:20241019T163447Z
LAST-MODIFIED:20241019T163454Z
UID:28524-1729296000-1729382399@www.beaverstown.com
SUMMARY:Singles Stableford
DESCRIPTION:Date\n\nSaturday 19th of October 2024\n\n\n\n\n\n\n\n\n\n\n\n\n\n\nCompetition\n\nSingles Stableford\n\n\n\n\n\n\n\n\n\n\n\n\n\n\n\n\n\n\n\n\n\n\n\n\n\nName\n\nHandicap\nScore\n\n\n\n\n1st Div 1\n\nSean Mcdermott\n\n11\n43pts\n\n\n\n\n2nd Div 1\n\nJames O’Donnell\n\n8\n40pts\n\n\n\n\n\n\n\n\n\n\n\n\n\n\n1st Div 2\n\nDavid Jackson\n\n14\n38pts\n\n\n\n\n2nd Div 2\n\nLeonard O’Carroll\n\n18\n37pts\n\n\n\n\n\n\n\n\n\n\n\n\n\n\n1st Div 3\n\nNiall Lynch\n\n25\n44pts\n\n\n\n\n2nd Div 3\n\nNeill Wall\n\n21\n37pts\n\n\n\n\n\n\n\n\n\n\n\n\n\n\n\n\n\n\n\n\n\n\n\n\n78 played
URL:https://www.beaverstown.com/event/singles-stableford-2/
CATEGORIES:Mens Event
END:VEVENT
BEGIN:VEVENT
DTSTART;TZID=Europe/London:20241019T080000
DTEND;TZID=Europe/London:20241019T170000
DTSTAMP:20260422T034555
CREATED:20241025T115402Z
LAST-MODIFIED:20241025T115402Z
UID:28546-1729324800-1729357200@www.beaverstown.com
SUMMARY:18h singles S/F
DESCRIPTION:Prize\nScore\nName\nPlaying H’cap\n\n\n1st\n29 pts\nLisa Wogan\n28
URL:https://www.beaverstown.com/event/18h-singles-s-f-5/
CATEGORIES:Ladies-Event
END:VEVENT
END:VCALENDAR