
BEGIN:VCALENDAR
VERSION:2.0
PRODID:-//Beaverstown Golf Club - ECPv6.15.20//NONSGML v1.0//EN
CALSCALE:GREGORIAN
METHOD:PUBLISH
X-ORIGINAL-URL:https://www.beaverstown.com
X-WR-CALDESC:Events for Beaverstown Golf Club
REFRESH-INTERVAL;VALUE=DURATION:PT1H
X-Robots-Tag:noindex
X-PUBLISHED-TTL:PT1H
BEGIN:VTIMEZONE
TZID:Europe/London
BEGIN:DAYLIGHT
TZOFFSETFROM:+0000
TZOFFSETTO:+0100
TZNAME:BST
DTSTART:20230326T010000
END:DAYLIGHT
BEGIN:STANDARD
TZOFFSETFROM:+0100
TZOFFSETTO:+0000
TZNAME:GMT
DTSTART:20231029T010000
END:STANDARD
BEGIN:DAYLIGHT
TZOFFSETFROM:+0000
TZOFFSETTO:+0100
TZNAME:BST
DTSTART:20240331T010000
END:DAYLIGHT
BEGIN:STANDARD
TZOFFSETFROM:+0100
TZOFFSETTO:+0000
TZNAME:GMT
DTSTART:20241027T010000
END:STANDARD
BEGIN:DAYLIGHT
TZOFFSETFROM:+0000
TZOFFSETTO:+0100
TZNAME:BST
DTSTART:20250330T010000
END:DAYLIGHT
BEGIN:STANDARD
TZOFFSETFROM:+0100
TZOFFSETTO:+0000
TZNAME:GMT
DTSTART:20251026T010000
END:STANDARD
END:VTIMEZONE
BEGIN:VEVENT
DTSTART;VALUE=DATE:20241020
DTEND;VALUE=DATE:20241021
DTSTAMP:20260421T232248
CREATED:20241020T172354Z
LAST-MODIFIED:20241020T172936Z
UID:28529-1729382400-1729468799@www.beaverstown.com
SUMMARY:Sunday 20th Oct 2024 - 4 Ball Betterball
DESCRIPTION:Winners\n\nW Higgins\n\n9\n\n\n\n\n\n\nJ Nolan\n\n12\n\n42pts\n\n\n\n\n\n\n\n\n\n\n\n2nd\n\nJ Quinn\n\n12\n\n\n\n\n\n\nW Goslin\n\n12\n\n41pts\n\n\n\n\n\n\n\n\n\n\n\n3rd\n\nJ Fogarty\n\n9\n\n\n\n\n\n\nR McGuinness\n20\n\n40pts(B9)\n\n\n\n\n\n\n\n\n\n\n\n4th\n\nM Morris\n\n5\n\n\n\n\n\n\nP Lambe\n\n13\n\n40pts\n\n\n\n\n\n\n\n\n\n\n\n72 Played
URL:https://www.beaverstown.com/event/sunday-20th-oct-2024-4-ball-betterball/
CATEGORIES:Mens Event,Results
END:VEVENT
BEGIN:VEVENT
DTSTART;TZID=Europe/London:20241020T080000
DTEND;TZID=Europe/London:20241020T170000
DTSTAMP:20260421T232248
CREATED:20241025T115041Z
LAST-MODIFIED:20241025T115041Z
UID:28544-1729411200-1729443600@www.beaverstown.com
SUMMARY:18h singles s/f
DESCRIPTION:Prize\nScore\nName\nPlaying H’cap\n\n\n1st\n32 pts\nMary Nolan\n31\n\n\n2nd\n31 pts\nHelen Malone\n45
URL:https://www.beaverstown.com/event/18h-singles-s-f-4/
CATEGORIES:Ladies-Event
END:VEVENT
END:VCALENDAR