
BEGIN:VCALENDAR
VERSION:2.0
PRODID:-//Beaverstown Golf Club - ECPv6.15.20//NONSGML v1.0//EN
CALSCALE:GREGORIAN
METHOD:PUBLISH
X-ORIGINAL-URL:https://www.beaverstown.com
X-WR-CALDESC:Events for Beaverstown Golf Club
REFRESH-INTERVAL;VALUE=DURATION:PT1H
X-Robots-Tag:noindex
X-PUBLISHED-TTL:PT1H
BEGIN:VTIMEZONE
TZID:Europe/London
BEGIN:DAYLIGHT
TZOFFSETFROM:+0000
TZOFFSETTO:+0100
TZNAME:BST
DTSTART:20230326T010000
END:DAYLIGHT
BEGIN:STANDARD
TZOFFSETFROM:+0100
TZOFFSETTO:+0000
TZNAME:GMT
DTSTART:20231029T010000
END:STANDARD
BEGIN:DAYLIGHT
TZOFFSETFROM:+0000
TZOFFSETTO:+0100
TZNAME:BST
DTSTART:20240331T010000
END:DAYLIGHT
BEGIN:STANDARD
TZOFFSETFROM:+0100
TZOFFSETTO:+0000
TZNAME:GMT
DTSTART:20241027T010000
END:STANDARD
BEGIN:DAYLIGHT
TZOFFSETFROM:+0000
TZOFFSETTO:+0100
TZNAME:BST
DTSTART:20250330T010000
END:DAYLIGHT
BEGIN:STANDARD
TZOFFSETFROM:+0100
TZOFFSETTO:+0000
TZNAME:GMT
DTSTART:20251026T010000
END:STANDARD
END:VTIMEZONE
BEGIN:VEVENT
DTSTART;TZID=Europe/London:20241022T080000
DTEND;TZID=Europe/London:20241022T170000
DTSTAMP:20260421T111004
CREATED:20241022T182711Z
LAST-MODIFIED:20241022T182711Z
UID:28534-1729584000-1729616400@www.beaverstown.com
SUMMARY:18h singles s/f
DESCRIPTION:1st\n36 pts\nJennifer Buggle\n29\n\n\n \n \n \n \n\n\nCategory 1\n35 pts\nNiamh Duggan\n19\n\n\nCategory 2\n34 pts ocb\nNiamh NiChonghaile\n29\n\n\nCategory 3\n32 pts\nLouise Brown\n35\n\n\nCategory 4\n31 pts\nFrances Small\n46\n\n\n \n \n \n 
URL:https://www.beaverstown.com/event/18h-singles-s-f-3/
CATEGORIES:Ladies-Event
END:VEVENT
BEGIN:VEVENT
DTSTART;TZID=Europe/London:20241022T080000
DTEND;TZID=Europe/London:20241022T170000
DTSTAMP:20260421T111004
CREATED:20241022T182824Z
LAST-MODIFIED:20241022T182824Z
UID:28536-1729584000-1729616400@www.beaverstown.com
SUMMARY:9 holes singles s/f
DESCRIPTION:Prize\nScore\nName\nPlaying H’cap\n\n\n1st \n16 pts\nCora Kee\n19
URL:https://www.beaverstown.com/event/9-holes-singles-s-f/
CATEGORIES:Ladies-Event
END:VEVENT
END:VCALENDAR