
BEGIN:VCALENDAR
VERSION:2.0
PRODID:-//Beaverstown Golf Club - ECPv6.15.20//NONSGML v1.0//EN
CALSCALE:GREGORIAN
METHOD:PUBLISH
X-ORIGINAL-URL:https://www.beaverstown.com
X-WR-CALDESC:Events for Beaverstown Golf Club
REFRESH-INTERVAL;VALUE=DURATION:PT1H
X-Robots-Tag:noindex
X-PUBLISHED-TTL:PT1H
BEGIN:VTIMEZONE
TZID:Europe/London
BEGIN:DAYLIGHT
TZOFFSETFROM:+0000
TZOFFSETTO:+0100
TZNAME:BST
DTSTART:20240331T010000
END:DAYLIGHT
BEGIN:STANDARD
TZOFFSETFROM:+0100
TZOFFSETTO:+0000
TZNAME:GMT
DTSTART:20241027T010000
END:STANDARD
BEGIN:DAYLIGHT
TZOFFSETFROM:+0000
TZOFFSETTO:+0100
TZNAME:BST
DTSTART:20250330T010000
END:DAYLIGHT
BEGIN:STANDARD
TZOFFSETFROM:+0100
TZOFFSETTO:+0000
TZNAME:GMT
DTSTART:20251026T010000
END:STANDARD
BEGIN:DAYLIGHT
TZOFFSETFROM:+0000
TZOFFSETTO:+0100
TZNAME:BST
DTSTART:20260329T010000
END:DAYLIGHT
BEGIN:STANDARD
TZOFFSETFROM:+0100
TZOFFSETTO:+0000
TZNAME:GMT
DTSTART:20261025T010000
END:STANDARD
END:VTIMEZONE
BEGIN:VEVENT
DTSTART;VALUE=DATE:20250407
DTEND;VALUE=DATE:20250408
DTSTAMP:20260421T151447
CREATED:20250407T214936Z
LAST-MODIFIED:20250407T214936Z
UID:28964-1743984000-1744070399@www.beaverstown.com
SUMMARY:Mixed Open Singles Stableford
DESCRIPTION:Results Sheet\n\n\n\n\n\n\n\n\n\n\n\n\n\n\nDate :\n\nMonday 07 April\n\n\n\n\n\n\n\n\n\n\n\n\n\nCompetition :\nOpen Singles Stableford\n\n\n\n\n\n\n\n\n\n\n\n\n\n\n\n\n\n\n\n\n\n\n\n\n\n\n\n\nPlace\n\nName\n\nPlaying\nScore\n\n\n\n\n\n\n\n\n\n\n1st Div 1\n\nPhilip O’Driscoll\n\n3\n36 pts\n\n\n2nd Div 1\n\nPaul Tyrrell (V)\n\n10\n35 pts ob9 21\n\n\n\n\n\n\n\n\n\n\n1st Div 2\n\nEugene Casey\n\n19\n37 pts\n\n\n2nd Div 2\n\nFrank O’Moore\n\n15\n35 pts ob9 21\n\n\n\n\n\n\n\n\n\n\n1st Div 3\n\nMichael Farrell\n\n32\n40 pts\n\n\n2nd Div 3\n\nHarry Keegan\n\n27\n37 pts\n\n\n\n\n\n\n\n\n\n\n44 members\n\n\n\n\n\n\n7 visitors
URL:https://www.beaverstown.com/event/mixed-open-singles-stableford-2/
CATEGORIES:Joint Event
END:VEVENT
END:VCALENDAR