
BEGIN:VCALENDAR
VERSION:2.0
PRODID:-//Beaverstown Golf Club - ECPv6.15.20//NONSGML v1.0//EN
CALSCALE:GREGORIAN
METHOD:PUBLISH
X-ORIGINAL-URL:https://www.beaverstown.com
X-WR-CALDESC:Events for Beaverstown Golf Club
REFRESH-INTERVAL;VALUE=DURATION:PT1H
X-Robots-Tag:noindex
X-PUBLISHED-TTL:PT1H
BEGIN:VTIMEZONE
TZID:Europe/London
BEGIN:DAYLIGHT
TZOFFSETFROM:+0000
TZOFFSETTO:+0100
TZNAME:BST
DTSTART:20240331T010000
END:DAYLIGHT
BEGIN:STANDARD
TZOFFSETFROM:+0100
TZOFFSETTO:+0000
TZNAME:GMT
DTSTART:20241027T010000
END:STANDARD
BEGIN:DAYLIGHT
TZOFFSETFROM:+0000
TZOFFSETTO:+0100
TZNAME:BST
DTSTART:20250330T010000
END:DAYLIGHT
BEGIN:STANDARD
TZOFFSETFROM:+0100
TZOFFSETTO:+0000
TZNAME:GMT
DTSTART:20251026T010000
END:STANDARD
BEGIN:DAYLIGHT
TZOFFSETFROM:+0000
TZOFFSETTO:+0100
TZNAME:BST
DTSTART:20260329T010000
END:DAYLIGHT
BEGIN:STANDARD
TZOFFSETFROM:+0100
TZOFFSETTO:+0000
TZNAME:GMT
DTSTART:20261025T010000
END:STANDARD
END:VTIMEZONE
BEGIN:VEVENT
DTSTART;VALUE=DATE:20250505
DTEND;VALUE=DATE:20250506
DTSTAMP:20260421T160735
CREATED:20250505T185949Z
LAST-MODIFIED:20250505T185949Z
UID:29042-1746403200-1746489599@www.beaverstown.com
SUMMARY:Mixed Open Singles Stableford Yellow
DESCRIPTION:Results Sheet\n\n\n\n\n\n\n\n\n\n\n\n\n\n\nDate :\n\nMonday 05 May  2025\n\n\n\n\n\n\n\n\n\n\n\n\n\nCompetition :\nMixed Open Singles Stableford (Yellow)\n\n\n\n\n\n\n\n\n\n\n\n\n\n\n\n\n\n\n\n\n\n\n\n\n\n\n\n\n\nPlace\n\nName\n\nPlaying Hcap\nScore\n\n\n\n\n\n\n\n\n\n\n1st Div 1\n\nGraham Dunne\n\n10\n42 pts\n\n\n2nd Div 1\n\nBrian Lennon\n\n11\n33 pts ob9\n\n\n\n\n\n\n\n\n\n\n1st Div 2\n\nColm Malone\n\n14\n38 pts\n\n\n2nd Div 2\n\nKenneth Glover (V)\n\n14\n37 pts\n\n\n\n\n\n\n\n\n\n\n1st Div 3\n\nMark Brady (V)\n\n21\n36 pts\n\n\n2nd Div 3\n\nPaul Carrigg\n\n20\n34 pts ob6\n\n\n\n\n\n\n\n\n\n\n1st Div 4\n\nClifford Howe (V)\n\n34\n36 pts\n\n\n2nd Div 4\n\nDeclan Maher\n\n22\n34 pts\n\n\n\n\n\n\n\n\n\n\n\n\n\n\n\n\n\n\n82 members\n\n\n\n\n\n\n\n14 visitors\n\n\n\n\n\n\n\n10 Non returns
URL:https://www.beaverstown.com/event/mixed-open-singles-stableford-yellow-2/
CATEGORIES:Joint Event
END:VEVENT
END:VCALENDAR