
BEGIN:VCALENDAR
VERSION:2.0
PRODID:-//Beaverstown Golf Club - ECPv6.15.20//NONSGML v1.0//EN
CALSCALE:GREGORIAN
METHOD:PUBLISH
X-WR-CALNAME:Beaverstown Golf Club
X-ORIGINAL-URL:https://www.beaverstown.com
X-WR-CALDESC:Events for Beaverstown Golf Club
REFRESH-INTERVAL;VALUE=DURATION:PT1H
X-Robots-Tag:noindex
X-PUBLISHED-TTL:PT1H
BEGIN:VTIMEZONE
TZID:Europe/London
BEGIN:DAYLIGHT
TZOFFSETFROM:+0000
TZOFFSETTO:+0100
TZNAME:BST
DTSTART:20240331T010000
END:DAYLIGHT
BEGIN:STANDARD
TZOFFSETFROM:+0100
TZOFFSETTO:+0000
TZNAME:GMT
DTSTART:20241027T010000
END:STANDARD
BEGIN:DAYLIGHT
TZOFFSETFROM:+0000
TZOFFSETTO:+0100
TZNAME:BST
DTSTART:20250330T010000
END:DAYLIGHT
BEGIN:STANDARD
TZOFFSETFROM:+0100
TZOFFSETTO:+0000
TZNAME:GMT
DTSTART:20251026T010000
END:STANDARD
BEGIN:DAYLIGHT
TZOFFSETFROM:+0000
TZOFFSETTO:+0100
TZNAME:BST
DTSTART:20260329T010000
END:DAYLIGHT
BEGIN:STANDARD
TZOFFSETFROM:+0100
TZOFFSETTO:+0000
TZNAME:GMT
DTSTART:20261025T010000
END:STANDARD
END:VTIMEZONE
BEGIN:VEVENT
DTSTART;TZID=Europe/London:20250506T080000
DTEND;TZID=Europe/London:20250506T170000
DTSTAMP:20260421T151138
CREATED:20250506T165909Z
LAST-MODIFIED:20250506T165909Z
UID:29046-1746518400-1746550800@www.beaverstown.com
SUMMARY:18 Hole Singles Stableford
DESCRIPTION:Prize\nScore\nName\nPlaying H’cap\n\n\nOverall 1st\n37pts ocb\nCatherine Vaughan\n25\n\n\nDiv 1\n34 pts\nSheila Dunne\n23\n\n\nDiv 2\n37 pts ocb\nMary Murray\n27\n\n\nDiv 3\n36 pts\nTheresa Siew\n`36
URL:https://www.beaverstown.com/event/18-hole-singles-stableford-6/
CATEGORIES:Ladies-Event
END:VEVENT
BEGIN:VEVENT
DTSTART;TZID=Europe/London:20250506T080000
DTEND;TZID=Europe/London:20250506T170000
DTSTAMP:20260421T151138
CREATED:20250508T141016Z
LAST-MODIFIED:20250508T141016Z
UID:29055-1746518400-1746550800@www.beaverstown.com
SUMMARY:9 Hole Singles Stableford
DESCRIPTION:Prize\nScore\nName\nPlaying H’cap\n\n\nFirst\n18\nTeresa Hurley\n13
URL:https://www.beaverstown.com/event/9-hole-singles-stableford-4/
CATEGORIES:Ladies-Event
END:VEVENT
END:VCALENDAR