
BEGIN:VCALENDAR
VERSION:2.0
PRODID:-//Beaverstown Golf Club - ECPv6.15.20//NONSGML v1.0//EN
CALSCALE:GREGORIAN
METHOD:PUBLISH
X-WR-CALNAME:Beaverstown Golf Club
X-ORIGINAL-URL:https://www.beaverstown.com
X-WR-CALDESC:Events for Beaverstown Golf Club
REFRESH-INTERVAL;VALUE=DURATION:PT1H
X-Robots-Tag:noindex
X-PUBLISHED-TTL:PT1H
BEGIN:VTIMEZONE
TZID:Europe/London
BEGIN:DAYLIGHT
TZOFFSETFROM:+0000
TZOFFSETTO:+0100
TZNAME:BST
DTSTART:20240331T010000
END:DAYLIGHT
BEGIN:STANDARD
TZOFFSETFROM:+0100
TZOFFSETTO:+0000
TZNAME:GMT
DTSTART:20241027T010000
END:STANDARD
BEGIN:DAYLIGHT
TZOFFSETFROM:+0000
TZOFFSETTO:+0100
TZNAME:BST
DTSTART:20250330T010000
END:DAYLIGHT
BEGIN:STANDARD
TZOFFSETFROM:+0100
TZOFFSETTO:+0000
TZNAME:GMT
DTSTART:20251026T010000
END:STANDARD
BEGIN:DAYLIGHT
TZOFFSETFROM:+0000
TZOFFSETTO:+0100
TZNAME:BST
DTSTART:20260329T010000
END:DAYLIGHT
BEGIN:STANDARD
TZOFFSETFROM:+0100
TZOFFSETTO:+0000
TZNAME:GMT
DTSTART:20261025T010000
END:STANDARD
END:VTIMEZONE
BEGIN:VEVENT
DTSTART;VALUE=DATE:20250518
DTEND;VALUE=DATE:20250519
DTSTAMP:20260419T160909
CREATED:20250521T145123Z
LAST-MODIFIED:20250521T145123Z
UID:29132-1747526400-1747612799@www.beaverstown.com
SUMMARY:Singles Stableford Yellow
DESCRIPTION:Results Sheet\n\n\n\n\n\n\n\n\n\n\n\n\n\n\nDate :\n\nSunday 18 May  2025\n\n\n\n\n\n\n\n\n\n\n\n\n\nCompetition :\nSingles Stableford (Yellow)\n\n\n\n\n\n\n\n\n\n\n\n\n\n\n\n\n\n\n\n\n\n\n\n\n\n\n\n\n\nPlace\n\nName\n\nPlaying Hcap\nScore\n\n\n\n\n\n\n\n\n\n\n1st Div 1\n\nPaul Lynch\n\n12\n36 pts\n\n\n2nd Div 1\n\nPat McCormack\n\n7\n34 pts\n\n\n\n\n\n\n\n\n\n\n1st Div 2\n\nRedmond Aherne\n\n14\n39 pts ob9 18\n\n\n2nd Div 2\n\nPat Dunne\n\n13\n39 pts\n\n\n\n\n\n\n\n\n\n\n1st Div 3\n\nConor O’Donnell\n\n16\n39 pts\n\n\n2nd Div 3\n\nAlan McGuinness\n\n17\n38 pts\n\n\n\n\n\n\n\n\n\n\n1st Div 4\n\nRobert McGuinness\n\n21\n35 pts\n\n\n2nd Div 4\n\nDavid Woods\n\n32\n43 pts\n\n\n\n\n\n\n\n\n\n\n89 played\n\n\n\n\n\n\n\n\n\n\n\n\n\n\n\n2 non returns
URL:https://www.beaverstown.com/event/singles-stableford-yellow-3/
CATEGORIES:Mens Event
END:VEVENT
BEGIN:VEVENT
DTSTART;TZID=Europe/London:20250518T080000
DTEND;TZID=Europe/London:20250518T170000
DTSTAMP:20260419T160909
CREATED:20250520T164406Z
LAST-MODIFIED:20250520T164406Z
UID:29119-1747555200-1747587600@www.beaverstown.com
SUMMARY:18 Hole Stableford
DESCRIPTION:Prize\nScore\nName\nPlaying H’cap\n\n\n1st\n38pts\nEileen Meaney\n28\n\n\n2nd\n34pts\nCiara McCormack\n16
URL:https://www.beaverstown.com/event/18-hole-stableford-8/
CATEGORIES:Ladies-Event
END:VEVENT
END:VCALENDAR