
BEGIN:VCALENDAR
VERSION:2.0
PRODID:-//Beaverstown Golf Club - ECPv6.15.20//NONSGML v1.0//EN
CALSCALE:GREGORIAN
METHOD:PUBLISH
X-ORIGINAL-URL:https://www.beaverstown.com
X-WR-CALDESC:Events for Beaverstown Golf Club
REFRESH-INTERVAL;VALUE=DURATION:PT1H
X-Robots-Tag:noindex
X-PUBLISHED-TTL:PT1H
BEGIN:VTIMEZONE
TZID:Europe/London
BEGIN:DAYLIGHT
TZOFFSETFROM:+0000
TZOFFSETTO:+0100
TZNAME:BST
DTSTART:20240331T010000
END:DAYLIGHT
BEGIN:STANDARD
TZOFFSETFROM:+0100
TZOFFSETTO:+0000
TZNAME:GMT
DTSTART:20241027T010000
END:STANDARD
BEGIN:DAYLIGHT
TZOFFSETFROM:+0000
TZOFFSETTO:+0100
TZNAME:BST
DTSTART:20250330T010000
END:DAYLIGHT
BEGIN:STANDARD
TZOFFSETFROM:+0100
TZOFFSETTO:+0000
TZNAME:GMT
DTSTART:20251026T010000
END:STANDARD
BEGIN:DAYLIGHT
TZOFFSETFROM:+0000
TZOFFSETTO:+0100
TZNAME:BST
DTSTART:20260329T010000
END:DAYLIGHT
BEGIN:STANDARD
TZOFFSETFROM:+0100
TZOFFSETTO:+0000
TZNAME:GMT
DTSTART:20261025T010000
END:STANDARD
END:VTIMEZONE
BEGIN:VEVENT
DTSTART;TZID=Europe/London:20250527T080000
DTEND;TZID=Europe/London:20250527T170000
DTSTAMP:20260421T111328
CREATED:20250527T180126Z
LAST-MODIFIED:20250527T180126Z
UID:29145-1748332800-1748365200@www.beaverstown.com
SUMMARY:9 Hole Single Stableford
DESCRIPTION:  \n\n\n\nPrize\nScore\nName\nPlaying H’cap\n\n\nFirst\n20\nJennifer Buggle\n14\n\n\n \n \n \n \n\n\n \n \n \n \n\n\n \n \n \n \n\n\n \n \n \n \n\n\n \n \n \n \n\n\n8 Played\n \n \n 
URL:https://www.beaverstown.com/event/9-hole-single-stableford/
CATEGORIES:Ladies-Event
END:VEVENT
BEGIN:VEVENT
DTSTART;TZID=Europe/London:20250527T080000
DTEND;TZID=Europe/London:20250527T170000
DTSTAMP:20260421T111328
CREATED:20250529T133105Z
LAST-MODIFIED:20250529T133105Z
UID:29152-1748332800-1748365200@www.beaverstown.com
SUMMARY:May Medal
DESCRIPTION:Prize\nScore\nName\nPlaying \nHcap\n\n\nSilver Medal \nHI <20\n77\nTracy Kelly\n20\n\n\nBronze Medal \nHI >20.1\n73\nSheila Dunne\n23\n\n\n \n \n \n \n\n\n \n \n \n \n\n\n \n \n \n \n\n\n \n \n \n \n\n\n \n \n \n \n\n\n \n \n \n \n\n\n \n \n \n \n\n\n \n \n \n \n\n\n24 Played\n \n \n 
URL:https://www.beaverstown.com/event/may-medal-2/
CATEGORIES:Ladies-Event
END:VEVENT
END:VCALENDAR