
BEGIN:VCALENDAR
VERSION:2.0
PRODID:-//Beaverstown Golf Club - ECPv6.15.20//NONSGML v1.0//EN
CALSCALE:GREGORIAN
METHOD:PUBLISH
X-ORIGINAL-URL:https://www.beaverstown.com
X-WR-CALDESC:Events for Beaverstown Golf Club
REFRESH-INTERVAL;VALUE=DURATION:PT1H
X-Robots-Tag:noindex
X-PUBLISHED-TTL:PT1H
BEGIN:VTIMEZONE
TZID:Europe/London
BEGIN:DAYLIGHT
TZOFFSETFROM:+0000
TZOFFSETTO:+0100
TZNAME:BST
DTSTART:20240331T010000
END:DAYLIGHT
BEGIN:STANDARD
TZOFFSETFROM:+0100
TZOFFSETTO:+0000
TZNAME:GMT
DTSTART:20241027T010000
END:STANDARD
BEGIN:DAYLIGHT
TZOFFSETFROM:+0000
TZOFFSETTO:+0100
TZNAME:BST
DTSTART:20250330T010000
END:DAYLIGHT
BEGIN:STANDARD
TZOFFSETFROM:+0100
TZOFFSETTO:+0000
TZNAME:GMT
DTSTART:20251026T010000
END:STANDARD
BEGIN:DAYLIGHT
TZOFFSETFROM:+0000
TZOFFSETTO:+0100
TZNAME:BST
DTSTART:20260329T010000
END:DAYLIGHT
BEGIN:STANDARD
TZOFFSETFROM:+0100
TZOFFSETTO:+0000
TZNAME:GMT
DTSTART:20261025T010000
END:STANDARD
END:VTIMEZONE
BEGIN:VEVENT
DTSTART;VALUE=DATE:20250618
DTEND;VALUE=DATE:20250619
DTSTAMP:20260419T202059
CREATED:20250618T175302Z
LAST-MODIFIED:20250618T175323Z
UID:29257-1750204800-1750291199@www.beaverstown.com
SUMMARY:Wednesday 4 Man Team
DESCRIPTION:Results Sheet\n\n\n\n\n\n\n\n\n\n\n\n\n\nDate :\n18th of June 2025\n\n\n\n\n\n\n\n\n\n\n\n\nCompetition :\n4 Man Team – 3 on par 3s\n\n\n\n\n\n\n\n\n\n\n\n\n\n\n\n\n\n\nPlace\nName\nPlaying Hcap\nScore\n\n\n\n\n\n\n\n\n\n\nWinners\nPeter Gallagher\n21\n97pts\n\n\n\n\nDermot Brady\n22\n\n\n\n\n\nBrain Lennon\n10\n\n\n\n\n\nAndy Collinge\n12\n\n\n\n\n\n\n\n\n\n\n\n\n\n\n\n\n\n\n\n\n\n\n\n\n\nSecond\nDermot Molphy\n19\n96.5pts\n\n\n\n\nMartin Gillett\n16\n(-4.5)\n\n\n\n\nFrank McCabe\n17\n\n\n\n\n\nJay Nolan\n15\n\n\n\n\n\n\n\n\n\n\n\n\n\n\n\n\n\n\nThird\nAidan Smith\n22\n90pts 46b9\n\n\n\n\nTom Prendeville\n23\n\n\n\n\n\nJohn McKenna\n12\n\n\n\n\n\nEamon Coffey\n31\n\n\n\n\n\n\n\n\n\n\n\n\n\n\n\n\n\n\nBack 9\nMick Fitzpatrick\n23\n46pts 31b6\n\n\n\n\nConor Fitzpatrick\n7\n\n\n\n\n\nMax Russell\n9\n\n\n\n\n\nAlex Russell\n27\n\n\n\n\n\n\n\n\n\n\n\n88 Members\n\n\n\n\n\n\n12 Visitors
URL:https://www.beaverstown.com/event/wednesday-4-man-team-26/
CATEGORIES:Mens Event
END:VEVENT
END:VCALENDAR