
BEGIN:VCALENDAR
VERSION:2.0
PRODID:-//Beaverstown Golf Club - ECPv6.15.20//NONSGML v1.0//EN
CALSCALE:GREGORIAN
METHOD:PUBLISH
X-ORIGINAL-URL:https://www.beaverstown.com
X-WR-CALDESC:Events for Beaverstown Golf Club
REFRESH-INTERVAL;VALUE=DURATION:PT1H
X-Robots-Tag:noindex
X-PUBLISHED-TTL:PT1H
BEGIN:VTIMEZONE
TZID:Europe/London
BEGIN:DAYLIGHT
TZOFFSETFROM:+0000
TZOFFSETTO:+0100
TZNAME:BST
DTSTART:20240331T010000
END:DAYLIGHT
BEGIN:STANDARD
TZOFFSETFROM:+0100
TZOFFSETTO:+0000
TZNAME:GMT
DTSTART:20241027T010000
END:STANDARD
BEGIN:DAYLIGHT
TZOFFSETFROM:+0000
TZOFFSETTO:+0100
TZNAME:BST
DTSTART:20250330T010000
END:DAYLIGHT
BEGIN:STANDARD
TZOFFSETFROM:+0100
TZOFFSETTO:+0000
TZNAME:GMT
DTSTART:20251026T010000
END:STANDARD
BEGIN:DAYLIGHT
TZOFFSETFROM:+0000
TZOFFSETTO:+0100
TZNAME:BST
DTSTART:20260329T010000
END:DAYLIGHT
BEGIN:STANDARD
TZOFFSETFROM:+0100
TZOFFSETTO:+0000
TZNAME:GMT
DTSTART:20261025T010000
END:STANDARD
END:VTIMEZONE
BEGIN:VEVENT
DTSTART;VALUE=DATE:20250622
DTEND;VALUE=DATE:20250623
DTSTAMP:20260420T003608
CREATED:20250622T210400Z
LAST-MODIFIED:20250622T210400Z
UID:29270-1750550400-1750636799@www.beaverstown.com
SUMMARY:June Medal
DESCRIPTION:Results Sheet\n\n\n\n\n\n\n\n\n\n\n\nDate :\nSunday 22 Jun 2025\n\n\n\n\n\n\n\n\n\n\nCompetition :\nJune Medal (GOY) (CQ)\n\n\n\n\n\n\n\n\n\n\n\n\n\n\n\n\nPlace\nName\nPlaying Hcap\nScore\n\n\n\n\n\n\n\n\n1st\nNeil Holohan\n16\n68\n\n\n2nd\nRonnie Clifford\n16\n70\n\n\n3rd\nPaul Stanley\n15\n71  ob9 37\n\n\n4th\nSean McDermott\n11\n71\n\n\n\n\n\n\n\n\nGross\nSean Dowling\n0\n77   ob9 38\n\n\n\n\n\n\n\n\nDiv 1 (0-11)\nPat McCormack\n8\n72\n\n\nDiv 2 (12-15)\nWilliam Higgins\n13\n71\n\n\nDiv 3 (16-20)\nConor Herbert\n19\n72\n\n\nDiv 4 (21 +)\nEddie Byrne\n22\n71\n\n\n\n\n\n\n\n\n138 played\n\n\n\n\n\n129 cards returned
URL:https://www.beaverstown.com/event/june-medal/
CATEGORIES:Mens Event
END:VEVENT
BEGIN:VEVENT
DTSTART;TZID=Europe/London:20250622T080000
DTEND;TZID=Europe/London:20250622T170000
DTSTAMP:20260420T003608
CREATED:20250624T160033Z
LAST-MODIFIED:20250624T160033Z
UID:29275-1750579200-1750611600@www.beaverstown.com
SUMMARY:Ladies 18 hole S/F
DESCRIPTION:Prize\nScore\nName\nPlaying H’cap\n\n\n1st\n40pts\nMargaret McInerney\n28\n\n\n2nd\n39 pts\nEileen Meaney\n26\n\n\n \n \n \n \n\n\n \n \n \n \n\n\n \n \n \n \n\n\n19 Played\n \n \n 
URL:https://www.beaverstown.com/event/ladies-18-hole-s-f/
CATEGORIES:Ladies-Event
END:VEVENT
END:VCALENDAR