
BEGIN:VCALENDAR
VERSION:2.0
PRODID:-//Beaverstown Golf Club - ECPv6.15.20//NONSGML v1.0//EN
CALSCALE:GREGORIAN
METHOD:PUBLISH
X-ORIGINAL-URL:https://www.beaverstown.com
X-WR-CALDESC:Events for Beaverstown Golf Club
REFRESH-INTERVAL;VALUE=DURATION:PT1H
X-Robots-Tag:noindex
X-PUBLISHED-TTL:PT1H
BEGIN:VTIMEZONE
TZID:Europe/London
BEGIN:DAYLIGHT
TZOFFSETFROM:+0000
TZOFFSETTO:+0100
TZNAME:BST
DTSTART:20240331T010000
END:DAYLIGHT
BEGIN:STANDARD
TZOFFSETFROM:+0100
TZOFFSETTO:+0000
TZNAME:GMT
DTSTART:20241027T010000
END:STANDARD
BEGIN:DAYLIGHT
TZOFFSETFROM:+0000
TZOFFSETTO:+0100
TZNAME:BST
DTSTART:20250330T010000
END:DAYLIGHT
BEGIN:STANDARD
TZOFFSETFROM:+0100
TZOFFSETTO:+0000
TZNAME:GMT
DTSTART:20251026T010000
END:STANDARD
BEGIN:DAYLIGHT
TZOFFSETFROM:+0000
TZOFFSETTO:+0100
TZNAME:BST
DTSTART:20260329T010000
END:DAYLIGHT
BEGIN:STANDARD
TZOFFSETFROM:+0100
TZOFFSETTO:+0000
TZNAME:GMT
DTSTART:20261025T010000
END:STANDARD
END:VTIMEZONE
BEGIN:VEVENT
DTSTART;TZID=Europe/London:20250701T080000
DTEND;TZID=Europe/London:20250701T170000
DTSTAMP:20260419T202103
CREATED:20250702T103419Z
LAST-MODIFIED:20250702T103419Z
UID:29291-1751356800-1751389200@www.beaverstown.com
SUMMARY:Ladies 9 hole
DESCRIPTION:Prize\nScore\nName\nPlaying H’cap\n\n\n1st\n23\nNiamh Duggan\n9\n\n\n2nd \n19 ocb\nEilís Boylan\n16\n\n\n \n \n \n \n\n\n \n \n \n \n\n\n \n \n \n \n\n\n \n \n \n \n\n\n14 Played\n \n \n 
URL:https://www.beaverstown.com/event/ladies-9-hole/
CATEGORIES:Ladies-Event
END:VEVENT
BEGIN:VEVENT
DTSTART;TZID=Europe/London:20250701T080000
DTEND;TZID=Europe/London:20250701T170000
DTSTAMP:20260419T202103
CREATED:20250702T105807Z
LAST-MODIFIED:20250702T105807Z
UID:29293-1751356800-1751389200@www.beaverstown.com
SUMMARY:3 -Lady team Reverse Waltz
DESCRIPTION:Prize\nScore\nName\nPlaying H’cap\n\n\n1st\n82 pts\nMarian Rainey \nMags Kelly \nMary Murray\n21 \n25 \n24\n\n\n2nd\n77 pts\nGwen O’Connor \nTracy Kelly \nLiz Brett\n26 \n18 \n37\n\n\n3rd \n75\nAggie McGuinness \nTherese Carroll \nBarbara Ferguson\n31 \n34 \n25\n\n\n \n \n \n \n\n\n \n \n \n \n\n\n \n \n \n \n\n\n17 Teams played\n \n \n 
URL:https://www.beaverstown.com/event/3-lady-team-reverse-waltz/
CATEGORIES:Ladies-Event
END:VEVENT
END:VCALENDAR