
BEGIN:VCALENDAR
VERSION:2.0
PRODID:-//Beaverstown Golf Club - ECPv6.15.20//NONSGML v1.0//EN
CALSCALE:GREGORIAN
METHOD:PUBLISH
X-WR-CALNAME:Beaverstown Golf Club
X-ORIGINAL-URL:https://www.beaverstown.com
X-WR-CALDESC:Events for Beaverstown Golf Club
REFRESH-INTERVAL;VALUE=DURATION:PT1H
X-Robots-Tag:noindex
X-PUBLISHED-TTL:PT1H
BEGIN:VTIMEZONE
TZID:Europe/London
BEGIN:DAYLIGHT
TZOFFSETFROM:+0000
TZOFFSETTO:+0100
TZNAME:BST
DTSTART:20240331T010000
END:DAYLIGHT
BEGIN:STANDARD
TZOFFSETFROM:+0100
TZOFFSETTO:+0000
TZNAME:GMT
DTSTART:20241027T010000
END:STANDARD
BEGIN:DAYLIGHT
TZOFFSETFROM:+0000
TZOFFSETTO:+0100
TZNAME:BST
DTSTART:20250330T010000
END:DAYLIGHT
BEGIN:STANDARD
TZOFFSETFROM:+0100
TZOFFSETTO:+0000
TZNAME:GMT
DTSTART:20251026T010000
END:STANDARD
BEGIN:DAYLIGHT
TZOFFSETFROM:+0000
TZOFFSETTO:+0100
TZNAME:BST
DTSTART:20260329T010000
END:DAYLIGHT
BEGIN:STANDARD
TZOFFSETFROM:+0100
TZOFFSETTO:+0000
TZNAME:GMT
DTSTART:20261025T010000
END:STANDARD
END:VTIMEZONE
BEGIN:VEVENT
DTSTART;VALUE=DATE:20250707
DTEND;VALUE=DATE:20250708
DTSTAMP:20260420T042923
CREATED:20250708T080107Z
LAST-MODIFIED:20250708T080107Z
UID:29309-1751846400-1751932799@www.beaverstown.com
SUMMARY:Mixed Open Singles Stableford
DESCRIPTION:Results Sheet\n\n\n\n\n\n\n\n\n\n\n\nDate :\nMonday 07 July 2025\n\n\n\n\n\n\n\n\n\n\nCompetition :\n18 Hole Open Singles Stableford\n\n\n\n\n\n\n\n\n\n\n\n\n\n\n\nPlace\nName\nPlaying Hcap\nScore\n\n\n\n\n\n\n\n\n1st Div 1\nJohn Nolan (V)\n10\n39 pts\n\n\n2nd Div 1\nAndrew Whitty (V)\n9\n36 pts\n\n\n\n\n\n\n\n\n1st Div 2\nDenis O’Hara (V)\n21\n38 pts ob9\n\n\n2nd Div 2\nKieron Murphy\n21\n38 pts\n\n\n\n\n\n\n\n\n1st Div 3\nDavid Woods\n27\n38 pts\n\n\n2nd Div 3\nRose O’Hara (V)\n40\n36 pts\n\n\n\n\n\n\n\n\n\n\n\n\n\n\n\n\n\n\n\n\n\n\n\n\n\n\n\n\n\n\n\n\n46 members\n\n\n\n\n\n28 visitors
URL:https://www.beaverstown.com/event/mixed-open-singles-stableford-6/
CATEGORIES:Joint Event
END:VEVENT
END:VCALENDAR