
BEGIN:VCALENDAR
VERSION:2.0
PRODID:-//Beaverstown Golf Club - ECPv6.15.20//NONSGML v1.0//EN
CALSCALE:GREGORIAN
METHOD:PUBLISH
X-WR-CALNAME:Beaverstown Golf Club
X-ORIGINAL-URL:https://www.beaverstown.com
X-WR-CALDESC:Events for Beaverstown Golf Club
REFRESH-INTERVAL;VALUE=DURATION:PT1H
X-Robots-Tag:noindex
X-PUBLISHED-TTL:PT1H
BEGIN:VTIMEZONE
TZID:Europe/London
BEGIN:DAYLIGHT
TZOFFSETFROM:+0000
TZOFFSETTO:+0100
TZNAME:BST
DTSTART:20240331T010000
END:DAYLIGHT
BEGIN:STANDARD
TZOFFSETFROM:+0100
TZOFFSETTO:+0000
TZNAME:GMT
DTSTART:20241027T010000
END:STANDARD
BEGIN:DAYLIGHT
TZOFFSETFROM:+0000
TZOFFSETTO:+0100
TZNAME:BST
DTSTART:20250330T010000
END:DAYLIGHT
BEGIN:STANDARD
TZOFFSETFROM:+0100
TZOFFSETTO:+0000
TZNAME:GMT
DTSTART:20251026T010000
END:STANDARD
BEGIN:DAYLIGHT
TZOFFSETFROM:+0000
TZOFFSETTO:+0100
TZNAME:BST
DTSTART:20260329T010000
END:DAYLIGHT
BEGIN:STANDARD
TZOFFSETFROM:+0100
TZOFFSETTO:+0000
TZNAME:GMT
DTSTART:20261025T010000
END:STANDARD
END:VTIMEZONE
BEGIN:VEVENT
DTSTART;TZID=Europe/London:20250708T080000
DTEND;TZID=Europe/London:20250708T170000
DTSTAMP:20260420T042920
CREATED:20250710T155804Z
LAST-MODIFIED:20250710T155804Z
UID:29312-1751961600-1751994000@www.beaverstown.com
SUMMARY:18 Hole Stableford
DESCRIPTION:  \n\n\n\nPrize\nScore\nName\nPlaying H’cap\n\n\nDiv 1\n38 pts\nTracy Kelly\n19\n\n\nDiv 2\n46 pts\nMary Nolan\n32\n\n\nDiv 3\n41 pts\nMary Kirwan\n39\n\n\n \n \n \n \n\n\n33 Played\n \n \n 
URL:https://www.beaverstown.com/event/18-hole-stableford-10/
CATEGORIES:Ladies-Event
END:VEVENT
END:VCALENDAR