
BEGIN:VCALENDAR
VERSION:2.0
PRODID:-//Beaverstown Golf Club - ECPv6.15.20//NONSGML v1.0//EN
CALSCALE:GREGORIAN
METHOD:PUBLISH
X-ORIGINAL-URL:https://www.beaverstown.com
X-WR-CALDESC:Events for Beaverstown Golf Club
REFRESH-INTERVAL;VALUE=DURATION:PT1H
X-Robots-Tag:noindex
X-PUBLISHED-TTL:PT1H
BEGIN:VTIMEZONE
TZID:Europe/London
BEGIN:DAYLIGHT
TZOFFSETFROM:+0000
TZOFFSETTO:+0100
TZNAME:BST
DTSTART:20240331T010000
END:DAYLIGHT
BEGIN:STANDARD
TZOFFSETFROM:+0100
TZOFFSETTO:+0000
TZNAME:GMT
DTSTART:20241027T010000
END:STANDARD
BEGIN:DAYLIGHT
TZOFFSETFROM:+0000
TZOFFSETTO:+0100
TZNAME:BST
DTSTART:20250330T010000
END:DAYLIGHT
BEGIN:STANDARD
TZOFFSETFROM:+0100
TZOFFSETTO:+0000
TZNAME:GMT
DTSTART:20251026T010000
END:STANDARD
BEGIN:DAYLIGHT
TZOFFSETFROM:+0000
TZOFFSETTO:+0100
TZNAME:BST
DTSTART:20260329T010000
END:DAYLIGHT
BEGIN:STANDARD
TZOFFSETFROM:+0100
TZOFFSETTO:+0000
TZNAME:GMT
DTSTART:20261025T010000
END:STANDARD
END:VTIMEZONE
BEGIN:VEVENT
DTSTART;VALUE=DATE:20250712
DTEND;VALUE=DATE:20250713
DTSTAMP:20260420T043847
CREATED:20250713T103335Z
LAST-MODIFIED:20250713T103335Z
UID:29319-1752278400-1752364799@www.beaverstown.com
SUMMARY:Singles Stableford Yellow
DESCRIPTION:Date :\nSaturday 12 July 2025\n\n\n\n\n\n\n\n\n\n\nCompetition :\n18 Hole Singles Stableford\n\n\n\n\n\n\n\n\n\n\n\n\n\n\n\n\nPlace\nName\nPlaying Hcap\nScore\n\n\n\n\n\n\n\n\n1st Div 1\nJames O’Donnell\n6\n38 pts\n\n\n2nd Div 1\nJohn Quinn\n14\n36 pts\n\n\n\n\n\n\n\n\n1st Div 2\nJamie Hand\n22\n39 pts\n\n\n2nd Div 2\nWilliam Goslin\n16\n37 pts\n\n\n\n\n\n\n\n\n\n\n\n\n\n\n\n\n\n\n\n\n43 played
URL:https://www.beaverstown.com/event/singles-stableford-yellow-8/
CATEGORIES:Mens Event
END:VEVENT
BEGIN:VEVENT
DTSTART;TZID=Europe/London:20250712T080000
DTEND;TZID=Europe/London:20250712T170000
DTSTAMP:20260420T043847
CREATED:20250712T204422Z
LAST-MODIFIED:20250712T204422Z
UID:29317-1752307200-1752339600@www.beaverstown.com
SUMMARY:Ladies Captain' Prizes 2025
DESCRIPTION:Prize\nScore\nName\nPlaying H/C \n\n\n\nOverall Results\n\n\n1st\n80\nGwen O’Connor\n28\n\n\n2nd\n80\nLaura Fitzpatrick\n38\n\n\nGross\n47\nCiara McCormack\n15\n\n\n3rd\n74ocb\nMags Kelly\n28\n\n\n \n \n \n \n\n\nDay 1\n\n\nCategory 1\n \n \n \n\n\nWinner\n38\nTracy Kelly\n20\n\n\n \n \n \n \n\n\nCategory 2\n \n \n \n\n\nWinner\n42\nRosemary Buckley\n25\n\n\n \n \n \n \n\n\nCategory 3\n \n \n \n\n\nWinner\n41\nGeraldine Howard\n45\n\n\n \n \n \n \n\n\nFront Nine\n24\nLisa Wogan\n28\n\n\nBack Nine\n20\nMary Murray\n27\n\n\n \n \n \n\n\nNearest the Pin 7th\nMaura Kidd\n45.5cm\n\n\nNearest the Pin 17th\nRosemary Buckley\n262cm\n\n\n\n\n\n\nDay 2\n\n\nPrize\nScore\nName\nPlaying H/C \n\n\n\nCategory 1\n \n \n \n\n\nWinner\n36\nSiobhan Prout Dunleavy\n24\n\n\n \n \n \n \n\n\nCategory 2\n \n \n \n\n\nWinner\n36\nEileen Meaney\n25\n\n\n \n \n \n \n\n\nCategory 3\n \n \n \n\n\nWinner\n39\nLiz Brett\n41\n\n\n \n \n \n \n\n\nFront Nine\n23\nMairead Frew\n38\n\n\nBack Nine\n22\nEmer Manton\n32\n\n\n \n \n \n \n\n\nNearest the Pin 7th\nAdrienne Gallagher\n200cms\n\n\nNearest the Pin 17th\nSiobhan Prout Dunleavy\n176cms\n\n\n\n\n\n\n  \nLadies’ Captain’s Prize to Past Captains\n \n\n\nWinner\n66\nJoan Halpin\n35\n\n\n  \n   Ladies’ Captain’s Prize to Committee Members\n \n \n\n\nWinner\n62\nAlvy  Styles\n24\n\n\n  \nLadies’ Captain’s Prize to Five Day Members\n\n\nWinner\n42pts\nAlice O’Connor\n48\n\n\nSecond\n38pts\nNuala Free\n41\n\n\nThird\n35pts\nMary Bourke-King\n39\n\n\n \n \n \n \n\n\nLadies’ Captain’s Prize for 9 holes\n\n\nWinner\n20pts ocb\nSharon Argue\n26\n\n\nSecond\n20pts\nCaroline Comerford\n18\n\n\nThird\n19pts ocb\nClodagh Patterson\n26\n\n\n \n \n \n\n\nNearest to the Pin 7th\nBernadette Banahan\n190cms\n\n\n \n \n \n \n\n\n  \nLadies’ Captains’ Guests: 18 Hole Sweep\n \n\n\nWinner\n35\nGeraldine McCabe\n33\n\n\nSecond\n34\nRhoda McConnell\n43\n\n\n\n\n\n\n\n\n\n\n\n 
URL:https://www.beaverstown.com/event/ladies-captain-prizes-2025/
CATEGORIES:Ladies-Event
END:VEVENT
END:VCALENDAR