
BEGIN:VCALENDAR
VERSION:2.0
PRODID:-//Beaverstown Golf Club - ECPv6.15.20//NONSGML v1.0//EN
CALSCALE:GREGORIAN
METHOD:PUBLISH
X-WR-CALNAME:Beaverstown Golf Club
X-ORIGINAL-URL:https://www.beaverstown.com
X-WR-CALDESC:Events for Beaverstown Golf Club
REFRESH-INTERVAL;VALUE=DURATION:PT1H
X-Robots-Tag:noindex
X-PUBLISHED-TTL:PT1H
BEGIN:VTIMEZONE
TZID:Europe/London
BEGIN:DAYLIGHT
TZOFFSETFROM:+0000
TZOFFSETTO:+0100
TZNAME:BST
DTSTART:20240331T010000
END:DAYLIGHT
BEGIN:STANDARD
TZOFFSETFROM:+0100
TZOFFSETTO:+0000
TZNAME:GMT
DTSTART:20241027T010000
END:STANDARD
BEGIN:DAYLIGHT
TZOFFSETFROM:+0000
TZOFFSETTO:+0100
TZNAME:BST
DTSTART:20250330T010000
END:DAYLIGHT
BEGIN:STANDARD
TZOFFSETFROM:+0100
TZOFFSETTO:+0000
TZNAME:GMT
DTSTART:20251026T010000
END:STANDARD
BEGIN:DAYLIGHT
TZOFFSETFROM:+0000
TZOFFSETTO:+0100
TZNAME:BST
DTSTART:20260329T010000
END:DAYLIGHT
BEGIN:STANDARD
TZOFFSETFROM:+0100
TZOFFSETTO:+0000
TZNAME:GMT
DTSTART:20261025T010000
END:STANDARD
END:VTIMEZONE
BEGIN:VEVENT
DTSTART;VALUE=DATE:20250716
DTEND;VALUE=DATE:20250717
DTSTAMP:20260420T042916
CREATED:20250723T172355Z
LAST-MODIFIED:20250723T172355Z
UID:29353-1752624000-1752710399@www.beaverstown.com
SUMMARY:Wednesday 4 Man Team
DESCRIPTION:Results Sheet\n\n\n\n\n\n\n\n\n\n\n\n\n\nDate :\n16th of July 2025\n\n\n\n\n\n\n\n\n\n\n\n\nCompetition :\n4 Man Team – 3 on par 3s\n\n\n\n\n\n\n\n\n\n\n\n\n\n\n\n\n\n\nPlace\nName\nPlaying Hcap\nScore\n\n\n\n\n\n\n\n\n\n\nWinners\nJohn Quinn\n13\n90.5 pts\n\n\n\n\nJoe Keogh\n16\n(-0.5)\n\n\n\n\nWillie Goslin\n14\n\n\n\n\n\nPhilip Maher\n16\n\n\n\n\n\n\n\n\n\n\n\n\n\n\n\n\n\n\n\n\n\n\n\n\n\nSecond\nBarry Kirwan\n15\n90pts 47 b9\n\n\n\n\nMick Fitzpatrick\n23\n(-2)\n\n\n\n\nRonan MacDermott\n13\n\n\n\n\n\nSean McDermott\n9\n\n\n\n\n\n\n\n\n\n\n\n\n\n\n\n\n\n\nThird\nDanny Relihan\n13\n90pts\n\n\n\n\nRichard Kiely\n14\n(-3)\n\n\n\n\nEddie Byrne\n18\n\n\n\n\n\nPaul Nimmo\n8\n\n\n\n\n\n\n\n\n\n\n\n\n\n\n\n\n\n\nBack 9\nDermot Molphy\n19\n48pts\n\n\n\n\nJay Nolan\n15\n\n\n\n\n\nMartin Gillett\n15\n\n\n\n\n\nGordan O’Connor\n19\n\n\n\n\n\n\n\n\n\n\n\n106 Members\n\n\n\n\n\n\n6 Visitors
URL:https://www.beaverstown.com/event/wednesday-4-man-team-27/
CATEGORIES:Mens Event
END:VEVENT
END:VCALENDAR