
BEGIN:VCALENDAR
VERSION:2.0
PRODID:-//Beaverstown Golf Club - ECPv6.15.20//NONSGML v1.0//EN
CALSCALE:GREGORIAN
METHOD:PUBLISH
X-ORIGINAL-URL:https://www.beaverstown.com
X-WR-CALDESC:Events for Beaverstown Golf Club
REFRESH-INTERVAL;VALUE=DURATION:PT1H
X-Robots-Tag:noindex
X-PUBLISHED-TTL:PT1H
BEGIN:VTIMEZONE
TZID:Europe/London
BEGIN:DAYLIGHT
TZOFFSETFROM:+0000
TZOFFSETTO:+0100
TZNAME:BST
DTSTART:20240331T010000
END:DAYLIGHT
BEGIN:STANDARD
TZOFFSETFROM:+0100
TZOFFSETTO:+0000
TZNAME:GMT
DTSTART:20241027T010000
END:STANDARD
BEGIN:DAYLIGHT
TZOFFSETFROM:+0000
TZOFFSETTO:+0100
TZNAME:BST
DTSTART:20250330T010000
END:DAYLIGHT
BEGIN:STANDARD
TZOFFSETFROM:+0100
TZOFFSETTO:+0000
TZNAME:GMT
DTSTART:20251026T010000
END:STANDARD
BEGIN:DAYLIGHT
TZOFFSETFROM:+0000
TZOFFSETTO:+0100
TZNAME:BST
DTSTART:20260329T010000
END:DAYLIGHT
BEGIN:STANDARD
TZOFFSETFROM:+0100
TZOFFSETTO:+0000
TZNAME:GMT
DTSTART:20261025T010000
END:STANDARD
END:VTIMEZONE
BEGIN:VEVENT
DTSTART;VALUE=DATE:20250719
DTEND;VALUE=DATE:20250720
DTSTAMP:20260420T043858
CREATED:20250719T184200Z
LAST-MODIFIED:20250719T184200Z
UID:29342-1752883200-1752969599@www.beaverstown.com
SUMMARY:Captain's Prize 2025
DESCRIPTION:Results Sheet\n\n\n\n\n\n\n\n\n\n\n\nDate :\nSun 13 Jul & Sat 19 Jul 2025\n\n\n\n\n\n\n\n\n\nCompetition :\nCaptain’s Prize Rd1 & Rd2\n\n\n\n\n\n\n\n\n\n\n\n\n\n\n\n\nPlace\nName\nPlaying Hcap\nScore\n\n\n\n\n\n\n\n\n1st\nDave Kavanagh\n12\n137\n\n\n2nd\nEamonn Kelly\n24\n139\n\n\n3rd\nBrian O’Rourke\n12\n140\n\n\n4th\nJohn McKenna\n15\n140\n\n\n5th\nPat Dunne\n12\n140\n\n\n6th\nAaron Dunne\n11\n142\n\n\n\n\n\n\n\n\nGross\nAidan Rowsome\n2\n147\n\n\n\n\n\n\n\n\n1st Div 1\nPat Shields\n5\n144\n\n\n1st Div 2\nPat Hayden\n15\n143\n\n\n1st Div 3\nDavid Andrews\n22\n145\n\n\n1st Div 4\nMartin Culhane\n27\n147\n\n\n\n\n\n\n\n\nRound 1\nSean McDermott\n12\n68\n\n\nRound 2\nPaul Carrick\n9\n68\n\n\n\n\n\n\n\n\nPast Captains\nPaul Nimmo\n10\n147
URL:https://www.beaverstown.com/event/captains-prize-2025/
CATEGORIES:Mens Event
END:VEVENT
END:VCALENDAR