
BEGIN:VCALENDAR
VERSION:2.0
PRODID:-//Beaverstown Golf Club - ECPv6.15.20//NONSGML v1.0//EN
CALSCALE:GREGORIAN
METHOD:PUBLISH
X-ORIGINAL-URL:https://www.beaverstown.com
X-WR-CALDESC:Events for Beaverstown Golf Club
REFRESH-INTERVAL;VALUE=DURATION:PT1H
X-Robots-Tag:noindex
X-PUBLISHED-TTL:PT1H
BEGIN:VTIMEZONE
TZID:Europe/London
BEGIN:DAYLIGHT
TZOFFSETFROM:+0000
TZOFFSETTO:+0100
TZNAME:BST
DTSTART:20240331T010000
END:DAYLIGHT
BEGIN:STANDARD
TZOFFSETFROM:+0100
TZOFFSETTO:+0000
TZNAME:GMT
DTSTART:20241027T010000
END:STANDARD
BEGIN:DAYLIGHT
TZOFFSETFROM:+0000
TZOFFSETTO:+0100
TZNAME:BST
DTSTART:20250330T010000
END:DAYLIGHT
BEGIN:STANDARD
TZOFFSETFROM:+0100
TZOFFSETTO:+0000
TZNAME:GMT
DTSTART:20251026T010000
END:STANDARD
BEGIN:DAYLIGHT
TZOFFSETFROM:+0000
TZOFFSETTO:+0100
TZNAME:BST
DTSTART:20260329T010000
END:DAYLIGHT
BEGIN:STANDARD
TZOFFSETFROM:+0100
TZOFFSETTO:+0000
TZNAME:GMT
DTSTART:20261025T010000
END:STANDARD
END:VTIMEZONE
BEGIN:VEVENT
DTSTART;VALUE=DATE:20250720
DTEND;VALUE=DATE:20250721
DTSTAMP:20260420T043854
CREATED:20250720T183907Z
LAST-MODIFIED:20250720T183907Z
UID:29344-1752969600-1753055999@www.beaverstown.com
SUMMARY:2 Man Team 4ball betterball
DESCRIPTION:Results Sheet\n\n\n\n\n\n\n\n\n\n\n\n\n\nDate :\nSunday 20 Jul 2025\n\n\n\n\n\n\n\n\n\n\n\nCompetition :\n2 Man Team – 4ball betterball\n\n\n\n\n\n\n\n\n\n\n\n\n\n\n\n\n\nPlace\nName\n\nPlaying Hcap\nScore\n\n\n\n\n\n\n\n\n\n1st place\nJames Fleming\n\n8\n46 pts\n\n\n\nPat Hayden\n\n12\n\n\n\n\n\n\n\n\n\n\n2nd place\nPaul Nimmo\n\n7\n45 pts ob9\n\n\n\nEddie Byrne\n\n17\n\n\n\n\n\n\n\n\n\n\n\n\n\n\n\n\n\n\n\n\n\n\n\n\n36 played
URL:https://www.beaverstown.com/event/2-man-team-4ball-betterball-2/
CATEGORIES:Mens Event
END:VEVENT
BEGIN:VEVENT
DTSTART;TZID=Europe/London:20250720T080000
DTEND;TZID=Europe/London:20250720T170000
DTSTAMP:20260420T043854
CREATED:20250722T165226Z
LAST-MODIFIED:20250722T165226Z
UID:29348-1752998400-1753030800@www.beaverstown.com
SUMMARY:Ladies 18 holes S/F
DESCRIPTION:Prize\nScore\nName\nPlaying H’cap\n\n\n1st place\n39 pts\nCiara McCormack\n14\n\n\n2nd place\n36 pts\nMandy Stewart\n17\n\n\n \n \n \n \n\n\n \n \n \n \n\n\n14 Played\n \n \n 
URL:https://www.beaverstown.com/event/ladies-18-holes-s-f/
CATEGORIES:Ladies-Event
END:VEVENT
END:VCALENDAR