
BEGIN:VCALENDAR
VERSION:2.0
PRODID:-//Beaverstown Golf Club - ECPv6.15.20//NONSGML v1.0//EN
CALSCALE:GREGORIAN
METHOD:PUBLISH
X-WR-CALNAME:Beaverstown Golf Club
X-ORIGINAL-URL:https://www.beaverstown.com
X-WR-CALDESC:Events for Beaverstown Golf Club
REFRESH-INTERVAL;VALUE=DURATION:PT1H
X-Robots-Tag:noindex
X-PUBLISHED-TTL:PT1H
BEGIN:VTIMEZONE
TZID:Europe/London
BEGIN:DAYLIGHT
TZOFFSETFROM:+0000
TZOFFSETTO:+0100
TZNAME:BST
DTSTART:20240331T010000
END:DAYLIGHT
BEGIN:STANDARD
TZOFFSETFROM:+0100
TZOFFSETTO:+0000
TZNAME:GMT
DTSTART:20241027T010000
END:STANDARD
BEGIN:DAYLIGHT
TZOFFSETFROM:+0000
TZOFFSETTO:+0100
TZNAME:BST
DTSTART:20250330T010000
END:DAYLIGHT
BEGIN:STANDARD
TZOFFSETFROM:+0100
TZOFFSETTO:+0000
TZNAME:GMT
DTSTART:20251026T010000
END:STANDARD
BEGIN:DAYLIGHT
TZOFFSETFROM:+0000
TZOFFSETTO:+0100
TZNAME:BST
DTSTART:20260329T010000
END:DAYLIGHT
BEGIN:STANDARD
TZOFFSETFROM:+0100
TZOFFSETTO:+0000
TZNAME:GMT
DTSTART:20261025T010000
END:STANDARD
END:VTIMEZONE
BEGIN:VEVENT
DTSTART;VALUE=DATE:20250726
DTEND;VALUE=DATE:20250727
DTSTAMP:20260420T043328
CREATED:20250727T090428Z
LAST-MODIFIED:20250727T090428Z
UID:29359-1753488000-1753574399@www.beaverstown.com
SUMMARY:Singles Stableford Yellow
DESCRIPTION:Results Sheet\n\n\n\n\n\n\n\n\n\n\n\nDate :\nSaturday 26 July 2025\n\n\n\n\n\n\n\n\n\n\nCompetition :\n18 Hole Singles Stableford\n\n\n\n\n\n\n\n\n\n\n\n\n\n\n\n\nPlace\nName\nPlaying Hcap\nScore\n\n\n\n\n\n\n\n\n1st Div 1\nRedmond Aherne\n12\n37 pts ob9\n\n\n2nd Div 1\nJohn Darroch\n12\n37 pts\n\n\n\n\n\n\n\n\n1st Div 2\nJimmy Deneher\n14\n39 pts\n\n\n2nd Div 2\nPat Hayden\n13\n37 pts\n\n\n\n\n\n\n\n\n1st Div 3\nMichael Sands\n18\n38 pts\n\n\n2nd Div 3\nRaymund Cunningham\n18\n37 pts\n\n\n\n\n\n\n\n\n\n\n\n\n\n\n\n\n\n\n\n\n68 played
URL:https://www.beaverstown.com/event/singles-stableford-yellow-9/
CATEGORIES:Mens Event
END:VEVENT
BEGIN:VEVENT
DTSTART;TZID=Europe/London:20250726T080000
DTEND;TZID=Europe/London:20250726T170000
DTSTAMP:20260420T043328
CREATED:20250729T175040Z
LAST-MODIFIED:20250729T175040Z
UID:29373-1753516800-1753549200@www.beaverstown.com
SUMMARY:Ladies 18 hole S/F
DESCRIPTION:Prize\nScore\nName\nPlaying \nHcap\n\n\n1st Prize\n35\nMaura Kidd\n26\n\n\n \n \n \n \n\n\n \n \n \n \n\n\n \n \n \n \n\n\n \n \n \n \n\n\n \n \n \n \n\n\n \n \n \n \n\n\n \n \n \n \n\n\n4 Played\n \n \n 
URL:https://www.beaverstown.com/event/ladies-18-hole-s-f-2/
CATEGORIES:Ladies-Event
END:VEVENT
END:VCALENDAR