
BEGIN:VCALENDAR
VERSION:2.0
PRODID:-//Beaverstown Golf Club - ECPv6.15.20//NONSGML v1.0//EN
CALSCALE:GREGORIAN
METHOD:PUBLISH
X-WR-CALNAME:Beaverstown Golf Club
X-ORIGINAL-URL:https://www.beaverstown.com
X-WR-CALDESC:Events for Beaverstown Golf Club
REFRESH-INTERVAL;VALUE=DURATION:PT1H
X-Robots-Tag:noindex
X-PUBLISHED-TTL:PT1H
BEGIN:VTIMEZONE
TZID:Europe/London
BEGIN:DAYLIGHT
TZOFFSETFROM:+0000
TZOFFSETTO:+0100
TZNAME:BST
DTSTART:20240331T010000
END:DAYLIGHT
BEGIN:STANDARD
TZOFFSETFROM:+0100
TZOFFSETTO:+0000
TZNAME:GMT
DTSTART:20241027T010000
END:STANDARD
BEGIN:DAYLIGHT
TZOFFSETFROM:+0000
TZOFFSETTO:+0100
TZNAME:BST
DTSTART:20250330T010000
END:DAYLIGHT
BEGIN:STANDARD
TZOFFSETFROM:+0100
TZOFFSETTO:+0000
TZNAME:GMT
DTSTART:20251026T010000
END:STANDARD
BEGIN:DAYLIGHT
TZOFFSETFROM:+0000
TZOFFSETTO:+0100
TZNAME:BST
DTSTART:20260329T010000
END:DAYLIGHT
BEGIN:STANDARD
TZOFFSETFROM:+0100
TZOFFSETTO:+0000
TZNAME:GMT
DTSTART:20261025T010000
END:STANDARD
END:VTIMEZONE
BEGIN:VEVENT
DTSTART;VALUE=DATE:20250806
DTEND;VALUE=DATE:20250807
DTSTAMP:20260420T083744
CREATED:20250807T133645Z
LAST-MODIFIED:20250815T114021Z
UID:29401-1754438400-1754524799@www.beaverstown.com
SUMMARY:Wednesday Aug 6th - 4 Man Team - 3 to score on Par 5's
DESCRIPTION:Place\nName\nPlaying Hcap\nScore\n\n\n\n\n\n\n\n\nWinners\nPaul O’Driscoll (-0.5)\n16\n99pts\n\n\n\nDermot Molphy (-1.0)\n19\n(101-2)\n\n\n\nFrank McCabe (-0.5)\n16\n\n\n\n\nPhilip O’Driscoll\n5\n\n\n\n\n\n\n\n\n\nSecond\nJim Bradshaw (-1.0)\n12\n95pts (B9)\n\n\n\nMichael Sweeney (-1.0)\n15\n(99-4)\n\n\n\nThomas Dwyer (-1.0)\n18\n\n\n\n\nPatrick Grehan (-1.0)\n19\n\n\n\n\n\n\n\n\n\nThird\nJohn Bohan\n13\n95pts\n\n\n\nGerry O’Connor (-1.0)\n18\n(97-2)\n\n\n\nHarry Keegan (-1.0)\n24\n\n\n\n\nRonan MacDermott\n13\n\n\n\n\n\n\n\n\n\nBack 9\nPeter Gallagher (-1.0)\n22\n49pts\n\n\n\nBrian Lennon\n10\n(B9:51-2)\n\n\n\nAndy Collinge\n13\n\n\n\n\nDermot Brady\n23\n\n\n\n\n\n\n\n\n\n124 played
URL:https://www.beaverstown.com/event/wednesday-aug-6th-4-man-team-3-to-score-on-par-5s/
CATEGORIES:Mens Event,Results
END:VEVENT
END:VCALENDAR