
BEGIN:VCALENDAR
VERSION:2.0
PRODID:-//Beaverstown Golf Club - ECPv6.15.20//NONSGML v1.0//EN
CALSCALE:GREGORIAN
METHOD:PUBLISH
X-WR-CALNAME:Beaverstown Golf Club
X-ORIGINAL-URL:https://www.beaverstown.com
X-WR-CALDESC:Events for Beaverstown Golf Club
REFRESH-INTERVAL;VALUE=DURATION:PT1H
X-Robots-Tag:noindex
X-PUBLISHED-TTL:PT1H
BEGIN:VTIMEZONE
TZID:Europe/London
BEGIN:DAYLIGHT
TZOFFSETFROM:+0000
TZOFFSETTO:+0100
TZNAME:BST
DTSTART:20240331T010000
END:DAYLIGHT
BEGIN:STANDARD
TZOFFSETFROM:+0100
TZOFFSETTO:+0000
TZNAME:GMT
DTSTART:20241027T010000
END:STANDARD
BEGIN:DAYLIGHT
TZOFFSETFROM:+0000
TZOFFSETTO:+0100
TZNAME:BST
DTSTART:20250330T010000
END:DAYLIGHT
BEGIN:STANDARD
TZOFFSETFROM:+0100
TZOFFSETTO:+0000
TZNAME:GMT
DTSTART:20251026T010000
END:STANDARD
BEGIN:DAYLIGHT
TZOFFSETFROM:+0000
TZOFFSETTO:+0100
TZNAME:BST
DTSTART:20260329T010000
END:DAYLIGHT
BEGIN:STANDARD
TZOFFSETFROM:+0100
TZOFFSETTO:+0000
TZNAME:GMT
DTSTART:20261025T010000
END:STANDARD
END:VTIMEZONE
BEGIN:VEVENT
DTSTART;VALUE=DATE:20250809
DTEND;VALUE=DATE:20250810
DTSTAMP:20260420T084100
CREATED:20250810T125548Z
LAST-MODIFIED:20250811T124532Z
UID:29403-1754697600-1754783999@www.beaverstown.com
SUMMARY:Singles V Par
DESCRIPTION:Date :\nSaturday 09 August\n\n\n\n\n\n\n\n\n\n\n\nCompetition :\n18 Hole Singles V Par\nRevised\n\n\n\n\n\n\n\n\n\n\n\n\n\n\n\n\n\nPlace\nName\n\nPlaying Hcap\nScore\n\n\n\n\n\n\n\n\n\nDiv 1 1st\nLuke Murphy\n\n11\n1 up\n\n\nDiv 1 2nd\nJoe Egan\n\n10\n1 down  ob9\n\n\n\n\n\n\n\n\n\nDiv 2 1st\nJohn KK Nolan\n\n13\n3 up\n\n\nDiv 2 2nd\nRaymund Cunningham\n\n18\n2 up  ob9\n\n\n\n\n\n\n\n\n\nDiv 3 1st\nDavid Andrews\n\n19\n3 up\n\n\nDiv 3 2nd\nDonal O’Riordan\n\n24\n1 up\n\n\n\n\n\n\n\n\n\n\n\n\n\n\n\n\n\n\n\n\n\n\n\n80 played
URL:https://www.beaverstown.com/event/singles-v-par-5/
CATEGORIES:Mens Event
END:VEVENT
END:VCALENDAR