
BEGIN:VCALENDAR
VERSION:2.0
PRODID:-//Beaverstown Golf Club - ECPv6.15.20//NONSGML v1.0//EN
CALSCALE:GREGORIAN
METHOD:PUBLISH
X-WR-CALNAME:Beaverstown Golf Club
X-ORIGINAL-URL:https://www.beaverstown.com
X-WR-CALDESC:Events for Beaverstown Golf Club
REFRESH-INTERVAL;VALUE=DURATION:PT1H
X-Robots-Tag:noindex
X-PUBLISHED-TTL:PT1H
BEGIN:VTIMEZONE
TZID:Europe/London
BEGIN:DAYLIGHT
TZOFFSETFROM:+0000
TZOFFSETTO:+0100
TZNAME:BST
DTSTART:20240331T010000
END:DAYLIGHT
BEGIN:STANDARD
TZOFFSETFROM:+0100
TZOFFSETTO:+0000
TZNAME:GMT
DTSTART:20241027T010000
END:STANDARD
BEGIN:DAYLIGHT
TZOFFSETFROM:+0000
TZOFFSETTO:+0100
TZNAME:BST
DTSTART:20250330T010000
END:DAYLIGHT
BEGIN:STANDARD
TZOFFSETFROM:+0100
TZOFFSETTO:+0000
TZNAME:GMT
DTSTART:20251026T010000
END:STANDARD
BEGIN:DAYLIGHT
TZOFFSETFROM:+0000
TZOFFSETTO:+0100
TZNAME:BST
DTSTART:20260329T010000
END:DAYLIGHT
BEGIN:STANDARD
TZOFFSETFROM:+0100
TZOFFSETTO:+0000
TZNAME:GMT
DTSTART:20261025T010000
END:STANDARD
END:VTIMEZONE
BEGIN:VEVENT
DTSTART;VALUE=DATE:20250811
DTEND;VALUE=DATE:20250812
DTSTAMP:20260420T084014
CREATED:20250811T180404Z
LAST-MODIFIED:20250811T180404Z
UID:29425-1754870400-1754956799@www.beaverstown.com
SUMMARY:Mixed Open Singles Stableford
DESCRIPTION:Date :\nMonday 11 August\n\n\n\n\n\n\n\n\n\n\nCompetition :\n18 Hole Open Singles Stableford\n\n\n\n\n\n\n\n\n\n\n\n\n\n\n\nPlace\nName\nPlaying Hcap\nScore\n\n\n\n\n\n\n\n\n1st Div 1\nJimmy Deneher\n13\n42pts\n\n\n2nd Div 1\nKeith Lawless (V)\n7\n41pts\n\n\n3rd Div 1\nAndrew Lawless (V)\n12\n40pts\n\n\n\n\n\n\n\n\n1st Div 2\nFrank McCabe\n17\n42pts\n\n\n2nd Div 2\nDavid Williamson (V)\n27\n40pts\n\n\n3rd Div 2\nPaul Neville\n27\n37pts ob9\n\n\n\n\n\n\n\n\n\n\n\n\n\n\n39 Members\n\n\n\n\n\n11 Visitors
URL:https://www.beaverstown.com/event/mixed-open-singles-stableford-8/
CATEGORIES:Joint Event
END:VEVENT
END:VCALENDAR