
BEGIN:VCALENDAR
VERSION:2.0
PRODID:-//Beaverstown Golf Club - ECPv6.15.20//NONSGML v1.0//EN
CALSCALE:GREGORIAN
METHOD:PUBLISH
X-WR-CALNAME:Beaverstown Golf Club
X-ORIGINAL-URL:https://www.beaverstown.com
X-WR-CALDESC:Events for Beaverstown Golf Club
REFRESH-INTERVAL;VALUE=DURATION:PT1H
X-Robots-Tag:noindex
X-PUBLISHED-TTL:PT1H
BEGIN:VTIMEZONE
TZID:Europe/London
BEGIN:DAYLIGHT
TZOFFSETFROM:+0000
TZOFFSETTO:+0100
TZNAME:BST
DTSTART:20240331T010000
END:DAYLIGHT
BEGIN:STANDARD
TZOFFSETFROM:+0100
TZOFFSETTO:+0000
TZNAME:GMT
DTSTART:20241027T010000
END:STANDARD
BEGIN:DAYLIGHT
TZOFFSETFROM:+0000
TZOFFSETTO:+0100
TZNAME:BST
DTSTART:20250330T010000
END:DAYLIGHT
BEGIN:STANDARD
TZOFFSETFROM:+0100
TZOFFSETTO:+0000
TZNAME:GMT
DTSTART:20251026T010000
END:STANDARD
BEGIN:DAYLIGHT
TZOFFSETFROM:+0000
TZOFFSETTO:+0100
TZNAME:BST
DTSTART:20260329T010000
END:DAYLIGHT
BEGIN:STANDARD
TZOFFSETFROM:+0100
TZOFFSETTO:+0000
TZNAME:GMT
DTSTART:20261025T010000
END:STANDARD
END:VTIMEZONE
BEGIN:VEVENT
DTSTART;TZID=Europe/London:20250812T080000
DTEND;TZID=Europe/London:20250812T170000
DTSTAMP:20260420T084016
CREATED:20250814T090904Z
LAST-MODIFIED:20250814T090904Z
UID:29431-1754985600-1755018000@www.beaverstown.com
SUMMARY:Ladies 18 hole Single Stableford
DESCRIPTION:Prize\nScore\nName\nPlaying \nH’cap\n\n\nOverall 1st Prize\n45\nSusan Barber\n35\n\n\nOverall 2nd Prize\n40\nLiz Brett\n39\n\n\n \n \n \n \n\n\nCategory 1\n39\nSheila Dunne\n24\n\n\nCategory 2\n38 (ocb)\nRose Daly\n31\n\n\nCategory 3\n37\nMargaret Neville\n49\n\n\n \n \n \n \n\n\n \n \n \n \n\n\n47 Played\n \n \n 
URL:https://www.beaverstown.com/event/ladies-18-hole-single-stableford/
CATEGORIES:Ladies-Event
END:VEVENT
BEGIN:VEVENT
DTSTART;TZID=Europe/London:20250812T080000
DTEND;TZID=Europe/London:20250812T170000
DTSTAMP:20260420T084016
CREATED:20250814T092351Z
LAST-MODIFIED:20250814T092351Z
UID:29433-1754985600-1755018000@www.beaverstown.com
SUMMARY:Ladies 9 Hole Singles Stableford
DESCRIPTION:Prize\nScore\nName\nPlaying H’cap\n\n\n1st \n26\nLinda Jones Crowley\n29\n\n\n2nd \n22\nKatie Browne\n7\n\n\n \n \n \n \n\n\n \n \n \n \n\n\n \n \n \n \n\n\n \n \n \n \n\n\n 14 Played\n \n \n 
URL:https://www.beaverstown.com/event/ladies-9-hole-singles-stableford/
CATEGORIES:Ladies-Event
END:VEVENT
END:VCALENDAR