
BEGIN:VCALENDAR
VERSION:2.0
PRODID:-//Beaverstown Golf Club - ECPv6.15.20//NONSGML v1.0//EN
CALSCALE:GREGORIAN
METHOD:PUBLISH
X-WR-CALNAME:Beaverstown Golf Club
X-ORIGINAL-URL:https://www.beaverstown.com
X-WR-CALDESC:Events for Beaverstown Golf Club
REFRESH-INTERVAL;VALUE=DURATION:PT1H
X-Robots-Tag:noindex
X-PUBLISHED-TTL:PT1H
BEGIN:VTIMEZONE
TZID:Europe/London
BEGIN:DAYLIGHT
TZOFFSETFROM:+0000
TZOFFSETTO:+0100
TZNAME:BST
DTSTART:20240331T010000
END:DAYLIGHT
BEGIN:STANDARD
TZOFFSETFROM:+0100
TZOFFSETTO:+0000
TZNAME:GMT
DTSTART:20241027T010000
END:STANDARD
BEGIN:DAYLIGHT
TZOFFSETFROM:+0000
TZOFFSETTO:+0100
TZNAME:BST
DTSTART:20250330T010000
END:DAYLIGHT
BEGIN:STANDARD
TZOFFSETFROM:+0100
TZOFFSETTO:+0000
TZNAME:GMT
DTSTART:20251026T010000
END:STANDARD
BEGIN:DAYLIGHT
TZOFFSETFROM:+0000
TZOFFSETTO:+0100
TZNAME:BST
DTSTART:20260329T010000
END:DAYLIGHT
BEGIN:STANDARD
TZOFFSETFROM:+0100
TZOFFSETTO:+0000
TZNAME:GMT
DTSTART:20261025T010000
END:STANDARD
END:VTIMEZONE
BEGIN:VEVENT
DTSTART;VALUE=DATE:20250816
DTEND;VALUE=DATE:20250817
DTSTAMP:20260420T083843
CREATED:20250816T193211Z
LAST-MODIFIED:20250816T193211Z
UID:29443-1755302400-1755388799@www.beaverstown.com
SUMMARY:Singles Stableford Yellow
DESCRIPTION:Date :\nSaturday 16 August 2025\n\n\n\n\n\n\n\n\n\n\nCompetition :\n18 Hole Singles Stableford\n\n\n\n\n\n\n\n\n\n\n\n\n\n\n\n\nPlace\nName\nPlaying Hcap\nScore\n\n\n\n\n\n\n\n\n1st Div 1\nJohn Grealy\n5\n39pts ob9\n\n\n2nd Div 1\nSean McDermott\n10\n39pts\n\n\n\n\n\n\n\n\n1st Div 2\nDavid Frew\n20\n42pts\n\n\n2nd Div 2\nDeclan Maher\n20\n41pts\n\n\n\n\n\n\n\n\n1st Div 3\nDavid Gorman\n22\n42pts\n\n\n2nd Div 3\nPeter Gallagher\n23\n36pts  ob9\n\n\n\n\n\n\n\n\n\n\n\n\n\n\n\n\n\n\n\n\n70 played
URL:https://www.beaverstown.com/event/singles-stableford-yellow-11/
CATEGORIES:Mens Event
END:VEVENT
BEGIN:VEVENT
DTSTART;TZID=Europe/London:20250816T080000
DTEND;TZID=Europe/London:20250816T170000
DTSTAMP:20260420T083843
CREATED:20250817T103338Z
LAST-MODIFIED:20250817T103636Z
UID:29445-1755331200-1755363600@www.beaverstown.com
SUMMARY:Ladies Single Stableford
DESCRIPTION:Prize\nScore\nName\nPlaying \nHcap\n\n\n1st Prize\n39 (ocb)\nAdele Campbell\n28\n\n\n\n\n\n\n\n\n\n\n\n\n\n\n\n\n\n\n\n\n\n\n\n\n\n\n\n\n\n\n\n\n\n\n\n\n\n\n\n\n\n\n\n\n8 Played
URL:https://www.beaverstown.com/event/ladies-single-stableford-2/
CATEGORIES:Ladies-Event
END:VEVENT
END:VCALENDAR