
BEGIN:VCALENDAR
VERSION:2.0
PRODID:-//Beaverstown Golf Club - ECPv6.15.20//NONSGML v1.0//EN
CALSCALE:GREGORIAN
METHOD:PUBLISH
X-WR-CALNAME:Beaverstown Golf Club
X-ORIGINAL-URL:https://www.beaverstown.com
X-WR-CALDESC:Events for Beaverstown Golf Club
REFRESH-INTERVAL;VALUE=DURATION:PT1H
X-Robots-Tag:noindex
X-PUBLISHED-TTL:PT1H
BEGIN:VTIMEZONE
TZID:Europe/London
BEGIN:DAYLIGHT
TZOFFSETFROM:+0000
TZOFFSETTO:+0100
TZNAME:BST
DTSTART:20240331T010000
END:DAYLIGHT
BEGIN:STANDARD
TZOFFSETFROM:+0100
TZOFFSETTO:+0000
TZNAME:GMT
DTSTART:20241027T010000
END:STANDARD
BEGIN:DAYLIGHT
TZOFFSETFROM:+0000
TZOFFSETTO:+0100
TZNAME:BST
DTSTART:20250330T010000
END:DAYLIGHT
BEGIN:STANDARD
TZOFFSETFROM:+0100
TZOFFSETTO:+0000
TZNAME:GMT
DTSTART:20251026T010000
END:STANDARD
BEGIN:DAYLIGHT
TZOFFSETFROM:+0000
TZOFFSETTO:+0100
TZNAME:BST
DTSTART:20260329T010000
END:DAYLIGHT
BEGIN:STANDARD
TZOFFSETFROM:+0100
TZOFFSETTO:+0000
TZNAME:GMT
DTSTART:20261025T010000
END:STANDARD
END:VTIMEZONE
BEGIN:VEVENT
DTSTART;VALUE=DATE:20250817
DTEND;VALUE=DATE:20250818
DTSTAMP:20260420T083744
CREATED:20250818T113539Z
LAST-MODIFIED:20250818T113539Z
UID:29448-1755388800-1755475199@www.beaverstown.com
SUMMARY:August Medal
DESCRIPTION:Results Sheet\n\n\n\n\n\n\n\n\n\n\n\nDate :\nSunday 17 August 2025\n\n\n\n\n\n\n\n\n\n\nCompetition :\nAugust Medal (GOY)\n\n\n\n\n\n\n\n\n\n\n\n\n\n\n\n\nPlace\nName\nPlaying Hcap\nScore\n\n\n\n\n\n\n\n\n1st\nPaul Nimmo\n9\n68 ob9\n\n\n2nd\nPat McCormack\n8\n68\n\n\n3rd\nFrank Keane\n19\n69\n\n\n4th\nDuo Calitz\n10\n70\n\n\n\n\n\n\n\n\nGross\nSean Dowling\n0\n72\n\n\n\n\n\n\n\n\nDiv 1 (0-10)\nKeith Rowsome\n8\n71\n\n\nDiv 2 (11-15)\nDerek Dudley\n15\n71\n\n\nDiv 3 (16-19)\nEd Kelly\n16\n70\n\n\nDiv 4 (20+)\nCormac Goulding\n20\n72\n\n\n\n\n\n\n\n\n108 played\n\n\n\n\n\n107 cards returned
URL:https://www.beaverstown.com/event/august-medal-2/
CATEGORIES:Mens Event
END:VEVENT
BEGIN:VEVENT
DTSTART;VALUE=DATE:20250817
DTEND;VALUE=DATE:20250818
DTSTAMP:20260420T083744
CREATED:20250818T113941Z
LAST-MODIFIED:20250818T113941Z
UID:29450-1755388800-1755475199@www.beaverstown.com
SUMMARY:Singles Yellow Strokes
DESCRIPTION:Results Sheet\n\n\n\n\n\n\n\n\n\n\n\nDate :\nSunday 17 August 2025\n\n\n\n\n\n\n\n\n\n\nCompetition :\n18 Hole Singles Strokes Yellow\n\n\n\n\n\n\n\n\n\n\n\n\n\n\n\nPlace\nName\nPlaying Hcap\nScore\n\n\n\n\n\n\n\n\n1st place\nGordon O’Connor\n21\n70\n\n\n\n\n\n\n\n\n\n\n\n\n\n\n\n\n\n\n\n\n\n\n\n\n\n\n10 played
URL:https://www.beaverstown.com/event/singles-yellow-strokes/
CATEGORIES:Mens Event
END:VEVENT
BEGIN:VEVENT
DTSTART;TZID=Europe/London:20250817T080000
DTEND;TZID=Europe/London:20250817T170000
DTSTAMP:20260420T083744
CREATED:20250823T125257Z
LAST-MODIFIED:20250823T125257Z
UID:29468-1755417600-1755450000@www.beaverstown.com
SUMMARY:Ladies 18hole Singles
DESCRIPTION:Prize\nScore\nName\nPlaying \nHcap\n\n\n1st\n40pts ocb\nMags Kelly\n26\n\n\n2nd\n40 pts\nMarjorie McCann\n23\n\n\n \n \n \n \n\n\n \n \n \n \n\n\n \n \n \n \n\n\n \n \n \n \n\n\n \n \n \n \n\n\n \n \n \n \n\n\n19 Played\n \n \n 
URL:https://www.beaverstown.com/event/ladies-18hole-singles/
CATEGORIES:Ladies-Event
END:VEVENT
END:VCALENDAR