
BEGIN:VCALENDAR
VERSION:2.0
PRODID:-//Beaverstown Golf Club - ECPv6.15.20//NONSGML v1.0//EN
CALSCALE:GREGORIAN
METHOD:PUBLISH
X-WR-CALNAME:Beaverstown Golf Club
X-ORIGINAL-URL:https://www.beaverstown.com
X-WR-CALDESC:Events for Beaverstown Golf Club
REFRESH-INTERVAL;VALUE=DURATION:PT1H
X-Robots-Tag:noindex
X-PUBLISHED-TTL:PT1H
BEGIN:VTIMEZONE
TZID:Europe/London
BEGIN:DAYLIGHT
TZOFFSETFROM:+0000
TZOFFSETTO:+0100
TZNAME:BST
DTSTART:20240331T010000
END:DAYLIGHT
BEGIN:STANDARD
TZOFFSETFROM:+0100
TZOFFSETTO:+0000
TZNAME:GMT
DTSTART:20241027T010000
END:STANDARD
BEGIN:DAYLIGHT
TZOFFSETFROM:+0000
TZOFFSETTO:+0100
TZNAME:BST
DTSTART:20250330T010000
END:DAYLIGHT
BEGIN:STANDARD
TZOFFSETFROM:+0100
TZOFFSETTO:+0000
TZNAME:GMT
DTSTART:20251026T010000
END:STANDARD
BEGIN:DAYLIGHT
TZOFFSETFROM:+0000
TZOFFSETTO:+0100
TZNAME:BST
DTSTART:20260329T010000
END:DAYLIGHT
BEGIN:STANDARD
TZOFFSETFROM:+0100
TZOFFSETTO:+0000
TZNAME:GMT
DTSTART:20261025T010000
END:STANDARD
END:VTIMEZONE
BEGIN:VEVENT
DTSTART;VALUE=DATE:20250823
DTEND;VALUE=DATE:20250824
DTSTAMP:20260420T083842
CREATED:20250824T143911Z
LAST-MODIFIED:20250824T143911Z
UID:29472-1755907200-1755993599@www.beaverstown.com
SUMMARY:Singles Stableford Yellow
DESCRIPTION:Date : Saturday 23 August 2025\n\nCompetition :18 Hole Singles Stableford – Yellow\n\n\nPlace Name Playing Hcap Score\n\n1st Div 1 Paudie Hurley 11 41pts\n2nd Div 1 John Grealy 4 38pts\n\n1st Div 2 Garrett O’Brien 13 40pts  ob6\n2nd Div 2 Pat Hayden 13 40pts\n\n1st Div 3 Ciaran Whelan 19 39pts  ob9\n2nd Div 3 David Heraty 26 39pts\n\n\n\n61 played
URL:https://www.beaverstown.com/event/singles-stableford-yellow-12/
CATEGORIES:Mens Event
END:VEVENT
BEGIN:VEVENT
DTSTART;TZID=Europe/London:20250823T080000
DTEND;TZID=Europe/London:20250823T170000
DTSTAMP:20260420T083842
CREATED:20250823T130340Z
LAST-MODIFIED:20250823T130340Z
UID:29470-1755936000-1755968400@www.beaverstown.com
SUMMARY:Ladies 18hole S/F
DESCRIPTION:Prize\nScore\nName\nPlaying \nHcap\n\n\n1st\n32\nLiz Brett\n38\n\n\n \n \n \n \n\n\n \n \n \n \n\n\n \n \n \n \n\n\n \n \n \n \n\n\n \n \n \n \n\n\n \n \n \n \n\n\n \n \n \n \n\n\n4 Played\n \n \n 
URL:https://www.beaverstown.com/event/ladies-18hole-s-f-3/
CATEGORIES:Ladies-Event
END:VEVENT
END:VCALENDAR