
BEGIN:VCALENDAR
VERSION:2.0
PRODID:-//Beaverstown Golf Club - ECPv6.15.20//NONSGML v1.0//EN
CALSCALE:GREGORIAN
METHOD:PUBLISH
X-WR-CALNAME:Beaverstown Golf Club
X-ORIGINAL-URL:https://www.beaverstown.com
X-WR-CALDESC:Events for Beaverstown Golf Club
REFRESH-INTERVAL;VALUE=DURATION:PT1H
X-Robots-Tag:noindex
X-PUBLISHED-TTL:PT1H
BEGIN:VTIMEZONE
TZID:Europe/London
BEGIN:DAYLIGHT
TZOFFSETFROM:+0000
TZOFFSETTO:+0100
TZNAME:BST
DTSTART:20240331T010000
END:DAYLIGHT
BEGIN:STANDARD
TZOFFSETFROM:+0100
TZOFFSETTO:+0000
TZNAME:GMT
DTSTART:20241027T010000
END:STANDARD
BEGIN:DAYLIGHT
TZOFFSETFROM:+0000
TZOFFSETTO:+0100
TZNAME:BST
DTSTART:20250330T010000
END:DAYLIGHT
BEGIN:STANDARD
TZOFFSETFROM:+0100
TZOFFSETTO:+0000
TZNAME:GMT
DTSTART:20251026T010000
END:STANDARD
BEGIN:DAYLIGHT
TZOFFSETFROM:+0000
TZOFFSETTO:+0100
TZNAME:BST
DTSTART:20260329T010000
END:DAYLIGHT
BEGIN:STANDARD
TZOFFSETFROM:+0100
TZOFFSETTO:+0000
TZNAME:GMT
DTSTART:20261025T010000
END:STANDARD
END:VTIMEZONE
BEGIN:VEVENT
DTSTART;VALUE=DATE:20250824
DTEND;VALUE=DATE:20250825
DTSTAMP:20260420T084020
CREATED:20250824T194158Z
LAST-MODIFIED:20250824T194512Z
UID:29474-1755993600-1756079999@www.beaverstown.com
SUMMARY:Beaver Trophy
DESCRIPTION:Date :\nSunday 24 August 2025\n\n\n\n\n\n\n\n\n\n\nCompetition :\nBeaver Trophy Stableford White\n\n\n\n\n\n\n\n\n\n\n\n\n\n\n\nPlace\nName\nPlaying Hcap\nScore\n\n\n\n\n\n\n\n\n1st place\nKeith Rowsome\n8\n43pts\n\n\n2nd place\nOisin Taylor\n23\n40pts ob9\n\n\n3rd place\nRoss Benvie\n6\n40pts ob9\n\n\n4th place\nEamonn Kelly\n24\n40pts\n\n\n\n\n\n\n\n\nGross\nGary Lawlor\n3\n36pts\n\n\n\n\n\n\n\n\nDivision 1\nAidan Rowsome\n4\n38pts ob9\n\n\nDivision 2\nBrian McRory\n15\n37pts\n\n\nDivision 3\nJohn Cole\n17\n35pts ob9\n\n\nDivision 4\nAndrew Jennings\n27\n39pts\n\n\n\n\n\n\n\n\nHole in One\nHugh McGovern on 3rd hole\n\n\n\n\n118 played
URL:https://www.beaverstown.com/event/beaver-trophy/
CATEGORIES:Mens Event
END:VEVENT
BEGIN:VEVENT
DTSTART;TZID=Europe/London:20250824T080000
DTEND;TZID=Europe/London:20250824T170000
DTSTAMP:20260420T084020
CREATED:20250827T182610Z
LAST-MODIFIED:20250827T182610Z
UID:29486-1756022400-1756054800@www.beaverstown.com
SUMMARY:Beaver Trophy
DESCRIPTION:Prize\nScore\nName\nH’cap\n\n\n1st  (Div 1)\n43 pts\nLucy Flanagan\n22\n\n\nDiv 2\n39 pts\nAnne Neville\n30\n\n\nDiv 3\n36 pts ocb\nLiz Brett\n38\n\n\n \n \n \n \n\n\n \n \n \n \n\n\n \n \n \n \n\n\n \n \n \n \n\n\n \n \n \n \n\n\n \n \n \n \n\n\n \n \n \n \n\n\n\n  \n28 Played
URL:https://www.beaverstown.com/event/beaver-trophy-2/
CATEGORIES:Ladies-Event
END:VEVENT
END:VCALENDAR