
BEGIN:VCALENDAR
VERSION:2.0
PRODID:-//Beaverstown Golf Club - ECPv6.15.20//NONSGML v1.0//EN
CALSCALE:GREGORIAN
METHOD:PUBLISH
X-WR-CALNAME:Beaverstown Golf Club
X-ORIGINAL-URL:https://www.beaverstown.com
X-WR-CALDESC:Events for Beaverstown Golf Club
REFRESH-INTERVAL;VALUE=DURATION:PT1H
X-Robots-Tag:noindex
X-PUBLISHED-TTL:PT1H
BEGIN:VTIMEZONE
TZID:Europe/London
BEGIN:DAYLIGHT
TZOFFSETFROM:+0000
TZOFFSETTO:+0100
TZNAME:BST
DTSTART:20240331T010000
END:DAYLIGHT
BEGIN:STANDARD
TZOFFSETFROM:+0100
TZOFFSETTO:+0000
TZNAME:GMT
DTSTART:20241027T010000
END:STANDARD
BEGIN:DAYLIGHT
TZOFFSETFROM:+0000
TZOFFSETTO:+0100
TZNAME:BST
DTSTART:20250330T010000
END:DAYLIGHT
BEGIN:STANDARD
TZOFFSETFROM:+0100
TZOFFSETTO:+0000
TZNAME:GMT
DTSTART:20251026T010000
END:STANDARD
BEGIN:DAYLIGHT
TZOFFSETFROM:+0000
TZOFFSETTO:+0100
TZNAME:BST
DTSTART:20260329T010000
END:DAYLIGHT
BEGIN:STANDARD
TZOFFSETFROM:+0100
TZOFFSETTO:+0000
TZNAME:GMT
DTSTART:20261025T010000
END:STANDARD
END:VTIMEZONE
BEGIN:VEVENT
DTSTART;VALUE=DATE:20250825
DTEND;VALUE=DATE:20250826
DTSTAMP:20260420T084017
CREATED:20250825T183301Z
LAST-MODIFIED:20250825T183301Z
UID:29479-1756080000-1756166399@www.beaverstown.com
SUMMARY:Beaver Trophy for 5 Day Members
DESCRIPTION:Date :\nMonday 25 August 2025\n\n\n\n\n\n\n\n\n\n\nCompetition :\nBeaver Trophy for 5 Day Members\n\n\n\n\n\n\n\n\n\n\n\n\n\n\n\nPlace\nName\nPlaying Hcap\nScore\n\n\n\n\n\n\n\n\n1st place\nSean Morris\n16\n38pts\n\n\n\n\n\n\n\n\n\n\n\n\n\n\n\n\n\n\n\n\n\n\n\n\n\n\n\n\n\n\n\n\n\n\n\n\n\n\n12 played
URL:https://www.beaverstown.com/event/beaver-trophy-for-5-day-members/
CATEGORIES:Five Day Members
END:VEVENT
BEGIN:VEVENT
DTSTART;VALUE=DATE:20250825
DTEND;VALUE=DATE:20250826
DTSTAMP:20260420T084017
CREATED:20250830T155238Z
LAST-MODIFIED:20250830T155238Z
UID:29493-1756080000-1756166399@www.beaverstown.com
SUMMARY:Mixed Open Singles Stableford
DESCRIPTION:Date :\nMonday 25 August 2025\n\n\n\n\n\n\n\n\n\n\nCompetition :\nMixed Open Singles Stableford Yellow\n\n\n\n\n\n\n\n\n\n\n\n\n\n\n\nPlace\nName\nPlaying Hcap\nScore\n\n\n\n\n\n\n\n\n1st Div 1\nEoin Connolly\n7\n40pts\n\n\n2nd Div 1\nChristopher Murphy (V)\n11\n39pts\n\n\n\n\n\n\n\n\n1st Div 2\nMichael Fitzpatrick\n25\n43pts\n\n\n2nd Div 2\nMark Hughes\n18\n36pts\n\n\n\n\n\n\n\n\n\n\n\n\n\n\n\n\n\n\n\n\n\n\n\n\n\n\n\n\n\n\n\n\n31 members\n\n\n\n\n\n13 visitors
URL:https://www.beaverstown.com/event/mixed-open-singles-stableford-9/
CATEGORIES:Joint Event
END:VEVENT
END:VCALENDAR