
BEGIN:VCALENDAR
VERSION:2.0
PRODID:-//Beaverstown Golf Club - ECPv6.15.20//NONSGML v1.0//EN
CALSCALE:GREGORIAN
METHOD:PUBLISH
X-WR-CALNAME:Beaverstown Golf Club
X-ORIGINAL-URL:https://www.beaverstown.com
X-WR-CALDESC:Events for Beaverstown Golf Club
REFRESH-INTERVAL;VALUE=DURATION:PT1H
X-Robots-Tag:noindex
X-PUBLISHED-TTL:PT1H
BEGIN:VTIMEZONE
TZID:Europe/London
BEGIN:DAYLIGHT
TZOFFSETFROM:+0000
TZOFFSETTO:+0100
TZNAME:BST
DTSTART:20240331T010000
END:DAYLIGHT
BEGIN:STANDARD
TZOFFSETFROM:+0100
TZOFFSETTO:+0000
TZNAME:GMT
DTSTART:20241027T010000
END:STANDARD
BEGIN:DAYLIGHT
TZOFFSETFROM:+0000
TZOFFSETTO:+0100
TZNAME:BST
DTSTART:20250330T010000
END:DAYLIGHT
BEGIN:STANDARD
TZOFFSETFROM:+0100
TZOFFSETTO:+0000
TZNAME:GMT
DTSTART:20251026T010000
END:STANDARD
BEGIN:DAYLIGHT
TZOFFSETFROM:+0000
TZOFFSETTO:+0100
TZNAME:BST
DTSTART:20260329T010000
END:DAYLIGHT
BEGIN:STANDARD
TZOFFSETFROM:+0100
TZOFFSETTO:+0000
TZNAME:GMT
DTSTART:20261025T010000
END:STANDARD
END:VTIMEZONE
BEGIN:VEVENT
DTSTART;TZID=Europe/London:20250826T080000
DTEND;TZID=Europe/London:20250826T170000
DTSTAMP:20260420T084015
CREATED:20250829T100732Z
LAST-MODIFIED:20250829T100732Z
UID:29490-1756195200-1756227600@www.beaverstown.com
SUMMARY:Play in Pink
DESCRIPTION:Prize\nScore\nName\n\n\nLadies 18 Holes\n113 pts\nKatie Browne\, Liz Murphy\, Rita Bellew & Joan Halpin\n\n\nGents 18 Holes\n117 pts\nGerry O’Connor\, John Bohan\, Gerry Dowling & Harry Keegan\n\n\nMixed 18 Holes\n120 pts\nAdele Campbell\, Stephen White\, John Clarke & Mairéad Frew\n\n\n \n \n \n\n\nLadies 9 Holes\n53 pts\nLinda Jones Cowley\, Paula McNamara\, Rhonda Durkin & Annemarie Walsh\n\n\nMixed 9 Holes\n57 pts\nPat Healy\, Fionnuala Healy\, Mary Conlon & Helen Molloy
URL:https://www.beaverstown.com/event/play-in-pink/
CATEGORIES:Joint Event
END:VEVENT
BEGIN:VEVENT
DTSTART;TZID=Europe/London:20250826T080000
DTEND;TZID=Europe/London:20250826T170000
DTSTAMP:20260420T084015
CREATED:20250905T151622Z
LAST-MODIFIED:20250905T151622Z
UID:29505-1756195200-1756227600@www.beaverstown.com
SUMMARY:Play in Pink Fundraiser Competitions
DESCRIPTION:Prize\nScore\nNames\n \n\n\n\nLadies 18hole\n\n\n1st\n113\nK. Browne / E. Murphy / R. Bellew / J. Halpin\n\n\n \n \n \n \n\n\nMen’s 18 hole\n\n\n1st\n117\nG. O’Connor / J. Bohan / G. Dowling / H. Keegan\n\n\n \n \n \n\n\n \n \n           Mixed 18 holes\n \n\n\n1st\n120\nA. Campbell / S. White / J. Clarke / M. Frew\n\n\n \n \n \n\n\n \n \n9 hole Ladies\n \n\n\n1st\n53\nL. Jones Cowley / P. McNamara / R. Durkin / A. Walsh\n \n\n\n \n \n9 hole Mixed & Men’s\n \n\n\n1st\n57\nP. Healy / F. Healy / M. Conlon / H. Molloy\n \n\n\n \n\n\nLadies \n \nDistance\n\n\nNearest the Pin 3rd\nPat Healy\n80cms\n\n\n \n \n \n\n\nClosest to the line 6th\nLiz Murphy\n4cms\n\n\n \nYvonne Kennedy\n4cms
URL:https://www.beaverstown.com/event/play-in-pink-fundraiser-competitions/
CATEGORIES:Ladies-Event,Mens Event
END:VEVENT
END:VCALENDAR