
BEGIN:VCALENDAR
VERSION:2.0
PRODID:-//Beaverstown Golf Club - ECPv6.15.20//NONSGML v1.0//EN
CALSCALE:GREGORIAN
METHOD:PUBLISH
X-ORIGINAL-URL:https://www.beaverstown.com
X-WR-CALDESC:Events for Beaverstown Golf Club
REFRESH-INTERVAL;VALUE=DURATION:PT1H
X-Robots-Tag:noindex
X-PUBLISHED-TTL:PT1H
BEGIN:VTIMEZONE
TZID:Europe/London
BEGIN:DAYLIGHT
TZOFFSETFROM:+0000
TZOFFSETTO:+0100
TZNAME:BST
DTSTART:20240331T010000
END:DAYLIGHT
BEGIN:STANDARD
TZOFFSETFROM:+0100
TZOFFSETTO:+0000
TZNAME:GMT
DTSTART:20241027T010000
END:STANDARD
BEGIN:DAYLIGHT
TZOFFSETFROM:+0000
TZOFFSETTO:+0100
TZNAME:BST
DTSTART:20250330T010000
END:DAYLIGHT
BEGIN:STANDARD
TZOFFSETFROM:+0100
TZOFFSETTO:+0000
TZNAME:GMT
DTSTART:20251026T010000
END:STANDARD
BEGIN:DAYLIGHT
TZOFFSETFROM:+0000
TZOFFSETTO:+0100
TZNAME:BST
DTSTART:20260329T010000
END:DAYLIGHT
BEGIN:STANDARD
TZOFFSETFROM:+0100
TZOFFSETTO:+0000
TZNAME:GMT
DTSTART:20261025T010000
END:STANDARD
END:VTIMEZONE
BEGIN:VEVENT
DTSTART;VALUE=DATE:20250903
DTEND;VALUE=DATE:20250904
DTSTAMP:20260420T130542
CREATED:20250903T171847Z
LAST-MODIFIED:20250903T171847Z
UID:29503-1756857600-1756943999@www.beaverstown.com
SUMMARY:Wednesday 4 Man Team
DESCRIPTION:Results Sheet\n\n\n\n\n\n\n\n\n\n\n\n\n\nDate :\n3rd of September 2025\n\n\n\n\n\n\n\n\n\n\n\nCompetition :\n4 Man Team – 3 on par 5’s\n\n\n\n\n\n\n\n\n\n\n\n\n\n\n\n\n\n\nPlace\nName\nPlaying Hcap\nScore\n\n\n\n\n\n\n\n\n\n\nWinners\nAlan Davidson\n21\n90.5pts\n\n\n\n\nGeorge Moore\n13\n(-1.5)\n\n\n\n\nMichael Corrigan\n20\n\n\n\n\n\nMichael Fitzpatrick\n21\n\n\n\n\n\n\n\n\n\n\n\n\n\n\n\n\n\n\n\n\n\n\n\n\n\nBack 9\nTrevor Russell\n7\n50pts\n\n\n\n\nJoey Russell\n16\n\n\n\n\n\nVinny Arkins\n8\n\n\n\n\n\nPhilip Maher\n15\n\n\n\n\n\n\n\n\n\n\n\n\n\n\n\n\n\n\n\n\n\n\n\n\n\n\n\n\n\n\n\n\n\n\n\n\n\n\n\n\n\n\n\n\n\n\n\n\n\n\n\n\n\n\n\n\n\n\n\n\n\n\n\n\n\n\n\n\n\n\n\n\n\n\n\n\n\n\n\n\n\n\n\n\n\n\n\n\n\n\n\n\n\n\n\n36 Members\n\n\n\n\n\n\n8 Visitors
URL:https://www.beaverstown.com/event/wednesday-4-man-team-34/
CATEGORIES:Mens Event
END:VEVENT
END:VCALENDAR