
BEGIN:VCALENDAR
VERSION:2.0
PRODID:-//Beaverstown Golf Club - ECPv6.15.20//NONSGML v1.0//EN
CALSCALE:GREGORIAN
METHOD:PUBLISH
X-WR-CALNAME:Beaverstown Golf Club
X-ORIGINAL-URL:https://www.beaverstown.com
X-WR-CALDESC:Events for Beaverstown Golf Club
REFRESH-INTERVAL;VALUE=DURATION:PT1H
X-Robots-Tag:noindex
X-PUBLISHED-TTL:PT1H
BEGIN:VTIMEZONE
TZID:Europe/London
BEGIN:DAYLIGHT
TZOFFSETFROM:+0000
TZOFFSETTO:+0100
TZNAME:BST
DTSTART:20240331T010000
END:DAYLIGHT
BEGIN:STANDARD
TZOFFSETFROM:+0100
TZOFFSETTO:+0000
TZNAME:GMT
DTSTART:20241027T010000
END:STANDARD
BEGIN:DAYLIGHT
TZOFFSETFROM:+0000
TZOFFSETTO:+0100
TZNAME:BST
DTSTART:20250330T010000
END:DAYLIGHT
BEGIN:STANDARD
TZOFFSETFROM:+0100
TZOFFSETTO:+0000
TZNAME:GMT
DTSTART:20251026T010000
END:STANDARD
BEGIN:DAYLIGHT
TZOFFSETFROM:+0000
TZOFFSETTO:+0100
TZNAME:BST
DTSTART:20260329T010000
END:DAYLIGHT
BEGIN:STANDARD
TZOFFSETFROM:+0100
TZOFFSETTO:+0000
TZNAME:GMT
DTSTART:20261025T010000
END:STANDARD
END:VTIMEZONE
BEGIN:VEVENT
DTSTART;VALUE=DATE:20250910
DTEND;VALUE=DATE:20250911
DTSTAMP:20260420T125604
CREATED:20250910T181345Z
LAST-MODIFIED:20250923T100915Z
UID:29525-1757462400-1757548799@www.beaverstown.com
SUMMARY:Wednesday 4 Man Team Waltz
DESCRIPTION:Results Sheet\n\n\n\n\n\n\n\n\n\n\n\n\n\nDate :\n10th of September 2025\n\n\n\n\n\n\n\n\n\n\n\nCompetition :\n4 Man Team – Waltz\n\n\n\n\n\n\n\n\n\n\n\n\n\n\n\n\n\n\nPlace\nName\nPlaying Hcap\nScore\n\n\n\n\n\n\n\n\n\n\nWinners\nJohn Bohan\n13\n85pts\n\n\n\n\nHarry Keegan\n25\n(-2)\n\n\n\n\nGerry O’Connor\n20\n\n\n\n\n\nRory O’Connor\n6\n\n\n\n\n\n\n\n\n\n\n\n\n\n\n\n\n\n\n\n\n\n\n\n\n\nSecond\nBrian Lennon\n10\n81pts\n\n\n\n\nDermot Brady\n22\n\n\n\n\n\nPeter Gallagher\n21\n\n\n\n\n\nAndy Collinge\n13\n\n\n\n\n\n\n\n\n\n\n\n\n\n\n\n\n\n\nBack 9\nPat Ward\n14\n29pts 29b6\n\n\n\n\nJim Kendellan\n12\n\n\n\n\n\nPat Shields\n5\n\n\n\n\n\nJohn Cole\n14\n\n\n\n\n\n\n\n\n\n\n\n\n\n\n\n\n\n\n\n\n\n\n\n\n\n\n\n\n\n\n\n\n\n\n\n\n\n\n\n\n\n\n\n\n\n\n\n\n\n\n\n\n\n79 Members\n\n\n\n\n\n\n4 Visitors
URL:https://www.beaverstown.com/event/wednesday-4-man-team-reverse-waltz-4/
CATEGORIES:Mens Event
END:VEVENT
END:VCALENDAR