
BEGIN:VCALENDAR
VERSION:2.0
PRODID:-//Beaverstown Golf Club - ECPv6.15.20//NONSGML v1.0//EN
CALSCALE:GREGORIAN
METHOD:PUBLISH
X-ORIGINAL-URL:https://www.beaverstown.com
X-WR-CALDESC:Events for Beaverstown Golf Club
REFRESH-INTERVAL;VALUE=DURATION:PT1H
X-Robots-Tag:noindex
X-PUBLISHED-TTL:PT1H
BEGIN:VTIMEZONE
TZID:Europe/London
BEGIN:DAYLIGHT
TZOFFSETFROM:+0000
TZOFFSETTO:+0100
TZNAME:BST
DTSTART:20240331T010000
END:DAYLIGHT
BEGIN:STANDARD
TZOFFSETFROM:+0100
TZOFFSETTO:+0000
TZNAME:GMT
DTSTART:20241027T010000
END:STANDARD
BEGIN:DAYLIGHT
TZOFFSETFROM:+0000
TZOFFSETTO:+0100
TZNAME:BST
DTSTART:20250330T010000
END:DAYLIGHT
BEGIN:STANDARD
TZOFFSETFROM:+0100
TZOFFSETTO:+0000
TZNAME:GMT
DTSTART:20251026T010000
END:STANDARD
BEGIN:DAYLIGHT
TZOFFSETFROM:+0000
TZOFFSETTO:+0100
TZNAME:BST
DTSTART:20260329T010000
END:DAYLIGHT
BEGIN:STANDARD
TZOFFSETFROM:+0100
TZOFFSETTO:+0000
TZNAME:GMT
DTSTART:20261025T010000
END:STANDARD
END:VTIMEZONE
BEGIN:VEVENT
DTSTART;VALUE=DATE:20250914
DTEND;VALUE=DATE:20250915
DTSTAMP:20260420T130536
CREATED:20250915T184427Z
LAST-MODIFIED:20250915T184427Z
UID:29537-1757808000-1757894399@www.beaverstown.com
SUMMARY:Ladies 18 Hole S/Ford
DESCRIPTION:Winner \nAnne Neville 33pts H/c 29
URL:https://www.beaverstown.com/event/ladies-18-hole-s-ford/
CATEGORIES:Ladies-Event
END:VEVENT
BEGIN:VEVENT
DTSTART;TZID=Europe/London:20250914T080000
DTEND;TZID=Europe/London:20250914T140000
DTSTAMP:20260420T130536
CREATED:20250915T203806Z
LAST-MODIFIED:20250915T203806Z
UID:29541-1757836800-1757858400@www.beaverstown.com
SUMMARY:Singles Stableford Yellow
DESCRIPTION:Date :\nSunday 14 September 2025\n\n\n\n\n\n\n\n\n\n\nCompetition :\n18 Hole Singles Stableford – Yellow\n\n\n\n\n\n\n\n\n\n\n\n\n\n\n\nPlace\nName\nPlaying Hcap\nScore\n\n\n\n\n\n\n\n\n1st place\nJoe Mooney\n12\n37pts ob6\n\n\n2nd place\nWilliam Higgins\n11\n37pts\n\n\n\n\n\n\n\n\n\n\n\n\n\n\n19 played
URL:https://www.beaverstown.com/event/singles-stableford-yellow-13/
CATEGORIES:Mens Event
END:VEVENT
BEGIN:VEVENT
DTSTART;TZID=Europe/London:20250914T080000
DTEND;TZID=Europe/London:20250914T140000
DTSTAMP:20260420T130536
CREATED:20250915T204048Z
LAST-MODIFIED:20250915T204048Z
UID:29543-1757836800-1757858400@www.beaverstown.com
SUMMARY:Singles Stableford White
DESCRIPTION:Date :\nSunday 14 September 2025\n\n\n\n\n\n\n\n\n\n\nCompetition :\n18 Hole Singles Stableford – White\n\n\n\n\n\n\n\n\n\n\n\n\n\n\n\nPlace\nName\nPlaying Hcap\nScore\n\n\n\n\n\n\n\n\n1st place\nDavid Jackson\n17\n35pts ob9\n\n\n2nd place\nBrian Lennon\n12\n35pts\n\n\n\n\n\n\n\n\n\n\n\n\n\n\n21 played
URL:https://www.beaverstown.com/event/singles-stableford-white-2/
CATEGORIES:Mens Event
END:VEVENT
END:VCALENDAR