
BEGIN:VCALENDAR
VERSION:2.0
PRODID:-//Beaverstown Golf Club - ECPv6.15.20//NONSGML v1.0//EN
CALSCALE:GREGORIAN
METHOD:PUBLISH
X-ORIGINAL-URL:https://www.beaverstown.com
X-WR-CALDESC:Events for Beaverstown Golf Club
REFRESH-INTERVAL;VALUE=DURATION:PT1H
X-Robots-Tag:noindex
X-PUBLISHED-TTL:PT1H
BEGIN:VTIMEZONE
TZID:Europe/London
BEGIN:DAYLIGHT
TZOFFSETFROM:+0000
TZOFFSETTO:+0100
TZNAME:BST
DTSTART:20240331T010000
END:DAYLIGHT
BEGIN:STANDARD
TZOFFSETFROM:+0100
TZOFFSETTO:+0000
TZNAME:GMT
DTSTART:20241027T010000
END:STANDARD
BEGIN:DAYLIGHT
TZOFFSETFROM:+0000
TZOFFSETTO:+0100
TZNAME:BST
DTSTART:20250330T010000
END:DAYLIGHT
BEGIN:STANDARD
TZOFFSETFROM:+0100
TZOFFSETTO:+0000
TZNAME:GMT
DTSTART:20251026T010000
END:STANDARD
BEGIN:DAYLIGHT
TZOFFSETFROM:+0000
TZOFFSETTO:+0100
TZNAME:BST
DTSTART:20260329T010000
END:DAYLIGHT
BEGIN:STANDARD
TZOFFSETFROM:+0100
TZOFFSETTO:+0000
TZNAME:GMT
DTSTART:20261025T010000
END:STANDARD
END:VTIMEZONE
BEGIN:VEVENT
DTSTART;TZID=Europe/London:20250915T080000
DTEND;TZID=Europe/London:20250915T140000
DTSTAMP:20260420T130540
CREATED:20250915T204927Z
LAST-MODIFIED:20250915T204927Z
UID:29545-1757923200-1757944800@www.beaverstown.com
SUMMARY:Mixed Open Singles Stableford
DESCRIPTION:Date :\nMonday 15 September 2025\n\n\n\n\n\n\n\n\n\n\nCompetition :\nMixed Open Singles Stableford Yellow\n\n\n\n\n\n\n\n\n\n\n\n\n\n\n\nPlace\nName\nPlaying Hcap\nScore\n\n\n\n\n\n\n\n\n1st place\nEd Doherty\n10\n38pts\n\n\n2nd place\nRichard Kiely\n14\n35pts\n\n\n3rd place\nSean Morris\n13\n34pts\n\n\n\n\n\n\n\n\n24 members\n\n\n\n\n\n1 visitor
URL:https://www.beaverstown.com/event/mixed-open-singles-stableford-11/
CATEGORIES:Joint Event
END:VEVENT
END:VCALENDAR