
BEGIN:VCALENDAR
VERSION:2.0
PRODID:-//Beaverstown Golf Club - ECPv6.15.20//NONSGML v1.0//EN
CALSCALE:GREGORIAN
METHOD:PUBLISH
X-WR-CALNAME:Beaverstown Golf Club
X-ORIGINAL-URL:https://www.beaverstown.com
X-WR-CALDESC:Events for Beaverstown Golf Club
REFRESH-INTERVAL;VALUE=DURATION:PT1H
X-Robots-Tag:noindex
X-PUBLISHED-TTL:PT1H
BEGIN:VTIMEZONE
TZID:Europe/London
BEGIN:DAYLIGHT
TZOFFSETFROM:+0000
TZOFFSETTO:+0100
TZNAME:BST
DTSTART:20240331T010000
END:DAYLIGHT
BEGIN:STANDARD
TZOFFSETFROM:+0100
TZOFFSETTO:+0000
TZNAME:GMT
DTSTART:20241027T010000
END:STANDARD
BEGIN:DAYLIGHT
TZOFFSETFROM:+0000
TZOFFSETTO:+0100
TZNAME:BST
DTSTART:20250330T010000
END:DAYLIGHT
BEGIN:STANDARD
TZOFFSETFROM:+0100
TZOFFSETTO:+0000
TZNAME:GMT
DTSTART:20251026T010000
END:STANDARD
BEGIN:DAYLIGHT
TZOFFSETFROM:+0000
TZOFFSETTO:+0100
TZNAME:BST
DTSTART:20260329T010000
END:DAYLIGHT
BEGIN:STANDARD
TZOFFSETFROM:+0100
TZOFFSETTO:+0000
TZNAME:GMT
DTSTART:20261025T010000
END:STANDARD
END:VTIMEZONE
BEGIN:VEVENT
DTSTART;VALUE=DATE:20251015
DTEND;VALUE=DATE:20251016
DTSTAMP:20260420T170459
CREATED:20251015T174718Z
LAST-MODIFIED:20251019T171453Z
UID:29649-1760486400-1760572799@www.beaverstown.com
SUMMARY:Wednesday 4 Man Team-3 on Par 3's
DESCRIPTION:Results Sheets\n\n\n\n\n\n\n\n\n\n\n\n\n\nDate :\n15th of October 2025\n\n\n\n\n\n\n\n\n\n\n\n\nCompetition :\n4 Man Team – 3 on par 3’s\n\n\n\n\n\n\n\n\n\n\n\n\n\n\n\n\n\n\nPlace\nName\nPlaying Hcap\nScore\n\n\n\n\n\n\n\n\n\n\nWinners\nHugh McGovern\n12\n92pts\n\n\n\n\nAidan O’Kennedy\n13\n\n\n\n\n\nHenry O’Brien\n17\n\n\n\n\n\nJames Reilly\n26\n\n\n\n\n\n\n\n\n\n\n\n\n\n\n\n\n\n\n\n\n\n\n\n\n\nSecond\nJohn Bohan\n13\n89pts\n\n\n\n\nHarry Keegan\n25\n(-3)\n\n\n\n\nGerry Dowling\n12\n\n\n\n\n\nNoel Lally (V)\n11\n\n\n\n\n\n\n\n\n\n\n\n\n\n\n\n\n\n\nThird\nPat McCormack\n6\n87.5pts 43b9\n\n\n\n\nRonnie Clifford\n14\n(-1.5)\n\n\n\n\nIvan O’Toole\n22\n\n\n\n\n\nPaul O’Connor\n13\n\n\n\n\n\n\n\n\n\n\n\n\n\n\n\n\n\n\nBack 9\nJim Bradshaw\n12\n44pts\n\n\n\n\nMick Sweeney\n16\n\n\n\n\n\nTom Dwyer\n19\n\n\n\n\n\nPatrick Grehan\n20\n\n\n\n\n\n\n\n\n\n\n\n87 Members\n\n\n\n\n\n\n9 Visitors
URL:https://www.beaverstown.com/event/wednesday-4-man-team-3-on-par-3s-2/
CATEGORIES:Mens Event
END:VEVENT
END:VCALENDAR