
BEGIN:VCALENDAR
VERSION:2.0
PRODID:-//Beaverstown Golf Club - ECPv6.15.20//NONSGML v1.0//EN
CALSCALE:GREGORIAN
METHOD:PUBLISH
X-ORIGINAL-URL:https://www.beaverstown.com
X-WR-CALDESC:Events for Beaverstown Golf Club
REFRESH-INTERVAL;VALUE=DURATION:PT1H
X-Robots-Tag:noindex
X-PUBLISHED-TTL:PT1H
BEGIN:VTIMEZONE
TZID:Europe/London
BEGIN:DAYLIGHT
TZOFFSETFROM:+0000
TZOFFSETTO:+0100
TZNAME:BST
DTSTART:20240331T010000
END:DAYLIGHT
BEGIN:STANDARD
TZOFFSETFROM:+0100
TZOFFSETTO:+0000
TZNAME:GMT
DTSTART:20241027T010000
END:STANDARD
BEGIN:DAYLIGHT
TZOFFSETFROM:+0000
TZOFFSETTO:+0100
TZNAME:BST
DTSTART:20250330T010000
END:DAYLIGHT
BEGIN:STANDARD
TZOFFSETFROM:+0100
TZOFFSETTO:+0000
TZNAME:GMT
DTSTART:20251026T010000
END:STANDARD
BEGIN:DAYLIGHT
TZOFFSETFROM:+0000
TZOFFSETTO:+0100
TZNAME:BST
DTSTART:20260329T010000
END:DAYLIGHT
BEGIN:STANDARD
TZOFFSETFROM:+0100
TZOFFSETTO:+0000
TZNAME:GMT
DTSTART:20261025T010000
END:STANDARD
END:VTIMEZONE
BEGIN:VEVENT
DTSTART;VALUE=DATE:20251022
DTEND;VALUE=DATE:20251023
DTSTAMP:20260420T163838
CREATED:20251022T173554Z
LAST-MODIFIED:20251028T090535Z
UID:29664-1761091200-1761177599@www.beaverstown.com
SUMMARY:Wednesday 14 hole 4 Man Team
DESCRIPTION:Results Sheet\n\n\n\n\n\n\n\n\n\n\n\n\n\nDate :\n22nd of October 2025\n\n\n\n\n\n\n\n\n\n\n\n\nCompetition :\n4 Man Team –\n\n\n\n\n\n\n\n\n\n\n\n\n\n\n\n\n\n\n\nPlace\nName\nPlaying Hcap\nScore\n\n\n\n\n\n\n\n\n\n\nWinners\nBrian Sommerville\n12\n66.5pts\n\n\n\n\nSean McDermott\n7\n(-2.5)\n\n\n\n\nNeil Philip (V)\n9\n\n\n\n\n\nFintan Hanley (V)\n7\n\n\n\n\n\n\n\n\n\n\n\n\n\n\n\n\n\n\n\n\n\n\n\n\n\nSecond\nRupert Dwyer\n17\n61pts 29b7\n\n\n\n\nBarry Kearns\n18\n(-1)\n\n\n\n\nAaron Dunne\n6\n\n\n\n\n\nSean Roche\n20\n\n\n\n\n\n\n\n\n\n\n\n\n\n\n\n\n\n\nBack 7\nGerry O’Connor\n15\n32pts\n\n\n\n\nJohn Bohan\n10\n\n\n\n\n\nGerry Dowling\n9\n\n\n\n\n\nHarry Keegan\n20\n\n\n\n\n\n\n\n\n\n\n\n\n\n\n\n\n\n\n\n\n\n\n\n\n\n\n\n\n\n\n\n\n\n\n\n\n\n\n\n\n\n\n\n\n\n\n\n\n\n\n\n\n\n86 Members\n\n\n\n\n\n\n6 Visitors
URL:https://www.beaverstown.com/event/wednesday-14-hole-4-man-team/
CATEGORIES:Mens Event
END:VEVENT
END:VCALENDAR