
BEGIN:VCALENDAR
VERSION:2.0
PRODID:-//Beaverstown Golf Club - ECPv6.15.20//NONSGML v1.0//EN
CALSCALE:GREGORIAN
METHOD:PUBLISH
X-ORIGINAL-URL:https://www.beaverstown.com
X-WR-CALDESC:Events for Beaverstown Golf Club
REFRESH-INTERVAL;VALUE=DURATION:PT1H
X-Robots-Tag:noindex
X-PUBLISHED-TTL:PT1H
BEGIN:VTIMEZONE
TZID:Europe/London
BEGIN:DAYLIGHT
TZOFFSETFROM:+0000
TZOFFSETTO:+0100
TZNAME:BST
DTSTART:20240331T010000
END:DAYLIGHT
BEGIN:STANDARD
TZOFFSETFROM:+0100
TZOFFSETTO:+0000
TZNAME:GMT
DTSTART:20241027T010000
END:STANDARD
BEGIN:DAYLIGHT
TZOFFSETFROM:+0000
TZOFFSETTO:+0100
TZNAME:BST
DTSTART:20250330T010000
END:DAYLIGHT
BEGIN:STANDARD
TZOFFSETFROM:+0100
TZOFFSETTO:+0000
TZNAME:GMT
DTSTART:20251026T010000
END:STANDARD
BEGIN:DAYLIGHT
TZOFFSETFROM:+0000
TZOFFSETTO:+0100
TZNAME:BST
DTSTART:20260329T010000
END:DAYLIGHT
BEGIN:STANDARD
TZOFFSETFROM:+0100
TZOFFSETTO:+0000
TZNAME:GMT
DTSTART:20261025T010000
END:STANDARD
END:VTIMEZONE
BEGIN:VEVENT
DTSTART;VALUE=DATE:20251029
DTEND;VALUE=DATE:20251030
DTSTAMP:20260420T163953
CREATED:20251029T180406Z
LAST-MODIFIED:20251029T180406Z
UID:29687-1761696000-1761782399@www.beaverstown.com
SUMMARY:Wednesday 4 Man Team
DESCRIPTION:Results Sheet\n\n\n\n\n\n\n\n\n\n\n\nDate :\n29th of October 2025\n\n\n\n\n\n\n\n\n\n\nCompetition :\n4 Man Team – Reverse Waltz\n\n\n\n\n\n\n\n\n\n\n\n\n\n\n\nPlace\nName\nPlaying Hcap\nScore\n\n\n\n\n\n\n\n\nWinners\nAidan Smith\n18\n66pts\n\n\n\nTom Prendeville\n18\n\n\n\n\nTony Barry\n19\n\n\n\n\nJohn McKenna\n10\n\n\n\n\n\n\n\n\n\n\n\n\n\n\n\n\n\n\n\n\n\nSecond\nPat Shields\n4\n64pts\n\n\n\nPat Ward\n11\n\n\n\n\nJim Kendellan\n9\n\n\n\n\nJohn Cole\n12\n\n\n\n\n\n\n\n\n\n\n\n\n\n\n\nThird\nMaurice Fallon\n7\n63.5pts\n\n\n\nJohn Hearne\n18\n(-0.5)\n\n\n\nAaron Dunne\n6\n\n\n\n\nNoel Caroll\n9\n\n\n\n\n\n\n\n\n\n\n\n\n\n\n\nBack 7\nPeter Gallagher\n17\n33pts\n\n\n\nDermot Brady\n17\n\n\n\n\nBrian Lennon\n8\n\n\n\n\nAndy Collinge\n10\n\n\n\n\n\n\n\n\n\n102 played
URL:https://www.beaverstown.com/event/wednesday-4-man-team-35/
CATEGORIES:Mens Event
END:VEVENT
END:VCALENDAR