
BEGIN:VCALENDAR
VERSION:2.0
PRODID:-//Beaverstown Golf Club - ECPv6.15.20//NONSGML v1.0//EN
CALSCALE:GREGORIAN
METHOD:PUBLISH
X-WR-CALNAME:Beaverstown Golf Club
X-ORIGINAL-URL:https://www.beaverstown.com
X-WR-CALDESC:Events for Beaverstown Golf Club
REFRESH-INTERVAL;VALUE=DURATION:PT1H
X-Robots-Tag:noindex
X-PUBLISHED-TTL:PT1H
BEGIN:VTIMEZONE
TZID:Europe/London
BEGIN:DAYLIGHT
TZOFFSETFROM:+0000
TZOFFSETTO:+0100
TZNAME:BST
DTSTART:20240331T010000
END:DAYLIGHT
BEGIN:STANDARD
TZOFFSETFROM:+0100
TZOFFSETTO:+0000
TZNAME:GMT
DTSTART:20241027T010000
END:STANDARD
BEGIN:DAYLIGHT
TZOFFSETFROM:+0000
TZOFFSETTO:+0100
TZNAME:BST
DTSTART:20250330T010000
END:DAYLIGHT
BEGIN:STANDARD
TZOFFSETFROM:+0100
TZOFFSETTO:+0000
TZNAME:GMT
DTSTART:20251026T010000
END:STANDARD
BEGIN:DAYLIGHT
TZOFFSETFROM:+0000
TZOFFSETTO:+0100
TZNAME:BST
DTSTART:20260329T010000
END:DAYLIGHT
BEGIN:STANDARD
TZOFFSETFROM:+0100
TZOFFSETTO:+0000
TZNAME:GMT
DTSTART:20261025T010000
END:STANDARD
END:VTIMEZONE
BEGIN:VEVENT
DTSTART;TZID=Europe/London:20251108T080000
DTEND;TZID=Europe/London:20251108T133000
DTSTAMP:20260420T205059
CREATED:20251109T105731Z
LAST-MODIFIED:20251109T105731Z
UID:29714-1762588800-1762608600@www.beaverstown.com
SUMMARY:Mens 12 Hole Singles Stableford
DESCRIPTION:Results Sheet\n\n\n\n\n\n\n\n\n\n\n\nDate :\nSaturday 08 Nov 2025\n\n\n\n\n\n\n\n\n\n\nCompetition :\n18 Hole Singles Stableford\n\n\n\n\n\n\n\n\n\n\n\n\n\n\n\n\nPlace\nName\nPlaying Hcap\nScore\n\n\n\n\n\n\n\n\n1st Div 1\nPat Shields\n4\n27pts\n\n\n2nd Div 1\nBarry Smith\n4\n25pts\n\n\n\n\n\n\n\n\n1st Div 2\nEoin Boyle\n9\n27pts\n\n\n2nd Div 2\nAndrew Byrne\n12\n26pts\n\n\n\n\n\n\n\n\n1st Div 3\nCraig Walsh\n22\n27pts\n\n\n2nd Div 3\nPeter Gallagher\n16\n23pts\n\n\n\n\n\n\n\n\n\n\n\n\n\n\n64 played
URL:https://www.beaverstown.com/event/mens-12-hole-singles-stableford-3/
CATEGORIES:Mens Event
END:VEVENT
BEGIN:VEVENT
DTSTART;TZID=Europe/London:20251108T080000
DTEND;TZID=Europe/London:20251108T170000
DTSTAMP:20260420T205059
CREATED:20251108T172202Z
LAST-MODIFIED:20251108T172202Z
UID:29712-1762588800-1762621200@www.beaverstown.com
SUMMARY:Ladies 14 Hole SF
DESCRIPTION:Prize\nScore\nName\nPlaying H/C\n\n\n1st\n24\nEmer Manton\n32\n\n\n2nd\n22\nGillian Harris\n18 \n \n\n\n18 played\n \n \n 
URL:https://www.beaverstown.com/event/ladies-14-hole-sf/
CATEGORIES:Ladies-Event
END:VEVENT
END:VCALENDAR