
BEGIN:VCALENDAR
VERSION:2.0
PRODID:-//Beaverstown Golf Club - ECPv6.15.20//NONSGML v1.0//EN
CALSCALE:GREGORIAN
METHOD:PUBLISH
X-ORIGINAL-URL:https://www.beaverstown.com
X-WR-CALDESC:Events for Beaverstown Golf Club
REFRESH-INTERVAL;VALUE=DURATION:PT1H
X-Robots-Tag:noindex
X-PUBLISHED-TTL:PT1H
BEGIN:VTIMEZONE
TZID:Europe/London
BEGIN:DAYLIGHT
TZOFFSETFROM:+0000
TZOFFSETTO:+0100
TZNAME:BST
DTSTART:20240331T010000
END:DAYLIGHT
BEGIN:STANDARD
TZOFFSETFROM:+0100
TZOFFSETTO:+0000
TZNAME:GMT
DTSTART:20241027T010000
END:STANDARD
BEGIN:DAYLIGHT
TZOFFSETFROM:+0000
TZOFFSETTO:+0100
TZNAME:BST
DTSTART:20250330T010000
END:DAYLIGHT
BEGIN:STANDARD
TZOFFSETFROM:+0100
TZOFFSETTO:+0000
TZNAME:GMT
DTSTART:20251026T010000
END:STANDARD
BEGIN:DAYLIGHT
TZOFFSETFROM:+0000
TZOFFSETTO:+0100
TZNAME:BST
DTSTART:20260329T010000
END:DAYLIGHT
BEGIN:STANDARD
TZOFFSETFROM:+0100
TZOFFSETTO:+0000
TZNAME:GMT
DTSTART:20261025T010000
END:STANDARD
END:VTIMEZONE
BEGIN:VEVENT
DTSTART;TZID=Europe/London:20251109T080000
DTEND;TZID=Europe/London:20251109T123000
DTSTAMP:20260420T205616
CREATED:20251109T190242Z
LAST-MODIFIED:20251109T190242Z
UID:29721-1762675200-1762691400@www.beaverstown.com
SUMMARY:9 Hole Singles Stableford
DESCRIPTION:Results Sheet\n\n\n\n\n\n\n\n\n\n\n\nDate :\nSunday 09 November 2025\n\n\n\n\n\n\n\n\n\n\nCompetition :\n9 Hole Singles Stableford\n\n\n\n\n\n\n\n\n\n\n\n\n\n\n\n\nPlace\nName\nPlaying Hcap\nScore\n\n\n\n\n\n\n\n\n1st Div 1\nBarry Kiely\n5\n21pts ob1\n\n\n2nd Div 1\nJames Fleming\n4\n21pts\n\n\n\n\n\n\n\n\n1st Div 2\nRonan Moran\n7\n20pts\n\n\n2nd Div 2\nPeter Kelly\n8\n19pts\n\n\n\n\n\n\n\n\n1st Div 3\nPhilip Weinmann\n12\n21pts ob6\n\n\n2nd Div 3\nHarry Keegan\n13\n21pts\n\n\n\n\n\n\n\n\n78 played
URL:https://www.beaverstown.com/event/9-hole-singles-stableford-7/
CATEGORIES:Mens Event
END:VEVENT
BEGIN:VEVENT
DTSTART;TZID=Europe/London:20251109T080000
DTEND;TZID=Europe/London:20251109T170000
DTSTAMP:20260420T205616
CREATED:20251109T163805Z
LAST-MODIFIED:20251109T163805Z
UID:29717-1762675200-1762707600@www.beaverstown.com
SUMMARY:
DESCRIPTION:Prize\nScore\nName\nPlaying H/C\n\n\nDiv 1\n 21 pts\nSiobhán Prout Dunleavy\n24\n\n\nDiv 2\n21 pts\nEmer Manton\n32\n\n\nDiv 3\n15 pts\nEvelyn Bannon\n36\n\n\n \n \n \n \n\n\n \n \n \n \n\n\n \n \n \n \n\n\n \n \n \n \n\n\n \n \n \n \n\n\n \n \n \n \n\n\n \n \n \n \n\n\n28 played\n \n \n 
URL:https://www.beaverstown.com/event/29717/
CATEGORIES:Ladies-Event
END:VEVENT
END:VCALENDAR