
BEGIN:VCALENDAR
VERSION:2.0
PRODID:-//Beaverstown Golf Club - ECPv6.15.20//NONSGML v1.0//EN
CALSCALE:GREGORIAN
METHOD:PUBLISH
X-WR-CALNAME:Beaverstown Golf Club
X-ORIGINAL-URL:https://www.beaverstown.com
X-WR-CALDESC:Events for Beaverstown Golf Club
REFRESH-INTERVAL;VALUE=DURATION:PT1H
X-Robots-Tag:noindex
X-PUBLISHED-TTL:PT1H
BEGIN:VTIMEZONE
TZID:Europe/London
BEGIN:DAYLIGHT
TZOFFSETFROM:+0000
TZOFFSETTO:+0100
TZNAME:BST
DTSTART:20240331T010000
END:DAYLIGHT
BEGIN:STANDARD
TZOFFSETFROM:+0100
TZOFFSETTO:+0000
TZNAME:GMT
DTSTART:20241027T010000
END:STANDARD
BEGIN:DAYLIGHT
TZOFFSETFROM:+0000
TZOFFSETTO:+0100
TZNAME:BST
DTSTART:20250330T010000
END:DAYLIGHT
BEGIN:STANDARD
TZOFFSETFROM:+0100
TZOFFSETTO:+0000
TZNAME:GMT
DTSTART:20251026T010000
END:STANDARD
BEGIN:DAYLIGHT
TZOFFSETFROM:+0000
TZOFFSETTO:+0100
TZNAME:BST
DTSTART:20260329T010000
END:DAYLIGHT
BEGIN:STANDARD
TZOFFSETFROM:+0100
TZOFFSETTO:+0000
TZNAME:GMT
DTSTART:20261025T010000
END:STANDARD
END:VTIMEZONE
BEGIN:VEVENT
DTSTART;TZID=Europe/London:20251110T080000
DTEND;TZID=Europe/London:20251110T130000
DTSTAMP:20260420T205049
CREATED:20251112T193410Z
LAST-MODIFIED:20251112T193548Z
UID:29723-1762761600-1762779600@www.beaverstown.com
SUMMARY:9 Hole Mixed Open Singles Stableford
DESCRIPTION:Results Sheet\n\n\n\n\n\n\n\n\n\n\n\nDate :\nMonday 10 Nov 2025\n\n\n\n\n\n\n\n\n\n\nCompetition :\n9 Hole Open Singles Stableford\n\n\n\n\n\n\n\n\n\n\n\n\n\n\n\nPlace\nName\nPlaying Hcap\nScore\n\n\n\n\n\n\n\n\n1st\nNoel Carroll\n6\n21pts\n\n\n2nd\nEmmet White (V)\n7\n19pts  ob6\n\n\n3rd\nPatrick Ryan\n9\n19pts\n\n\n\n\n\n\n\n\n\n\n\n\n\n\n31 Members\n\n\n\n\n\n5 Visitors
URL:https://www.beaverstown.com/event/9-hole-mixed-open-singles-stableford/
CATEGORIES:Joint Event
END:VEVENT
END:VCALENDAR