
BEGIN:VCALENDAR
VERSION:2.0
PRODID:-//Beaverstown Golf Club - ECPv6.15.20//NONSGML v1.0//EN
CALSCALE:GREGORIAN
METHOD:PUBLISH
X-WR-CALNAME:Beaverstown Golf Club
X-ORIGINAL-URL:https://www.beaverstown.com
X-WR-CALDESC:Events for Beaverstown Golf Club
REFRESH-INTERVAL;VALUE=DURATION:PT1H
X-Robots-Tag:noindex
X-PUBLISHED-TTL:PT1H
BEGIN:VTIMEZONE
TZID:Europe/London
BEGIN:DAYLIGHT
TZOFFSETFROM:+0000
TZOFFSETTO:+0100
TZNAME:BST
DTSTART:20240331T010000
END:DAYLIGHT
BEGIN:STANDARD
TZOFFSETFROM:+0100
TZOFFSETTO:+0000
TZNAME:GMT
DTSTART:20241027T010000
END:STANDARD
BEGIN:DAYLIGHT
TZOFFSETFROM:+0000
TZOFFSETTO:+0100
TZNAME:BST
DTSTART:20250330T010000
END:DAYLIGHT
BEGIN:STANDARD
TZOFFSETFROM:+0100
TZOFFSETTO:+0000
TZNAME:GMT
DTSTART:20251026T010000
END:STANDARD
BEGIN:DAYLIGHT
TZOFFSETFROM:+0000
TZOFFSETTO:+0100
TZNAME:BST
DTSTART:20260329T010000
END:DAYLIGHT
BEGIN:STANDARD
TZOFFSETFROM:+0100
TZOFFSETTO:+0000
TZNAME:GMT
DTSTART:20261025T010000
END:STANDARD
END:VTIMEZONE
BEGIN:VEVENT
DTSTART;TZID=Europe/London:20251118T080000
DTEND;TZID=Europe/London:20251118T170000
DTSTAMP:20260420T205053
CREATED:20251119T132704Z
LAST-MODIFIED:20251119T132704Z
UID:29729-1763452800-1763485200@www.beaverstown.com
SUMMARY:Ladies 12 holes S/F & Winter League
DESCRIPTION:Prize\nScore\nName\nPlaying \nHcap\n\n\nOverall winner\n23\nMary Kirwan\n40\n\n\n \n \n \n \n\n\nDivision 1\n16\nTracy Kelly\n19\n\n\nDivision 2\n19\nMags Kelly\n27\n\n\nDivision 3\n19\nClaire Gallagher\n44\n\n\n \n \n \n \n\n\n \n \n \n \n\n\n \n \n \n \n\n\n35 Played\n \n \n 
URL:https://www.beaverstown.com/event/ladies-12-holes-s-f-winter-league/
CATEGORIES:Ladies-Event
END:VEVENT
BEGIN:VEVENT
DTSTART;TZID=Europe/London:20251118T080000
DTEND;TZID=Europe/London:20251118T170000
DTSTAMP:20260420T205053
CREATED:20251119T142002Z
LAST-MODIFIED:20251119T142002Z
UID:29731-1763452800-1763485200@www.beaverstown.com
SUMMARY:Ladies 9 Holes S/F
DESCRIPTION:Prize\nScore\nName\nPlaying H’cap\n\n\n1st\n17               \nJo Scott\n30\n\n\n2nd\n16\nLinda Jones Cowley\n54\n\n\n \n \n \n \n\n\n \n \n \n \n\n\n \n \n \n \n\n\n \n \n \n \n\n\n23 Played\n \n \n 
URL:https://www.beaverstown.com/event/ladies-9-holes-s-f/
CATEGORIES:Ladies-Event
END:VEVENT
END:VCALENDAR