
BEGIN:VCALENDAR
VERSION:2.0
PRODID:-//Beaverstown Golf Club - ECPv6.15.20//NONSGML v1.0//EN
CALSCALE:GREGORIAN
METHOD:PUBLISH
X-ORIGINAL-URL:https://www.beaverstown.com
X-WR-CALDESC:Events for Beaverstown Golf Club
REFRESH-INTERVAL;VALUE=DURATION:PT1H
X-Robots-Tag:noindex
X-PUBLISHED-TTL:PT1H
BEGIN:VTIMEZONE
TZID:Europe/London
BEGIN:DAYLIGHT
TZOFFSETFROM:+0000
TZOFFSETTO:+0100
TZNAME:BST
DTSTART:20240331T010000
END:DAYLIGHT
BEGIN:STANDARD
TZOFFSETFROM:+0100
TZOFFSETTO:+0000
TZNAME:GMT
DTSTART:20241027T010000
END:STANDARD
BEGIN:DAYLIGHT
TZOFFSETFROM:+0000
TZOFFSETTO:+0100
TZNAME:BST
DTSTART:20250330T010000
END:DAYLIGHT
BEGIN:STANDARD
TZOFFSETFROM:+0100
TZOFFSETTO:+0000
TZNAME:GMT
DTSTART:20251026T010000
END:STANDARD
BEGIN:DAYLIGHT
TZOFFSETFROM:+0000
TZOFFSETTO:+0100
TZNAME:BST
DTSTART:20260329T010000
END:DAYLIGHT
BEGIN:STANDARD
TZOFFSETFROM:+0100
TZOFFSETTO:+0000
TZNAME:GMT
DTSTART:20261025T010000
END:STANDARD
END:VTIMEZONE
BEGIN:VEVENT
DTSTART;VALUE=DATE:20251119
DTEND;VALUE=DATE:20251120
DTSTAMP:20260420T205156
CREATED:20251119T175333Z
LAST-MODIFIED:20251119T175333Z
UID:29733-1763510400-1763596799@www.beaverstown.com
SUMMARY:Wednesday 4 Man Team Waltz
DESCRIPTION:Results Sheet\n\nDate : 19th of November 2025\n\nCompetition :4 Man Team – Waltz\n\n\nPlace Name Playing Hcap Score\n\nWinners Dermot Molphy 13 59pts\nFrank McCabe11\nPat Shields3\nGerry O’Connor14\n\n\n\nSecond Philip Maher 11 55pts\nVinny Arkins5\nTrevor Russell4\nNoel Hannigan14\n\n\nThird Jim Bradshaw 8 52pts\nTom Dwyer13\nDes Hickey14\nAndy Collinge9\n\n\nBack 6 Aidan Byrne 9 26pts\nPaul Molloy7\nJoe Mooney6\nPaul Martin\n\n92 members
URL:https://www.beaverstown.com/event/wednesday-4-man-team-waltz-4/
CATEGORIES:Mens Event
END:VEVENT
END:VCALENDAR