
BEGIN:VCALENDAR
VERSION:2.0
PRODID:-//Beaverstown Golf Club - ECPv6.15.20//NONSGML v1.0//EN
CALSCALE:GREGORIAN
METHOD:PUBLISH
X-ORIGINAL-URL:https://www.beaverstown.com
X-WR-CALDESC:Events for Beaverstown Golf Club
REFRESH-INTERVAL;VALUE=DURATION:PT1H
X-Robots-Tag:noindex
X-PUBLISHED-TTL:PT1H
BEGIN:VTIMEZONE
TZID:Europe/London
BEGIN:DAYLIGHT
TZOFFSETFROM:+0000
TZOFFSETTO:+0100
TZNAME:BST
DTSTART:20240331T010000
END:DAYLIGHT
BEGIN:STANDARD
TZOFFSETFROM:+0100
TZOFFSETTO:+0000
TZNAME:GMT
DTSTART:20241027T010000
END:STANDARD
BEGIN:DAYLIGHT
TZOFFSETFROM:+0000
TZOFFSETTO:+0100
TZNAME:BST
DTSTART:20250330T010000
END:DAYLIGHT
BEGIN:STANDARD
TZOFFSETFROM:+0100
TZOFFSETTO:+0000
TZNAME:GMT
DTSTART:20251026T010000
END:STANDARD
BEGIN:DAYLIGHT
TZOFFSETFROM:+0000
TZOFFSETTO:+0100
TZNAME:BST
DTSTART:20260329T010000
END:DAYLIGHT
BEGIN:STANDARD
TZOFFSETFROM:+0100
TZOFFSETTO:+0000
TZNAME:GMT
DTSTART:20261025T010000
END:STANDARD
END:VTIMEZONE
BEGIN:VEVENT
DTSTART;TZID=Europe/London:20251206T080000
DTEND;TZID=Europe/London:20251206T140000
DTSTAMP:20260421T213532
CREATED:20251207T144732Z
LAST-MODIFIED:20251207T144732Z
UID:29780-1765008000-1765029600@www.beaverstown.com
SUMMARY:Mens 12H Singles Stableford
DESCRIPTION:Date :\nSat 06 Dec 2025\n\n\n\n\n\n\n\n\n\n\nCompetition :\n12 Hole Singles Stableford\n\n\n\n\n\n\n\n\n\n\n\n\n\n\n\n\nPlace\nName\nPlaying Hcap\nScore\n\n\n\n\n\n\n\n\n1st Div 1\nJames O’Donnell\n5\n29pts\n\n\n2nd Div 1\nPaul Nimmo\n3\n25pts ob6\n\n\n\n\n\n\n\n\n1st Div 2\nAidan Byrne\n9\n25pts\n\n\n2nd Div 2\nJohn McKenna\n9\n24pts\n\n\n\n\n\n\n\n\n1st Div 3\nSean McEvoy\n16\n25pts\n\n\n2nd Div 3\nThomas Sheridan\n14\n24pts ob6\n\n\n\n\n\n\n\n\n\n\n\n\n\n\n\n\n\n\n\n\n52 played
URL:https://www.beaverstown.com/event/mens-12h-singles-stableford-3/
CATEGORIES:Mens Event
END:VEVENT
END:VCALENDAR