
BEGIN:VCALENDAR
VERSION:2.0
PRODID:-//Beaverstown Golf Club - ECPv6.15.20//NONSGML v1.0//EN
CALSCALE:GREGORIAN
METHOD:PUBLISH
X-WR-CALNAME:Beaverstown Golf Club
X-ORIGINAL-URL:https://www.beaverstown.com
X-WR-CALDESC:Events for Beaverstown Golf Club
REFRESH-INTERVAL;VALUE=DURATION:PT1H
X-Robots-Tag:noindex
X-PUBLISHED-TTL:PT1H
BEGIN:VTIMEZONE
TZID:Europe/London
BEGIN:DAYLIGHT
TZOFFSETFROM:+0000
TZOFFSETTO:+0100
TZNAME:BST
DTSTART:20250330T010000
END:DAYLIGHT
BEGIN:STANDARD
TZOFFSETFROM:+0100
TZOFFSETTO:+0000
TZNAME:GMT
DTSTART:20251026T010000
END:STANDARD
BEGIN:DAYLIGHT
TZOFFSETFROM:+0000
TZOFFSETTO:+0100
TZNAME:BST
DTSTART:20260329T010000
END:DAYLIGHT
BEGIN:STANDARD
TZOFFSETFROM:+0100
TZOFFSETTO:+0000
TZNAME:GMT
DTSTART:20261025T010000
END:STANDARD
BEGIN:DAYLIGHT
TZOFFSETFROM:+0000
TZOFFSETTO:+0100
TZNAME:BST
DTSTART:20270328T010000
END:DAYLIGHT
BEGIN:STANDARD
TZOFFSETFROM:+0100
TZOFFSETTO:+0000
TZNAME:GMT
DTSTART:20271031T010000
END:STANDARD
END:VTIMEZONE
BEGIN:VEVENT
DTSTART;TZID=Europe/London:20260111T080000
DTEND;TZID=Europe/London:20260111T170000
DTSTAMP:20260422T060141
CREATED:20260113T161902Z
LAST-MODIFIED:20260113T161902Z
UID:29868-1768118400-1768150800@www.beaverstown.com
SUMMARY:Ladies 10 hole S/F
DESCRIPTION:Prize\nScore\nName\nPlaying H’cap\n\n\n1st\n21\nCiara McCormack\n15\n\n\n2nd\n17\nShiela Dunne\n24\n\n\n \n \n \n \n\n\n \n \n \n \n\n\n \n \n \n \n\n\n \n \n \n \n\n\n20 Played\n \n \n 
URL:https://www.beaverstown.com/event/ladies-10-hole-s-f/
CATEGORIES:Ladies-Event
END:VEVENT
BEGIN:VEVENT
DTSTART;TZID=Europe/London:20260111T083000
DTEND;TZID=Europe/London:20260111T133000
DTSTAMP:20260422T060141
CREATED:20260112T192525Z
LAST-MODIFIED:20260112T192525Z
UID:29864-1768120200-1768138200@www.beaverstown.com
SUMMARY:10H Singles Stableford
DESCRIPTION:Date :\nSunday 11 Jan 2026\n\n\n\n\n\n\n\n\n\n\nCompetition :\n10 Hole Open Singles Stableford\n\n\n\n\n\n\n\n\n\n\n\n\n\n\n\nPlace\nName\nPlaying Hcap\nScore\n\n\n\n\n\n\n\n\n1st Div 1\nJoe Egan\n6\n28pts\n\n\n2nd Div 1\nColm Horan\n6\n24pts\n\n\n\n\n\n\n\n\n1st Div 2\nSimon Kennedy\n7\n24pts\n\n\n2nd Div 2\nGerry Dowling\n7\n23pts\n\n\n\n\n\n\n\n\n1st Div 3\nCormac Goulding\n10\n25pts\n\n\n2nd Div 3\nRobbie McGuinness\n11\n24pts\n\n\n\n\n\n\n\n\n\n\n\n\n\n\n73 played
URL:https://www.beaverstown.com/event/10h-singles-stableford/
CATEGORIES:Mens Event
END:VEVENT
END:VCALENDAR