
BEGIN:VCALENDAR
VERSION:2.0
PRODID:-//Beaverstown Golf Club - ECPv6.15.20//NONSGML v1.0//EN
CALSCALE:GREGORIAN
METHOD:PUBLISH
X-WR-CALNAME:Beaverstown Golf Club
X-ORIGINAL-URL:https://www.beaverstown.com
X-WR-CALDESC:Events for Beaverstown Golf Club
REFRESH-INTERVAL;VALUE=DURATION:PT1H
X-Robots-Tag:noindex
X-PUBLISHED-TTL:PT1H
BEGIN:VTIMEZONE
TZID:Europe/London
BEGIN:DAYLIGHT
TZOFFSETFROM:+0000
TZOFFSETTO:+0100
TZNAME:BST
DTSTART:20250330T010000
END:DAYLIGHT
BEGIN:STANDARD
TZOFFSETFROM:+0100
TZOFFSETTO:+0000
TZNAME:GMT
DTSTART:20251026T010000
END:STANDARD
BEGIN:DAYLIGHT
TZOFFSETFROM:+0000
TZOFFSETTO:+0100
TZNAME:BST
DTSTART:20260329T010000
END:DAYLIGHT
BEGIN:STANDARD
TZOFFSETFROM:+0100
TZOFFSETTO:+0000
TZNAME:GMT
DTSTART:20261025T010000
END:STANDARD
BEGIN:DAYLIGHT
TZOFFSETFROM:+0000
TZOFFSETTO:+0100
TZNAME:BST
DTSTART:20270328T010000
END:DAYLIGHT
BEGIN:STANDARD
TZOFFSETFROM:+0100
TZOFFSETTO:+0000
TZNAME:GMT
DTSTART:20271031T010000
END:STANDARD
END:VTIMEZONE
BEGIN:VEVENT
DTSTART;TZID=Europe/London:20260112T083000
DTEND;TZID=Europe/London:20260112T130000
DTSTAMP:20260422T060143
CREATED:20260112T190354Z
LAST-MODIFIED:20260112T190354Z
UID:29862-1768206600-1768222800@www.beaverstown.com
SUMMARY:Mixed 10H Open Singles Stableford
DESCRIPTION:Date :\nMonday 12 Jan 2026\n\n\n\n\n\n\n\n\n\n\nCompetition :\n10 Hole Open Singles Stableford\n\n\n\n\n\n\n\n\n\n\n\n\n\n\n\nPlace\nName\nPlaying Hcap\nScore\n\n\n\n\n\n\n\n\n1st Div 1\nJames Martin\n9\n24pts\n\n\n2nd Div 1\nTom Barber\n7\n22pts\n\n\n\n\n\n\n\n\n1st Div 2\nDermot Stone\n11\n24pts\n\n\n2nd Div 2\nRupert Dwyer\n13\n22pts ob5\n\n\n\n\n\n\n\n\n\n\n\n\n\n\n\n\n\n\n\n\n35  members\n\n\n\n\n\n1 visitor
URL:https://www.beaverstown.com/event/mixed-10h-open-singles-stableford/
CATEGORIES:Joint Event
END:VEVENT
END:VCALENDAR