
BEGIN:VCALENDAR
VERSION:2.0
PRODID:-//Beaverstown Golf Club - ECPv6.15.20//NONSGML v1.0//EN
CALSCALE:GREGORIAN
METHOD:PUBLISH
X-WR-CALNAME:Beaverstown Golf Club
X-ORIGINAL-URL:https://www.beaverstown.com
X-WR-CALDESC:Events for Beaverstown Golf Club
REFRESH-INTERVAL;VALUE=DURATION:PT1H
X-Robots-Tag:noindex
X-PUBLISHED-TTL:PT1H
BEGIN:VTIMEZONE
TZID:Europe/London
BEGIN:DAYLIGHT
TZOFFSETFROM:+0000
TZOFFSETTO:+0100
TZNAME:BST
DTSTART:20250330T010000
END:DAYLIGHT
BEGIN:STANDARD
TZOFFSETFROM:+0100
TZOFFSETTO:+0000
TZNAME:GMT
DTSTART:20251026T010000
END:STANDARD
BEGIN:DAYLIGHT
TZOFFSETFROM:+0000
TZOFFSETTO:+0100
TZNAME:BST
DTSTART:20260329T010000
END:DAYLIGHT
BEGIN:STANDARD
TZOFFSETFROM:+0100
TZOFFSETTO:+0000
TZNAME:GMT
DTSTART:20261025T010000
END:STANDARD
BEGIN:DAYLIGHT
TZOFFSETFROM:+0000
TZOFFSETTO:+0100
TZNAME:BST
DTSTART:20270328T010000
END:DAYLIGHT
BEGIN:STANDARD
TZOFFSETFROM:+0100
TZOFFSETTO:+0000
TZNAME:GMT
DTSTART:20271031T010000
END:STANDARD
END:VTIMEZONE
BEGIN:VEVENT
DTSTART;TZID=Europe/London:20260203T080000
DTEND;TZID=Europe/London:20260203T170000
DTSTAMP:20260422T130201
CREATED:20260203T152324Z
LAST-MODIFIED:20260203T152324Z
UID:29881-1770105600-1770138000@www.beaverstown.com
SUMMARY:Ladies 10 Hole S/F
DESCRIPTION:Prize\nScore\nName\nPlaying H’cap\n\n\n1st (ocb)\n13\nClaire Gallagher\n43\n\n\n \n \n \n \n\n\n \n \n \n \n\n\n \n \n \n \n\n\n \n \n \n 
URL:https://www.beaverstown.com/event/ladies-10-hole-s-f-2/
CATEGORIES:Ladies-Event
END:VEVENT
END:VCALENDAR