
BEGIN:VCALENDAR
VERSION:2.0
PRODID:-//Beaverstown Golf Club - ECPv6.15.20//NONSGML v1.0//EN
CALSCALE:GREGORIAN
METHOD:PUBLISH
X-WR-CALNAME:Beaverstown Golf Club
X-ORIGINAL-URL:https://www.beaverstown.com
X-WR-CALDESC:Events for Beaverstown Golf Club
REFRESH-INTERVAL;VALUE=DURATION:PT1H
X-Robots-Tag:noindex
X-PUBLISHED-TTL:PT1H
BEGIN:VTIMEZONE
TZID:Europe/London
BEGIN:DAYLIGHT
TZOFFSETFROM:+0000
TZOFFSETTO:+0100
TZNAME:BST
DTSTART:20250330T010000
END:DAYLIGHT
BEGIN:STANDARD
TZOFFSETFROM:+0100
TZOFFSETTO:+0000
TZNAME:GMT
DTSTART:20251026T010000
END:STANDARD
BEGIN:DAYLIGHT
TZOFFSETFROM:+0000
TZOFFSETTO:+0100
TZNAME:BST
DTSTART:20260329T010000
END:DAYLIGHT
BEGIN:STANDARD
TZOFFSETFROM:+0100
TZOFFSETTO:+0000
TZNAME:GMT
DTSTART:20261025T010000
END:STANDARD
BEGIN:DAYLIGHT
TZOFFSETFROM:+0000
TZOFFSETTO:+0100
TZNAME:BST
DTSTART:20270328T010000
END:DAYLIGHT
BEGIN:STANDARD
TZOFFSETFROM:+0100
TZOFFSETTO:+0000
TZNAME:GMT
DTSTART:20271031T010000
END:STANDARD
END:VTIMEZONE
BEGIN:VEVENT
DTSTART;TZID=Europe/London:20260404T080000
DTEND;TZID=Europe/London:20260404T140000
DTSTAMP:20260421T145632
CREATED:20260405T122001Z
LAST-MODIFIED:20260405T122001Z
UID:30004-1775289600-1775311200@www.beaverstown.com
SUMMARY:Easter Mixed Pinehurst Foursomes
DESCRIPTION:Results Sheet\n\n\n\n\n\n\n\n\n\n\n\nDate :\nSaturday 04 April 2026\n\n\n\n\n\n\n\n\n\n\nCompetition :\nEaster Mixed Pinehurst Foursomes\n\n\n\n\n\n\n\n\n\n\n\n\n\n\n\nPlace\nName\nPlaying Hcap\nScore\n\n\n\n\n\n\n\n\n1st place\nMaria Keane\n23\n67 nett\n\n\n\nPadraig Keane\n\n\n\n\n\n\n\n\n2nd place\nMairead Frew\n27\n69 nett\n\n\n\nDavid Frew\n\n\n\n\n\n\n\n\nGross\nMaeve Lambe\n18\n90 gross\n\n\n\nPat Lambe\n\n\n\n\n\n\n\n\n\n\n\n\n\n\n\n\n\n\n\n\n22 played
URL:https://www.beaverstown.com/event/easter-mixed-pinehurst-foursomes/
CATEGORIES:Joint Event
END:VEVENT
END:VCALENDAR