
BEGIN:VCALENDAR
VERSION:2.0
PRODID:-//Beaverstown Golf Club - ECPv6.15.20//NONSGML v1.0//EN
CALSCALE:GREGORIAN
METHOD:PUBLISH
X-ORIGINAL-URL:https://www.beaverstown.com
X-WR-CALDESC:Events for Beaverstown Golf Club
REFRESH-INTERVAL;VALUE=DURATION:PT1H
X-Robots-Tag:noindex
X-PUBLISHED-TTL:PT1H
BEGIN:VTIMEZONE
TZID:Europe/London
BEGIN:DAYLIGHT
TZOFFSETFROM:+0000
TZOFFSETTO:+0100
TZNAME:BST
DTSTART:20250330T010000
END:DAYLIGHT
BEGIN:STANDARD
TZOFFSETFROM:+0100
TZOFFSETTO:+0000
TZNAME:GMT
DTSTART:20251026T010000
END:STANDARD
BEGIN:DAYLIGHT
TZOFFSETFROM:+0000
TZOFFSETTO:+0100
TZNAME:BST
DTSTART:20260329T010000
END:DAYLIGHT
BEGIN:STANDARD
TZOFFSETFROM:+0100
TZOFFSETTO:+0000
TZNAME:GMT
DTSTART:20261025T010000
END:STANDARD
BEGIN:DAYLIGHT
TZOFFSETFROM:+0000
TZOFFSETTO:+0100
TZNAME:BST
DTSTART:20270328T010000
END:DAYLIGHT
BEGIN:STANDARD
TZOFFSETFROM:+0100
TZOFFSETTO:+0000
TZNAME:GMT
DTSTART:20271031T010000
END:STANDARD
END:VTIMEZONE
BEGIN:VEVENT
DTSTART;VALUE=DATE:20260407
DTEND;VALUE=DATE:20260408
DTSTAMP:20260421T185827
CREATED:20260407T184856Z
LAST-MODIFIED:20260407T184856Z
UID:30013-1775520000-1775606399@www.beaverstown.com
SUMMARY:18 hole SF Ladies
DESCRIPTION:Div 1  Sheila Dowling  33pts   HC19 \nDiv 2 Anne Neville  30pts ocb  HC 30 \nDiv 3  Caroline Comerford  HC  35
URL:https://www.beaverstown.com/event/18-hole-sf-ladies/
CATEGORIES:Ladies-Event
END:VEVENT
BEGIN:VEVENT
DTSTART;VALUE=DATE:20260407
DTEND;VALUE=DATE:20260408
DTSTAMP:20260421T185827
CREATED:20260407T190923Z
LAST-MODIFIED:20260407T190923Z
UID:30015-1775520000-1775606399@www.beaverstown.com
SUMMARY:9 Hole Singles S/F
DESCRIPTION:1st  Clodagh Patterson  18pts ocb  HC  28 \n2nd Marie Judge  18pts ocb  HC 27
URL:https://www.beaverstown.com/event/9-hole-singles-s-f-2/
CATEGORIES:Ladies-Event
END:VEVENT
END:VCALENDAR