
BEGIN:VCALENDAR
VERSION:2.0
PRODID:-//Beaverstown Golf Club - ECPv6.15.20//NONSGML v1.0//EN
CALSCALE:GREGORIAN
METHOD:PUBLISH
X-WR-CALNAME:Beaverstown Golf Club
X-ORIGINAL-URL:https://www.beaverstown.com
X-WR-CALDESC:Events for Beaverstown Golf Club
REFRESH-INTERVAL;VALUE=DURATION:PT1H
X-Robots-Tag:noindex
X-PUBLISHED-TTL:PT1H
BEGIN:VTIMEZONE
TZID:Europe/London
BEGIN:DAYLIGHT
TZOFFSETFROM:+0000
TZOFFSETTO:+0100
TZNAME:BST
DTSTART:20250330T010000
END:DAYLIGHT
BEGIN:STANDARD
TZOFFSETFROM:+0100
TZOFFSETTO:+0000
TZNAME:GMT
DTSTART:20251026T010000
END:STANDARD
BEGIN:DAYLIGHT
TZOFFSETFROM:+0000
TZOFFSETTO:+0100
TZNAME:BST
DTSTART:20260329T010000
END:DAYLIGHT
BEGIN:STANDARD
TZOFFSETFROM:+0100
TZOFFSETTO:+0000
TZNAME:GMT
DTSTART:20261025T010000
END:STANDARD
BEGIN:DAYLIGHT
TZOFFSETFROM:+0000
TZOFFSETTO:+0100
TZNAME:BST
DTSTART:20270328T010000
END:DAYLIGHT
BEGIN:STANDARD
TZOFFSETFROM:+0100
TZOFFSETTO:+0000
TZNAME:GMT
DTSTART:20271031T010000
END:STANDARD
END:VTIMEZONE
BEGIN:VEVENT
DTSTART;TZID=Europe/London:20260411T080000
DTEND;TZID=Europe/London:20260411T130000
DTSTAMP:20260421T145749
CREATED:20260411T205644Z
LAST-MODIFIED:20260411T205644Z
UID:30023-1775894400-1775912400@www.beaverstown.com
SUMMARY:Men's Singles Stableford
DESCRIPTION:Results Sheet\n\n\n\n\n\n\n\n\n\n\n\nDate :\nSaturday 11 April 2026\n\n\n\n\n\n\n\n\n\n\nCompetition :\n18 Hole Singles Stableford\n\n\n\n\n\n\n\n\n\n\n\n\n\n\n\n\nPlace\nName\nPlaying Hcap\nScore\n\n\n\n\n\n\n\n\n1st Div 1\nAidan O’Regan\n5\n40pts\n\n\n2nd Div 1\nDavid Dolan\n2\n39pts\n\n\n3rd Div 1\nTom Collins\n9\n38pts\n\n\n\n\n\n\n\n\n1st Div 2\nGarrett O’Brien\n12\n45pts\n\n\n2nd Div 2\nKieron Keary\n13\n39pts\n\n\n3rd Div 2\nGerry Fitzpatrick\n11\n38pts ob9\n\n\n\n\n\n\n\n\n1st Div 3\nAndrew Byrne\n18\n36pts\n\n\n2nd Div 3\nDan Lynott\n17\n33pts ob6\n\n\n3rd Div 3\nNeil Holohan\n15\n33pts ob9\n\n\n\n\n\n\n\n\n1st Div 4\nSean McEvoy\n24\n37pts\n\n\n2nd Div 4\nDermot Brady\n23\n36pts ob9\n\n\n3rd Div 4\nMark Seagrave\n28\n36pts ob6\n\n\n\n\n\n\n\n\n\n\n\n\n\n\n89 played
URL:https://www.beaverstown.com/event/mens-singles-stableford-2/
CATEGORIES:Mens Event
END:VEVENT
END:VCALENDAR