
BEGIN:VCALENDAR
VERSION:2.0
PRODID:-//Beaverstown Golf Club - ECPv6.15.20//NONSGML v1.0//EN
CALSCALE:GREGORIAN
METHOD:PUBLISH
X-WR-CALNAME:Beaverstown Golf Club
X-ORIGINAL-URL:https://www.beaverstown.com
X-WR-CALDESC:Events for Beaverstown Golf Club
REFRESH-INTERVAL;VALUE=DURATION:PT1H
X-Robots-Tag:noindex
X-PUBLISHED-TTL:PT1H
BEGIN:VTIMEZONE
TZID:Europe/London
BEGIN:DAYLIGHT
TZOFFSETFROM:+0000
TZOFFSETTO:+0100
TZNAME:BST
DTSTART:20250330T010000
END:DAYLIGHT
BEGIN:STANDARD
TZOFFSETFROM:+0100
TZOFFSETTO:+0000
TZNAME:GMT
DTSTART:20251026T010000
END:STANDARD
BEGIN:DAYLIGHT
TZOFFSETFROM:+0000
TZOFFSETTO:+0100
TZNAME:BST
DTSTART:20260329T010000
END:DAYLIGHT
BEGIN:STANDARD
TZOFFSETFROM:+0100
TZOFFSETTO:+0000
TZNAME:GMT
DTSTART:20261025T010000
END:STANDARD
BEGIN:DAYLIGHT
TZOFFSETFROM:+0000
TZOFFSETTO:+0100
TZNAME:BST
DTSTART:20270328T010000
END:DAYLIGHT
BEGIN:STANDARD
TZOFFSETFROM:+0100
TZOFFSETTO:+0000
TZNAME:GMT
DTSTART:20271031T010000
END:STANDARD
END:VTIMEZONE
BEGIN:VEVENT
DTSTART;TZID=Europe/London:20260412T080000
DTEND;TZID=Europe/London:20260412T140000
DTSTAMP:20260421T145754
CREATED:20260413T151553Z
LAST-MODIFIED:20260413T151553Z
UID:30025-1775980800-1776002400@www.beaverstown.com
SUMMARY:Sunday Singles Strokeplay
DESCRIPTION:Results Sheet\n\n\n\n\n\n\n\n\n\n\n\nDate :\nSunday 12 April 2026\n\n\n\n\n\n\n\n\n\n\nCompetition :\n18 Hole Singles Strokeplay\n\n\n\n\n\n\n\n\n\n\n\n\n\n\n\nPlace\nName\nPlaying Hcap\nNett Score\n\n\n\n\n\n\n\n\n1st Div 1\nJames O’Donnell\n5\n70\n\n\n2nd Div 1\nJames Fleming\n9\n72\n\n\n\n\n\n\n\n\n1st Div 2\nPatrick Moran\n14\n69\n\n\n2nd Div 2\nDamien Keane\n11\n71\n\n\n\n\n\n\n\n\n1st Div 3\nMichael Diskin\n18\n70\n\n\n2nd Div 3\nDamian Guirke\n16\n71\n\n\n\n\n\n\n\n\n1st Div 4\nGuillaume Rhein\n20\n71\n\n\n2nd Div 4\nBrian Lynch\n29\n75\n\n\n\n\n\n\n\n\n\n\n\n\n\n\n77 played
URL:https://www.beaverstown.com/event/sunday-singles-strokeplay/
CATEGORIES:Mens Event
END:VEVENT
BEGIN:VEVENT
DTSTART;TZID=Europe/London:20260412T080000
DTEND;TZID=Europe/London:20260412T170000
DTSTAMP:20260421T145754
CREATED:20260415T074940Z
LAST-MODIFIED:20260415T074940Z
UID:30030-1775980800-1776013200@www.beaverstown.com
SUMMARY:Ladies 18 Holes Foursomes
DESCRIPTION:Prize\nScore\nName\nH’cap\n\n\n1st\n65.0\nMajorie McCann/Leanne Hannigan\n37\n\n\n \n \n \n \n\n\n \n \n \n \n\n\n \n \n \n \n\n\n \n \n \n \n\n\n \n \n \n \n\n\n \n \n \n \n\n\n \n \n \n \n\n\n \n \n \n \n\n\n8 pairs played\n \n \n 
URL:https://www.beaverstown.com/event/ladies-18-holes-foursomes/
CATEGORIES:Ladies-Event
END:VEVENT
END:VCALENDAR