
BEGIN:VCALENDAR
VERSION:2.0
PRODID:-//Beaverstown Golf Club - ECPv6.15.20//NONSGML v1.0//EN
CALSCALE:GREGORIAN
METHOD:PUBLISH
X-WR-CALNAME:Beaverstown Golf Club
X-ORIGINAL-URL:https://www.beaverstown.com
X-WR-CALDESC:Events for Beaverstown Golf Club
REFRESH-INTERVAL;VALUE=DURATION:PT1H
X-Robots-Tag:noindex
X-PUBLISHED-TTL:PT1H
BEGIN:VTIMEZONE
TZID:Europe/London
BEGIN:DAYLIGHT
TZOFFSETFROM:+0000
TZOFFSETTO:+0100
TZNAME:BST
DTSTART:20250330T010000
END:DAYLIGHT
BEGIN:STANDARD
TZOFFSETFROM:+0100
TZOFFSETTO:+0000
TZNAME:GMT
DTSTART:20251026T010000
END:STANDARD
BEGIN:DAYLIGHT
TZOFFSETFROM:+0000
TZOFFSETTO:+0100
TZNAME:BST
DTSTART:20260329T010000
END:DAYLIGHT
BEGIN:STANDARD
TZOFFSETFROM:+0100
TZOFFSETTO:+0000
TZNAME:GMT
DTSTART:20261025T010000
END:STANDARD
BEGIN:DAYLIGHT
TZOFFSETFROM:+0000
TZOFFSETTO:+0100
TZNAME:BST
DTSTART:20270328T010000
END:DAYLIGHT
BEGIN:STANDARD
TZOFFSETFROM:+0100
TZOFFSETTO:+0000
TZNAME:GMT
DTSTART:20271031T010000
END:STANDARD
END:VTIMEZONE
BEGIN:VEVENT
DTSTART;TZID=Europe/London:20260418T080000
DTEND;TZID=Europe/London:20260418T110000
DTSTAMP:20260421T145630
CREATED:20260418T192020Z
LAST-MODIFIED:20260418T192020Z
UID:30046-1776499200-1776510000@www.beaverstown.com
SUMMARY:Singles Stableford Qualifying
DESCRIPTION:Results Sheet\n\n\n\n\n\n\n\n\n\n\n\nDate :\nSaturday 18 April 2026\n\n\n\n\n\n\n\n\n\n\nCompetition :\n18 Hole Singles Stableford\n\n\n\n\n\n\n\n\n\n\n\n\n\n\n\n\nPlace\nName\nPlaying Hcap\nScore\n\n\n\n\n\n\n\n\n1st Div 1\nGary Lawlor\n1\n42pts\n\n\n2nd Div 1\nBrian O’Rourke\n9\n36pts\n\n\n\n\n\n\n\n\n1st Div 2\nJoe Egan\n11\n35pts\n\n\n2nd Div 2\nGarrett O’Brien\n12\n34pts\n\n\n\n\n\n\n\n\n1st Div 3\nMichael Sweeney\n16\n36pts\n\n\n2nd Div 3\nNeil Holohan\n16\n35pts\n\n\n\n\n\n\n\n\n1st Div 4\nDermot Brady\n23\n36pts\n\n\n2nd Div 4\nJack Caverly\n19\n35pts\n\n\n\n\n\n\n\n\n\n\n\n\n\n\n84 played
URL:https://www.beaverstown.com/event/singles-stableford-qualifying/
CATEGORIES:Mens Event
END:VEVENT
END:VCALENDAR