
BEGIN:VCALENDAR
VERSION:2.0
PRODID:-//Beaverstown Golf Club - ECPv6.15.20//NONSGML v1.0//EN
CALSCALE:GREGORIAN
METHOD:PUBLISH
X-WR-CALNAME:Beaverstown Golf Club
X-ORIGINAL-URL:https://www.beaverstown.com
X-WR-CALDESC:Events for Beaverstown Golf Club
REFRESH-INTERVAL;VALUE=DURATION:PT1H
X-Robots-Tag:noindex
X-PUBLISHED-TTL:PT1H
BEGIN:VTIMEZONE
TZID:Europe/London
BEGIN:DAYLIGHT
TZOFFSETFROM:+0000
TZOFFSETTO:+0100
TZNAME:BST
DTSTART:20240331T010000
END:DAYLIGHT
BEGIN:STANDARD
TZOFFSETFROM:+0100
TZOFFSETTO:+0000
TZNAME:GMT
DTSTART:20241027T010000
END:STANDARD
BEGIN:DAYLIGHT
TZOFFSETFROM:+0000
TZOFFSETTO:+0100
TZNAME:BST
DTSTART:20250330T010000
END:DAYLIGHT
BEGIN:STANDARD
TZOFFSETFROM:+0100
TZOFFSETTO:+0000
TZNAME:GMT
DTSTART:20251026T010000
END:STANDARD
BEGIN:DAYLIGHT
TZOFFSETFROM:+0000
TZOFFSETTO:+0100
TZNAME:BST
DTSTART:20260329T010000
END:DAYLIGHT
BEGIN:STANDARD
TZOFFSETFROM:+0100
TZOFFSETTO:+0000
TZNAME:GMT
DTSTART:20261025T010000
END:STANDARD
END:VTIMEZONE
BEGIN:VEVENT
DTSTART;TZID=Europe/London:20251012T080000
DTEND;TZID=Europe/London:20251012T170000
DTSTAMP:20260421T055908
CREATED:20251012T155532Z
LAST-MODIFIED:20251012T155532Z
UID:29637-1760256000-1760288400@www.beaverstown.com
SUMMARY:Ladies 18 Hole Stableford October 12
DESCRIPTION:Prize\nScore\nName\nH’cap\n\n\n1st\n39pts\nChloe Flanagan\n17\n\n\n2nd \n36pts\nTracy Kelly\n18
URL:https://www.beaverstown.com/event/ladies-18-hole-stableford-october-12/
CATEGORIES:Ladies-Event
END:VEVENT
BEGIN:VEVENT
DTSTART;TZID=Europe/London:20251012T080000
DTEND;TZID=Europe/London:20251012T140000
DTSTAMP:20260421T055908
CREATED:20251012T220122Z
LAST-MODIFIED:20251012T220122Z
UID:29641-1760256000-1760277600@www.beaverstown.com
SUMMARY:Singles Stableford White
DESCRIPTION:Results Sheet\n\n\n\n\n\n\n\n\n\n\n\nDate :\nSunday 12 October 2025\n\n\n\n\n\n\n\n\n\n\nCompetition :\n18 Hole Singles Stableford – White\n\n\n\n\n\n\n\n\n\n\n\n\n\n\n\nPlace\nName\nPlaying Hcap\nScore\n\n\n\n\n\n\n\n\n1st place\nPaul O’Driscoll\n19\n34 pts ob6\n\n\n2nd place\nJohn Grealy\n6\n34 pts ob6\n\n\n3rd place\nNiall Loughran\n15\n34 pts\n\n\n\n\n\n\n\n\n25 played
URL:https://www.beaverstown.com/event/singles-stableford-white-4/
CATEGORIES:Mens Event
END:VEVENT
BEGIN:VEVENT
DTSTART;TZID=Europe/London:20251012T080000
DTEND;TZID=Europe/London:20251012T140000
DTSTAMP:20260421T055908
CREATED:20251012T214536Z
LAST-MODIFIED:20251012T214536Z
UID:29639-1760256000-1760277600@www.beaverstown.com
SUMMARY:Singles Stableford Yellow
DESCRIPTION:Results Sheet\n\n\n\n\n\n\n\n\n\n\n\nDate :\nSunday 12 October 2025\n\n\n\n\n\n\n\n\n\n\nCompetition :\n18 Hole Singles Stableford – Yellow\n\n\n\n\n\n\n\n\n\n\n\n\n\n\n\nPlace\nName\nPlaying Hcap\nScore\n\n\n\n\n\n\n\n\n1st Div 1\nColm Horan\n11\n42 pts\n\n\n2nd Div 1\nJoe Mooney\n11\n40 pts ob9\n\n\n\n\n\n\n\n\n1st Div 2\nMichael O’Leary\n18\n42 pts\n\n\n2nd Div 2\nNeil Holohan\n16\n39 pts\n\n\n\n\n\n\n\n\n1st Div 3\nJim Wylie\n21\n40 pts\n\n\n2nd Div 3\nAndrew Jennings\n25\n38 pts\n\n\n\n\n\n\n\n\n69 played
URL:https://www.beaverstown.com/event/singles-stableford-yellow-15/
CATEGORIES:Mens Event
END:VEVENT
BEGIN:VEVENT
DTSTART;TZID=Europe/London:20251011T080000
DTEND;TZID=Europe/London:20251011T110000
DTSTAMP:20260421T055908
CREATED:20251012T121455Z
LAST-MODIFIED:20251012T121455Z
UID:29634-1760169600-1760180400@www.beaverstown.com
SUMMARY:Singles V Par Yellow
DESCRIPTION:Results Sheet\n\n\n\n\n\n\n\n\n\n\n\n\n\nDate :\nSaturday 11 October 2025\n\n\n\n\n\n\n\n\n\n\nCompetition :\n18 Hole Singles V Par\n\n\n\n\n\n\n\n\n\n\n\n\n\n\n\n\n\n\nPlace\nName\n\nPlaying Hcap\nScore\n\n\n\n\n\n\n\n\n\n1st Div 1\nAidan Rowsome\n\n1\n3 up\n\n\n2nd Div 1\nThomas Masterson\n\n10\n1 up\n\n\n\n\n\n\n\n\n\n1st Div 2\nRedmond Aherne\n\n13\n5 up\n\n\n2nd Div 2\nDavid Jackson\n\n15\n2 up\n\n\n\n\n\n\n\n\n\n1st Div 3\nDeclan Maher\n\n21\n5 up\n\n\n2nd Div 3\nDavid Frew\n\n18\n1 up\n\n\n\n\n\n\n\n\n\n\n\n\n\n\n\n\n58 played
URL:https://www.beaverstown.com/event/singles-v-par-yellow/
CATEGORIES:Mens Event
END:VEVENT
BEGIN:VEVENT
DTSTART;VALUE=DATE:20251008
DTEND;VALUE=DATE:20251009
DTSTAMP:20260421T055908
CREATED:20251008T175948Z
LAST-MODIFIED:20251019T152230Z
UID:29627-1759881600-1759967999@www.beaverstown.com
SUMMARY:Wednesday 4 Man Team Waltz
DESCRIPTION:Results Sheet\n\n\n\n\n\n\n\n\n\n\n\nDate :\n8th of October 2025\n\n\n\n\n\n\n\n\n\n\nCompetition :\n4 Man Team – Waltz\n\n\n\n\n\n\n\n\n\n\n\n\n\n\n\n\nPlace\nName\nPlaying Hcap\nScore\n\n\n\n\n\n\n\n\nWinners\nPaul O’Driscoll\n16\n85.5pts\n\n\n\nMartin Gillett\n16\n(-4.5)\n\n\n\nDermot Molphy\n20\n\n\n\n\nGeorge Moore\n13\n\n\n\n\n\n\n\n\n\n\n\n\n\n\n\n\n\n\n\n\n\nSecond\nTom Barber\n11\n83pts\n\n\n\nMick Fitzpatrick\n21\n(-2)\n\n\n\nBarry Kirwan\n17\n\n\n\n\nPeter Kelly\n15\n\n\n\n\n\n\n\n\n\n\n\n\n\n\n\nThird\nMichael Crawford (V)\n8\n81pts 43b9 7lh\n\n\n\nFintan Kavanagh (V)\n20\n\n\n\n\nJohn McVey (V)\n19\n\n\n\n\nDonald McGee (V)\n21\n\n\n\n\n\n\n\n\n\n\n\n\n\n\n\nBack 9\nHugh McGovern\n12\n43pts\n\n\n\nAidan O’Kennedy\n13\n\n\n\n\nHenry O’Brien\n17\n\n\n\n\nJames Reilly\n26\n\n\n\n\n\n\n\n\n\n96 Members\n\n\n\n\n\n8 Visitors
URL:https://www.beaverstown.com/event/wednesday-4-man-team-waltz-3/
CATEGORIES:Mens Event
END:VEVENT
BEGIN:VEVENT
DTSTART;TZID=Europe/London:20251007T080000
DTEND;TZID=Europe/London:20251007T170000
DTSTAMP:20260421T055908
CREATED:20251011T173333Z
LAST-MODIFIED:20251011T173344Z
UID:29632-1759824000-1759856400@www.beaverstown.com
SUMMARY:9 Hole Stableford
DESCRIPTION:Prize\nScore\nName\nH’cap\n\n\n1st\n18 Pts\nEmer Manton\n16\n\n\n \n \n \n \n\n\n \n \n \n \n\n\n \n \n \n \n\n\n11 Played\n \n \n 
URL:https://www.beaverstown.com/event/9-hole-stableford-7/
CATEGORIES:Ladies-Event
END:VEVENT
BEGIN:VEVENT
DTSTART;TZID=Europe/London:20251007T080000
DTEND;TZID=Europe/London:20251007T170000
DTSTAMP:20260421T055908
CREATED:20251011T170913Z
LAST-MODIFIED:20251011T170913Z
UID:29630-1759824000-1759856400@www.beaverstown.com
SUMMARY:18 Hole Stableford
DESCRIPTION:Prize\nScore\nName\nH’cap\n\n\nDiv 1 \n29 pts\nSheila Dowling\n19\n\n\nDiv 2 \n \n37 pts\nTeresa Hurley\n26\n\n\nDiv 3\n31 pts ocb\nAlice O’Connor\n45\n\n\n  \n \n \n \n \n\n\n \n \n \n \n\n\n \n \n \n \n\n\n \n \n \n \n\n\n \n \n \n \n\n\n \n \n \n \n\n\n31 Played\n \n \n 
URL:https://www.beaverstown.com/event/18-hole-stableford-13/
CATEGORIES:Ladies-Event
END:VEVENT
BEGIN:VEVENT
DTSTART;TZID=Europe/London:20251006T080000
DTEND;TZID=Europe/London:20251006T140000
DTSTAMP:20260421T055908
CREATED:20251006T181855Z
LAST-MODIFIED:20251006T181855Z
UID:29623-1759737600-1759759200@www.beaverstown.com
SUMMARY:Mixed Open Singles Stableford
DESCRIPTION:Results Sheet\n\n\n\n\n\n\n\n\n\n\n\nDate :\nMonday 06 October 2025\n\n\n\n\n\n\n\n\n\n\nCompetition :\n18 Hole Open Singles Stableford\n\n\n\n\n\n\n\n\n\n\n\n\n\n\n\nPlace\nName\nPlaying Hcap\nScore\n\n\n\n\n\n\n\n\n1st Div 1\nJames O’Donnell\n7\n37 pts\n\n\n2nd Div 1\nNoel Carroll\n13\n35 pts\n\n\n\n\n\n\n\n\n1st Div 2\nJohn Mullett\n26\n36 pts\n\n\n2nd Div 2\nPhilip Maher\n17\n34 pts\n\n\n\n\n\n\n\n\n\n\n\n\n\n\n\n\n\n\n\n\n32 members\n\n\n\n\n\n6 visitors
URL:https://www.beaverstown.com/event/mixed-open-singles-stableford-14/
CATEGORIES:Joint Event
END:VEVENT
BEGIN:VEVENT
DTSTART;TZID=Europe/London:20251005T080000
DTEND;TZID=Europe/London:20251005T170000
DTSTAMP:20260421T055908
CREATED:20251007T123636Z
LAST-MODIFIED:20251007T123636Z
UID:29625-1759651200-1759683600@www.beaverstown.com
SUMMARY:18 Hole S/F
DESCRIPTION:1ST  Mandy Stewart 36pts PH 16 \n2nd Emer Manton    30pts  PH32
URL:https://www.beaverstown.com/event/18-hole-s-f/
CATEGORIES:Ladies-Event
END:VEVENT
BEGIN:VEVENT
DTSTART;TZID=Europe/London:20251005T080000
DTEND;TZID=Europe/London:20251005T140000
DTSTAMP:20260421T055908
CREATED:20251005T202642Z
LAST-MODIFIED:20251005T202642Z
UID:29621-1759651200-1759672800@www.beaverstown.com
SUMMARY:Men's Golfer of the Year 2025
DESCRIPTION:Golfer of the Year 2025 – Final Standings top 10\n\n\n\n\n\nPosition\nName and Stableford points totals\nTotal of 10 Top Scores\n\n\n1\nKeith Rowsome\n368\n\n\n2\nAidan Rowsome\n367\n\n\n3\nDerek Dudley\n365\n\n\n4\nPaul Nimmo\n355\n\n\n5\nSean McDermott\n354\n\n\n6\nGary Lawlor\n350\n\n\n7\nDavid Dolan\n345\n\n\n\nDavid Kavanagh\n345\n\n\n9\nDuo Calitz\n344\n\n\n\nBrian McRory\n344\n\n\n\n\n\nGolfer of the Year 2025 – Division Champions\n\n\nDiv 1\nKeith Rowsome (overall winner)\n368\n\n\nDiv 2\nSean McDermott\n354\n\n\nDiv 3\nDerek Dudley\n365\n\n\nDiv 4\nEamonn Kelly\n324\n\n\n\n\n\nDetailed divisional standings will be posted to the website shortly.\n\n\n\n\n\n\n 
URL:https://www.beaverstown.com/event/mens-golfer-of-the-year-2025/
CATEGORIES:Mens Event
END:VEVENT
BEGIN:VEVENT
DTSTART;TZID=Europe/London:20251005T080000
DTEND;TZID=Europe/London:20251005T140000
DTSTAMP:20260421T055908
CREATED:20251005T195551Z
LAST-MODIFIED:20251005T195551Z
UID:29619-1759651200-1759672800@www.beaverstown.com
SUMMARY:Men's October Medal
DESCRIPTION:Results Sheet\n\n\n\n\n\n\n\n\n\n\n\nDate :\nSunday 05 October 2025\n\n\n\n\n\n\n\n\n\n\nCompetition :\nOctober Medal (GOY)\n\n\n\n\n\n\n\n\n\n\n\n\n\n\n\n\n\n\n\n\n\n\nPlace\nName\nPlaying Hcap\nScore\n\n\n\n\n\n\n\n\n1st\nAidan Rowsome\n3\n70\n\n\n2nd\nDermot Mangan\n18\n71\n\n\n3rd\nBrian McRory\n14\n72\n\n\n4th\nKeith Rowsome\n6\n73 ob9\n\n\n\n\n\n\n\n\nGross\nDavid Dolan\n4\n80\n\n\n\n\n\n\n\n\nDiv 1 (0-11)\nMichael Timmins\n11\n74\n\n\nDiv 2 (12-15)\nDerek Dudley\n14\n73\n\n\nDiv 3 (16-19)\nAndrew Pyne\n16\n76\n\n\nDiv 4 (20 +)\nBrian P Kelly\n22\n76\n\n\n\n\n\n\n\n\n99 played
URL:https://www.beaverstown.com/event/mens-october-medal/
CATEGORIES:Mens Event
END:VEVENT
BEGIN:VEVENT
DTSTART;TZID=Europe/London:20251005T080000
DTEND;TZID=Europe/London:20251005T140000
DTSTAMP:20260421T055908
CREATED:20251005T192619Z
LAST-MODIFIED:20251005T192640Z
UID:29616-1759651200-1759672800@www.beaverstown.com
SUMMARY:Singles Yellow Strokeplay
DESCRIPTION:Results Sheet\n\n\n\n\n\n\n\n\n\n\n\nDate :\nSunday 05 October 2025\n\n\n\n\n\n\n\n\n\n\nCompetition :\n18 Hole Singles Strokeplay – Yellow\n\n\n\n\n\n\n\n\n\n\n\n\n\n\n\nPlace\nName\nPlaying Hcap\nNett Score\n\n\n\n\n\n\n\n\n1st place\nDaniel Coghlan\n26\n80\n\n\n\n\n\n\n\n\n10 played
URL:https://www.beaverstown.com/event/singles-yellow-strokeplay/
CATEGORIES:Mens Event
END:VEVENT
BEGIN:VEVENT
DTSTART;VALUE=DATE:20251001
DTEND;VALUE=DATE:20251002
DTSTAMP:20260421T055908
CREATED:20251001T174725Z
LAST-MODIFIED:20251019T145506Z
UID:29613-1759276800-1759363199@www.beaverstown.com
SUMMARY:Wednesday 4 Man Team 3 on par 5's
DESCRIPTION:Results Sheet\n\n\n\n\n\n\n\n\n\n\n\nDate :\n1st of October 2025\n\n\n\n\n\n\n\n\n\n\nCompetition :\n4 Man Team – 3 on par 5’s\n\n\n\n\n\n\n\n\n\n\n\n\n\n\n\nPlace\nName\nPlaying Hcap\nScore\n\n\n\n\n\n\n\n\nWinners\nPhilip Maher\n16\n93.5pts\n\n\n\nVinny Arkins\n9\n(-5.5)\n\n\n\nTrevor Russell\n6\n\n\n\n\nBrian McRory\n11\n\n\n\n\n\n\n\n\n\n\n\n\n\n\n\n\n\n\n\n\n\nSecond\nLiam Bridgette (V)\n16\n92pts\n\n\n\nMichael Denning (V)\n10\n\n\n\n\nMark Hunter (V)\n13\n\n\n\n\nRay Kelly (V)\n14\n\n\n\n\n\n\n\n\n\n\n\n\n\n\n\nThird\nPat McCormack\n6\n90pts\n\n\n\nRonnie Clifford\n14\n(-4.0)\n\n\n\nIvan O’Toole\n22\n\n\n\n\nDennis Murray\n19\n\n\n\n\n\n\n\n\n\n\n\n\n\n\n\nBack 9\nTom Barber\n11\n49pts\n\n\n\nMick Fitzpatrick\n21\n\n\n\n\nPeter Kelly\n15\n\n\n\n\nSean McDermott\n9\n\n\n\n\n\n\n\n\n\n92 Members\n\n\n\n\n\n12 Visitors
URL:https://www.beaverstown.com/event/wednesday-4-man-team-3-on-par-5s-2/
CATEGORIES:Mens Event
END:VEVENT
BEGIN:VEVENT
DTSTART;TZID=Europe/London:20250930T080000
DTEND;TZID=Europe/London:20250930T170000
DTSTAMP:20260421T055908
CREATED:20251001T172646Z
LAST-MODIFIED:20251001T172646Z
UID:29611-1759219200-1759251600@www.beaverstown.com
SUMMARY:Ladies 9 hole S/F
DESCRIPTION:Prize\nScore\nName\nH’cap\n\n\n1st\n15 Pts\nCaroline Comeford\n17\n\n\n \n \n \n \n\n\n \n \n \n \n\n\n \n \n \n \n\n\n9 Played\n \n \n 
URL:https://www.beaverstown.com/event/ladies-9-hole-s-f-6/
CATEGORIES:Ladies-Event
END:VEVENT
BEGIN:VEVENT
DTSTART;TZID=Europe/London:20250930T080000
DTEND;TZID=Europe/London:20250930T170000
DTSTAMP:20260421T055908
CREATED:20251001T094105Z
LAST-MODIFIED:20251001T094105Z
UID:29609-1759219200-1759251600@www.beaverstown.com
SUMMARY:3 lady team waltz
DESCRIPTION:Prize\nScore\nName\nPlaying \nHcap\n\n\n1st Prize\n67\nSheila Dowling \nJeanne Bohan \nAnne Neville\n17 \n19 \n27\n\n\n2nd Prize\n63\nLiz Murphy \nSue Clarke \nRita Bellew\n36 \n34 \n37\n\n\n3rd Prize\n60(ocb)\nSheila Dunne \nSiobhan Prout Dunleavy \nCatherine Goulding\n22 \n22 \n24\n\n\n \n \n \n \n\n\n \n \n \n \n\n\n \n \n \n \n\n\n \n \n \n \n\n\n \n \n \n \n\n\n16 teams played\n \n \n 
URL:https://www.beaverstown.com/event/3-lady-team-waltz-3/
CATEGORIES:Ladies-Event
END:VEVENT
BEGIN:VEVENT
DTSTART;TZID=Europe/London:20250929T080000
DTEND;TZID=Europe/London:20250929T140000
DTSTAMP:20260421T055908
CREATED:20250930T200157Z
LAST-MODIFIED:20250930T200157Z
UID:29607-1759132800-1759154400@www.beaverstown.com
SUMMARY:Mixed Open Singles Stableford
DESCRIPTION:Date :\nMonday 29 Sep 2025\n\n\n\n\n\n\n\n\n\n\nCompetition :\n18 Hole Open Singles Stableford\n\n\n\n\n\n\n\n\n\n\n\n\n\n\n\nPlace\nName\nPlaying Hcap\nScore\n\n\n\n\n\n\n\n\n1st Div 1\nFrancis Duffy (V)\n15\n37 pts\n\n\n2nd Div 1\nBrian Canavan (V)\n15\n36 pts\n\n\n3rd Div 1\nThomas Masterson\n10\n35 pts\n\n\n\n\n\n\n\n\n1st Div 2\nDermot Stone\n21\n35 pts ob9\n\n\n2nd Div 2\nTeresa Hurley\n25\n35 pts\n\n\n3rd Div 2\nPaddy Lynch (V)\n32\n33 pts\n\n\n\n\n\n\n\n\n\n\n\n\n\n\n\n\n\n\n\n\n40 members\n\n\n\n\n\n13 visitors
URL:https://www.beaverstown.com/event/mixed-open-singles-stableford-13/
CATEGORIES:Joint Event
END:VEVENT
BEGIN:VEVENT
DTSTART;TZID=Europe/London:20250928T080000
DTEND;TZID=Europe/London:20250928T170000
DTSTAMP:20260421T055908
CREATED:20250930T154619Z
LAST-MODIFIED:20250930T154619Z
UID:29605-1759046400-1759078800@www.beaverstown.com
SUMMARY:Ladies18 Hole Singles Stableford
DESCRIPTION:Prize\nScore\nName\nH’cap\n\n\nDiv 1\n33 Pts\nSheila Dowling\n19\n\n\nDiv 2\n37 Pts\nEmer Manton\n33\n\n\nDiv 3\n28 Pts\nMary Kirwan\n37\n\n\n \n \n \n \n\n\n25 Played\n \n \n 
URL:https://www.beaverstown.com/event/ladies18-hole-singles-stableford/
CATEGORIES:Ladies-Event
END:VEVENT
BEGIN:VEVENT
DTSTART;TZID=Europe/London:20250928T080000
DTEND;TZID=Europe/London:20250928T140000
DTSTAMP:20260421T055908
CREATED:20250929T114252Z
LAST-MODIFIED:20250929T114252Z
UID:29596-1759046400-1759068000@www.beaverstown.com
SUMMARY:Singles Stableford Yellow
DESCRIPTION:Date :\nSunday 28 Sep 2025\n\n\n\n\n\n\n\n\n\n\nCompetition :\n18 Hole Singles Stableford – Yellow\n\n\n\n\n\n\n\n\n\n\n\n\n\n\n\nPlace\nName\nPlaying Hcap\nScore\n\n\n\n\n\n\n\n\n1st Div 1\nBarry Smith\n7\n40 pts\n\n\n2nd Div 1\nJoe Mooney\n11\n39 pts\n\n\n\n\n\n\n\n\n1st Div 2\nMark O’Toole\n17\n36 pts\n\n\n2nd Div 2\nDavid Jackson\n15\n35 pts ob9\n\n\n\n\n\n\n\n\n1st Div 3\nGerry O’Connor\n21\n35 pts\n\n\n2nd Div 3\nMark Wallnutt\n27\n34 pts\n\n\n\n\n\n\n\n\n60 played
URL:https://www.beaverstown.com/event/singles-stableford-yellow-14/
CATEGORIES:Mens Event
END:VEVENT
BEGIN:VEVENT
DTSTART;TZID=Europe/London:20250928T080000
DTEND;TZID=Europe/London:20250928T140000
DTSTAMP:20260421T055908
CREATED:20250929T113715Z
LAST-MODIFIED:20250929T114322Z
UID:29589-1759046400-1759068000@www.beaverstown.com
SUMMARY:Singles Stableford White
DESCRIPTION:Date :\nSunday 28 Sep 2025\n\n\n\n\n\n\n\n\n\n\nCompetition :\n18 Hole Singles Stableford – White\n\n\n\n\n\n\n\n\n\n\n\n\n\n\n\nPlace\nName\nPlaying Hcap\nScore\n\n\n\n\n\n\n\n\n1st Div 1\nPaul McMullen\n11\n37 pts\n\n\n2nd Div 1\nDavid Conlon\n8\n34 pts\n\n\n\n\n\n\n\n\n1st Div 2\nAidan Smith\n26\n37 pts\n\n\n2nd Div 2\nJim Kendellen\n15\n32 pts\n\n\n\n\n\n\n\n\n\n\n\n\n\n\n32 played
URL:https://www.beaverstown.com/event/singles-stableford-white-3/
CATEGORIES:Mens Event
END:VEVENT
BEGIN:VEVENT
DTSTART;VALUE=DATE:20250927
DTEND;VALUE=DATE:20250928
DTSTAMP:20260421T055908
CREATED:20250928T062835Z
LAST-MODIFIED:20250928T062835Z
UID:29587-1758931200-1759017599@www.beaverstown.com
SUMMARY:Saturday White/Yellow Singles Stableford
DESCRIPTION:Results Sheet\n\n\n\n\n\n\n\n\n\n\n\nDate :\n\n\n\n\n\n\n\n\n\n\n\nCompetition :\n18 Hole Singles Stableford\nWhite/Yellow\n\n\n\n\n\n\n\n\n\n\n\n\n\n\n\nPlace\nName\nPlaying Hcap\nScore\n\n\n\n\n\n\n\n\n1st White\nOisin Taylor\n23\n29pts\n\n\n\n\n\n\n\n\n\n\n\n\n\n\n1st Yellow\nGarrett Kealy\n20\n31pts\n\n\n\n\n\n\n\n\n\n\n\n\n\n\nWhites 14 Played\n\n\n\n\nYellow 10 played
URL:https://www.beaverstown.com/event/saturday-white-yellow-singles-stableford/
CATEGORIES:Mens Event
END:VEVENT
BEGIN:VEVENT
DTSTART;VALUE=DATE:20250924
DTEND;VALUE=DATE:20250925
DTSTAMP:20260421T055908
CREATED:20250924T175451Z
LAST-MODIFIED:20250924T175451Z
UID:29579-1758672000-1758758399@www.beaverstown.com
SUMMARY:Wednesday 4 Man Team-Reverse Waltz
DESCRIPTION:Winners     Sean Mcdermott   10 88.5pts \nVinny Arkins          9   (-4.5) \nBrian McRory        11 \nDavid O’Leary        12 \nSecond        Dave Kavanagh      7  85pts \nGraham Dunne       8  (-4) \nOllie Dunne             21 \nEamonn Kelly         20 \n  \nBack 9         Danny Relihan     12   43pts \nEddie Byrne          15 \nJimmy Deneher    12 \nJim Weinnman      11 \n80 Memebers \n8 Visitors
URL:https://www.beaverstown.com/event/wednesday-4-man-team-reverse-waltz-5/
CATEGORIES:Mens Event
END:VEVENT
BEGIN:VEVENT
DTSTART;TZID=Europe/London:20250923T080000
DTEND;TZID=Europe/London:20250923T170000
DTSTAMP:20260421T055908
CREATED:20250925T183546Z
LAST-MODIFIED:20250925T183546Z
UID:29585-1758614400-1758646800@www.beaverstown.com
SUMMARY:Ladies Combined September Medal
DESCRIPTION:Prize\nScore\nName\nPlaying \nHcap\n\n\nSilver Medal \nHI <20\n76\nEmer McMahon\n13\n\n\nBronze Medal \nHI >20.1\n76\nEvelyn Bannon\n36\n\n\n \n \n \n \n\n\nDiv 1\n77\nChloe Flanaghan\n17\n\n\nDiv 2\n79ocb\nTeresa Hurley\n27\n\n\nDiv 3\n80\nLiz Brett\n37\n\n\n \n \n \n \n\n\n \n \n \n \n\n\n \n \n \n \n\n\n \n \n \n \n\n\n45 Played\n \n \n 
URL:https://www.beaverstown.com/event/ladies-combined-september-medal/
CATEGORIES:Ladies-Event
END:VEVENT
BEGIN:VEVENT
DTSTART;TZID=Europe/London:20250923T080000
DTEND;TZID=Europe/London:20250923T170000
DTSTAMP:20260421T055908
CREATED:20250925T152438Z
LAST-MODIFIED:20250925T183359Z
UID:29583-1758614400-1758646800@www.beaverstown.com
SUMMARY:Ladies 9 hole S/F
DESCRIPTION:Prize\nScore\nName\nPlaying H’cap\n\n\n1st \n20\nLinda Jones Crowley\n29\n\n\n2nd \n15\nKathleen Rodgers\n26\n\n\n \n \n \n \n\n\n \n \n \n \n\n\n \n \n \n \n\n\n \n \n \n \n\n\n 21 Played\n \n \n 
URL:https://www.beaverstown.com/event/ladies-9-hole-s-f-5/
CATEGORIES:Ladies-Event
END:VEVENT
BEGIN:VEVENT
DTSTART;TZID=Europe/London:20250922T080000
DTEND;TZID=Europe/London:20250922T140000
DTSTAMP:20260421T055908
CREATED:20250924T215621Z
LAST-MODIFIED:20250924T215621Z
UID:29581-1758528000-1758549600@www.beaverstown.com
SUMMARY:Mixed Open Singles Stableford
DESCRIPTION:Date :\nMonday 22 September 2025\n\n\n\n\n\n\n\n\n\n\nCompetition :\n18 Hole Open Singles Stableford\n\n\n\n\n\n\n\n\n\n\n\n\n\n\n\nPlace\nName\nPlaying Hcap\nScore\n\n\n\n\n\n\n\n\n1st place\nFrank Lupton\n30\n35 pts\n\n\n2nd place\nNiall Colleary (V)\n8\n34 pts\n\n\n3rd place\nTrevor Russell\n7\n33 pts\n\n\n\n\n\n\n\n\n\n\n\n\n\n\n\n\n\n\n\n\n\n\n\n\n\n\n29 members\n\n\n\n\n\n4 visitors
URL:https://www.beaverstown.com/event/mixed-open-singles-stableford-12/
CATEGORIES:Joint Event
END:VEVENT
BEGIN:VEVENT
DTSTART;TZID=Europe/London:20250921T080000
DTEND;TZID=Europe/London:20250921T170000
DTSTAMP:20260421T055908
CREATED:20250924T102120Z
LAST-MODIFIED:20250924T102120Z
UID:29576-1758441600-1758474000@www.beaverstown.com
SUMMARY:Ladies Single Stableford
DESCRIPTION:Prize\nScore\nName\nPlaying \nHcap\n\n\n1st Prize\n34\nMarjorie McCann\n22\n\n\n2nd Prize\n33\nLeane Hannigan\n48\n\n\n \n \n \n \n\n\n \n \n \n \n\n\n \n \n \n \n\n\n \n \n \n \n\n\n \n \n \n \n\n\n \n \n \n \n\n\n21 Played\n \n \n 
URL:https://www.beaverstown.com/event/ladies-single-stableford-3/
CATEGORIES:Ladies-Event
END:VEVENT
BEGIN:VEVENT
DTSTART;TZID=Europe/London:20250921T071000
DTEND;TZID=Europe/London:20250921T150000
DTSTAMP:20260421T055908
CREATED:20250921T204723Z
LAST-MODIFIED:20250921T204723Z
UID:29572-1758438600-1758466800@www.beaverstown.com
SUMMARY:Singles Strokeplay Yellow
DESCRIPTION:Date :\nSunday 21 September 2025\n\n\n\n\n\n\n\n\n\nCompetition :\n18 Hole Singles Strokeplay – Yellow\n\n\n\n\n\n\n\n\n\n\n\n\n\n\n\nPlace\nName\nPlaying Hcap\nScore\n\n\n\n\n\n\n\n\n1st place\nFrank Lupton\n30\n78\n\n\n\n\n\n\n\n\n\n\n\n\n\n\n\n\n\n\n\n\n\n\n\n\n\n\n\n\n\n\n\n\n6 played
URL:https://www.beaverstown.com/event/singles-strokeplay-yellow/
CATEGORIES:Mens Event
END:VEVENT
BEGIN:VEVENT
DTSTART;TZID=Europe/London:20250921T071000
DTEND;TZID=Europe/London:20250921T150000
DTSTAMP:20260421T055908
CREATED:20250921T204238Z
LAST-MODIFIED:20250921T204238Z
UID:29570-1758438600-1758466800@www.beaverstown.com
SUMMARY:September Medal
DESCRIPTION:Results Sheet\n\n\n\n\n\n\n\n\n\n\n\nDate :\nSunday 21 Sep 2025\n\n\n\n\n\n\n\n\n\n\nCompetition :\nSeptember Medal (GOY)\n\n\n\n\n\n\n\n\n\n\n\n\n\n\n\n\n\n\n\n\n\n\nPlace\nName\nPlaying Hcap\nScore\n\n\n\n\n\n\n\n\n1st\nSean McDermott\n13\n69 ob9\n\n\n2nd\nDanny Relihan\n15\n69\n\n\n3rd\nJim Bradshaw\n15\n71\n\n\n4th\nPaul McMullen\n11\n73\n\n\n\n\n\n\n\n\nGross\nAidan Rowsome\n4\n79\n\n\n\n\n\n\n\n\nDiv 1 (0-10)\nKeith Rowsome\n6\n74\n\n\nDiv 2 (11-14)\nBrian McRory\n14\n74\n\n\nDiv 3 (15-19)\nPeter Kelly\n19\n74\n\n\nDiv 4 (20+)\nMichael Sweeney\n20\n73\n\n\n\n\n\n\n\n\n86 played\n\n\n\n\n\n85 cards returned
URL:https://www.beaverstown.com/event/september-medal/
CATEGORIES:Mens Event
END:VEVENT
BEGIN:VEVENT
DTSTART;TZID=Europe/London:20250920T080000
DTEND;TZID=Europe/London:20250920T170000
DTSTAMP:20260421T055908
CREATED:20250921T090538Z
LAST-MODIFIED:20250921T090538Z
UID:29568-1758355200-1758387600@www.beaverstown.com
SUMMARY:Saturday 4 ball Better Ball
DESCRIPTION:Results Sheet\n\n\n\n\n\n\n\n\n\n\n\n\n\n\n\nDate :\n20th of September 2025\n\n\n\n\n\n\n\n\n\n\n\n\nCompetition :\n2 Man Team – 4ball betterball\n\n\n\n\n\n\n\n\n\n\n\n\n\n\n\n\n\n\n\n\nPlace\nName\n\nPlaying Hcap\nScore\n\n\n\n\n\n\n\n\n\n\n\n1st place\nPeter Gallagher\n\n20\n42pts\n\n\n\n\nDermot Brady\n\n21\n\n\n\n\n\n\n\n\n\n\n\n\n2nd place\nBrian Lennon\n\n9\n41pts\n\n\n\n\nPaul Molloy\n\n9\n\n\n\n\n\n\n\n\n\n\n\n\n\n\n\n\n\n\n\n\n\n\n\n\n\n\n\n\n\n\n\n\n\n\n\n\n\n\n\n\n\n\n\n\n\n\n\n\n\n\n\n\n\n\n\n\n\n\n\n\n\n\n\n\n\n\n\n\n\n\n\n\n\n\n\n\n\n\n\n\n\n\n\n\n19 Teams
URL:https://www.beaverstown.com/event/saturday-4-ball-better-ball/
CATEGORIES:Mens Event
END:VEVENT
BEGIN:VEVENT
DTSTART;TZID=Europe/London:20250918T080000
DTEND;TZID=Europe/London:20250918T170000
DTSTAMP:20260421T055908
CREATED:20250918T183223Z
LAST-MODIFIED:20250918T183223Z
UID:29564-1758182400-1758214800@www.beaverstown.com
SUMMARY:Apple Harvest Open
DESCRIPTION:  \n\n\n\nPrize\nScore\nName\nH’cap\n\n\n1st\n79pts\nLiz Murphy \nRita Bellew \nEileen Doyle\n36 \n37 \n32\n\n\n2nd\n73 pts\nNiamh Duggan \nLiz Hogan \nJacinta McGinley\n14 \n21 \n15\n\n\n3rd\n70 pts\nEmer McMahon \nCaroline Comerford \nMonica McMahon\n11 \n31 \n37\n\n\n \n \n \n \n\n\nNEAREST THE PIN\n \n \n\n\n \n7th hole\nMáire Walsh\n137 cm\n\n\n \n17th hole\nJacinta McGinley\n200 cm
URL:https://www.beaverstown.com/event/apple-harvest-open-2/
CATEGORIES:Ladies-Event
END:VEVENT
BEGIN:VEVENT
DTSTART;VALUE=DATE:20250917
DTEND;VALUE=DATE:20250918
DTSTAMP:20260421T055908
CREATED:20250917T173327Z
LAST-MODIFIED:20250917T173327Z
UID:29554-1758067200-1758153599@www.beaverstown.com
SUMMARY:Wednesday 4 Man Team 3 on par 3's
DESCRIPTION:Results Sheet\n\n\n\n\n\n\n\n\n\n\n\n\n\nDate :\n17th of September 2025\n\n\n\n\n\n\n\n\n\n\n\nCompetition :\n4 Man Team – 3 on par 3’s\n\n\n\n\n\n\n\n\n\n\n\n\n\n\n\n\n\n\nPlace\nName\nPlaying Hcap\nScore\n\n\n\n\n\n\n\n\n\n\nWinners\nDermot Brady\n22\n92pts\n\n\n\n\nSean McDermott\n10\n(-2)\n\n\n\n\nBrian Lennon\n10\n\n\n\n\n\nKarl Cagney\n23\n\n\n\n\n\n\n\n\n\n\n\n\n\n\n\n\n\n\n\n\n\n\n\n\n\nSecond\nRay Hickey\n14\n87.5pts\n\n\n\n\nGreg McCarey\n20\n(-0.5)\n\n\n\n\nPaul Nimmo\n5\n\n\n\n\n\nPatrick Howlett\n19\n\n\n\n\n\n\n\n\n\n\n\n\n\n\n\n\n\n\nThird\nPaul O’Driscoll\n16\n86pts\n\n\n\n\nMartin Gillett\n16\n(-3)\n\n\n\n\nDermot Molphy\n19\n\n\n\n\n\nFrank McCabe\n14\n\n\n\n\n\n\n\n\n\n\n\n\n\n\n\n\n\n\n\n\n\n\n\n\n\nBack 9\nMichael Crawford\n7\n44pts\n\n\n\n\nNoel McNamee\n16\n\n\n\n\n\nDonald McGee\n21\n\n\n\n\n\nStephen O’Reilly\n27\n\n\n\n\n\n\n\n\n\n\n\n\n\n\n\n\n\n\n\n\n\n\n\n\n\n\n\n\n\n\n\n\n\n\n\n\n\n\n\n\n\n\n\n\n\n\n\n\n\n\n\n\n\n85 Members\n\n\n\n\n\n\n7 Visitors
URL:https://www.beaverstown.com/event/wednesday-4-man-team-3-on-par-3s/
CATEGORIES:Mens Event
END:VEVENT
END:VCALENDAR